{"text_format":"1","workbook":"xlsx","n_sheets":3,"sheets":["説明","入力","出力"],"not_rendered":{"charts":0,"images":0,"macros":1,"external_links":0,"defined_names":6,"comments":1,"pivot_tables":0},"unopened":[],"bounds":{"document_bytes":16777216,"sheet_cells":100000,"rows_first":2000,"rows_last":500,"rows_between":2000,"halvings":0,"cell_chars":16384,"cell_head_chars":4096},"cells_cut":0,"cells_raw":0,"read":"whole","date_system":"1900"}

{"sheet":"説明","index":0,"n_rows":31,"n_cols":7,"rows_kept":31,"cut":false,"hidden":false,"merged":[[21,0,21,1],[21,2,21,4],[22,0,30,0],[9,0,10,0],[14,2,14,4],[15,0,20,0],[20,6,20,7],[0,0,0,1],[1,1,1,2],[3,3,3,4],[3,5,3,6],[4,0,6,0],[7,0,8,0],[15,6,15,7],[16,6,16,7],[17,6,17,7],[18,6,18,7],[19,6,19,7]]}
["電信扱い為替手数料一覧"]
[]
[null,"銀行区分","銀行","手数料区分"]
[null,null,"区分","三万円未満",null,"三万円以上"]
["一般\n振込"," 福島銀行　同一店　宛",0,"a",550,"h",550]
[null," 福島銀行　他支店　宛",1,"b",550,"i",550]
[null," 他銀行　宛",2,"c",880,"j",880]
["給与\n振込"," 福島銀行　宛",3,"d",0,"k",0]
[null," 他銀行　宛",4,"e",0,"l",0]
["賞与\n振込"," 福島銀行　宛",5,"f",0,"m",0]
[null," 他銀行　宛",6,"g",0,"n",0]
[]
[]
["【 記入方法 】"]
["項目",null,"記　入　方　法",null,null,null,"（例）"]
["入力項目","１．銀行名","　原則 「漢字」",null,null,null,"福島"]
[null,"２．支店名","　　　　〃",null,null,null,"郡山"]
[null,"３．科目（預金の種類）","　原則「カタカナ」（全角）1文字",null,null,null,"フ"]
[null,"４．口座番号","  「数字」（半角）のみ",null,null,null,123456]
[null,"５．受取人名","  「カタカナ」（全角）以外禁止",null,null,null,"福島　タロウ"]
[null,"６．金額","  「数字」（半角）のみ",null,null,null,100000]
["手数料",null," 「記入不要」（自動計算）"]
["銀行区分"," 福島銀行　同一店舗　宛","「０」"]
[null," 福島銀行　他の支店　宛","「１」"]
[null," 福島銀行以外の銀行　宛","「２」"]
[null," 給与振込の場合"]
[null," 　福島銀行 宛","「３」"]
[null," 　他銀行　宛","「４」"]
[null,"賞与振込の場合"]
[null," 　福島銀行 宛","「５」"]
[null," 　他銀行　宛","「６」"]

{"sheet":"入力","index":1,"n_rows":919,"n_cols":21,"rows_kept":919,"cut":false,"hidden":false,"merged":[[35,14,36,14],[37,14,38,14],[39,14,40,14],[41,0,44,1],[87,0,90,1],[133,0,136,1],[179,0,182,1],[225,0,228,1],[271,0,274,1],[273,7,274,7],[273,8,274,8],[273,9,274,10],[273,11,274,11],[273,12,274,12],[269,13,270,13],[269,15,270,15],[269,16,270,16],[271,7,272,7],[271,8,272,8],[271,9,272,10],[271,11,272,11],[271,12,272,12],[267,13,268,13],[267,15,268,15],[267,16,268,16],[269,3,270,3],[269,4,270,4],[269,5,270,5],[269,6,270,10],[269,11,270,11],[269,12,270,12],[267,14,268,14],[269,14,270,14],[265,13,266,13],[265,15,266,15],[265,16,266,16],[267,3,268,3],[267,4,268,4],[267,5,268,5],[267,6,268,10],[267,11,268,11],[267,12,268,12],[263,13,264,13],[263,15,264,15],[263,16,264,16],[265,3,266,3],[265,4,266,4],[265,5,266,5],[265,6,266,10],[265,11,266,11],[265,12,266,12],[263,14,264,14],[265,14,266,14],[261,13,262,13],[261,15,262,15],[261,16,262,16],[263,3,264,3],[263,4,264,4],[263,5,264,5],[263,6,264,10],[263,11,264,11],[263,12,264,12],[259,13,260,13],[259,15,260,15],[259,16,260,16],[261,3,262,3],[261,4,262,4],[261,5,262,5],[261,6,262,10],[261,11,262,11],[261,12,262,12],[259,14,260,14],[261,14,262,14],[257,13,258,13],[257,15,258,15],[257,16,258,16],[259,3,260,3],[259,4,260,4],[259,5,260,5],[259,6,260,10],[259,11,260,11],[259,12,260,12],[255,13,256,13],[255,15,256,15],[255,16,256,16],[257,3,258,3],[257,4,258,4],[257,5,258,5],[257,6,258,10],[257,11,258,11],[257,12,258,12],[255,14,256,14],[257,14,258,14],[253,13,254,13],[253,15,254,15],[253,16,254,16],[255,3,256,3],[255,4,256,4],[255,5,256,5],[255,6,256,10],[255,11,256,11],[255,12,256,12],[251,13,252,13],[251,15,252,15],[251,16,252,16],[253,3,254,3],[253,4,254,4],[253,5,254,5],[253,6,254,10],[253,11,254,11],[253,12,254,12],[251,14,252,14],[253,14,254,14],[249,13,250,13],[249,15,250,15],[249,16,250,16],[251,3,252,3],[251,4,252,4],[251,5,252,5],[251,6,252,10],[251,11,252,11],[251,12,252,12],[247,13,248,13],[247,15,248,15],[247,16,248,16],[249,3,250,3],[249,4,250,4],[249,5,250,5],[249,6,250,10],[249,11,250,11],[249,12,250,12],[247,14,248,14],[249,14,250,14],[245,13,246,13],[245,15,246,15],[245,16,246,16],[247,3,248,3],[247,4,248,4],[247,5,248,5],[247,6,248,10],[247,11,248,11],[247,12,248,12],[243,13,244,13],[243,15,244,15],[243,16,244,16],[245,3,246,3],[245,4,246,4],[245,5,246,5],[245,6,246,10],[245,11,246,11],[245,12,246,12],[243,14,244,14],[245,14,246,14],[241,13,242,13],[241,15,242,15],[241,16,242,16],[243,3,244,3],[243,4,244,4],[243,5,244,5],[243,6,244,10],[243,11,244,11],[243,12,244,12],[241,3,242,3],[241,4,242,4],[241,5,242,5],[241,6,242,10],[241,11,242,11],[241,12,242,12],[239,3,240,3],[239,4,240,4],[239,6,239,10],[239,13,240,13],[239,15,240,15],[240,6,240,10],[241,14,242,14],[236,5,236,7],[236,9,236,10],[236,11,236,12],[237,2,237,3],[237,9,237,10],[237,11,237,12],[230,4,230,8],[232,11,232,12],[232,16,235,16],[234,1,234,3],[234,9,234,10],[235,5,235,7],[235,9,235,10],[235,11,235,12],[227,7,228,7],[227,8,228,8],[227,9,228,10],[227,11,228,11],[227,12,228,12],[233,9,233,10],[233,11,233,12],[234,11,234,12],[223,13,224,13],[223,15,224,15],[223,16,224,16],[225,7,226,7],[225,8,226,8],[225,9,226,10],[225,11,226,11],[225,12,226,12],[221,13,222,13],[221,15,222,15],[221,16,222,16],[223,3,224,3],[223,4,224,4],[223,5,224,5],[223,6,224,10],[223,11,224,11],[223,12,224,12],[221,14,222,14],[223,14,224,14],[219,13,220,13],[219,15,220,15],[219,16,220,16],[221,3,222,3],[221,4,222,4],[221,5,222,5],[221,6,222,10],[221,11,222,11],[221,12,222,12],[217,13,218,13],[217,15,218,15],[217,16,218,16],[219,3,220,3],[219,4,220,4],[219,5,220,5],[219,6,220,10],[219,11,220,11],[219,12,220,12],[217,14,218,14],[219,14,220,14],[215,13,216,13],[215,15,216,15],[215,16,216,16],[217,3,218,3],[217,4,218,4],[217,5,218,5],[217,6,218,10],[217,11,218,11],[217,12,218,12],[213,13,214,13],[213,15,214,15],[213,16,214,16],[215,3,216,3],[215,4,216,4],[215,5,216,5],[215,6,216,10],[215,11,216,11],[215,12,216,12],[213,14,214,14],[215,14,216,14],[211,13,212,13],[211,15,212,15],[211,16,212,16],[213,3,214,3],[213,4,214,4],[213,5,214,5],[213,6,214,10],[213,11,214,11],[213,12,214,12],[209,13,210,13],[209,15,210,15],[209,16,210,16],[211,3,212,3],[211,4,212,4],[211,5,212,5],[211,6,212,10],[211,11,212,11],[211,12,212,12],[209,14,210,14],[211,14,212,14],[207,13,208,13],[207,15,208,15],[207,16,208,16],[209,3,210,3],[209,4,210,4],[209,5,210,5],[209,6,210,10],[209,11,210,11],[209,12,210,12],[205,13,206,13],[205,15,206,15],[205,16,206,16],[207,3,208,3],[207,4,208,4],[207,5,208,5],[207,6,208,10],[207,11,208,11],[207,12,208,12],[205,14,206,14],[207,14,208,14],[203,13,204,13],[203,15,204,15],[203,16,204,16],[205,3,206,3],[205,4,206,4],[205,5,206,5],[205,6,206,10],[205,11,206,11],[205,12,206,12],[201,13,202,13],[201,15,202,15],[201,16,202,16],[203,3,204,3],[203,4,204,4],[203,5,204,5],[203,6,204,10],[203,11,204,11],[203,12,204,12],[201,14,202,14],[203,14,204,14],[199,13,200,13],[199,15,200,15],[199,16,200,16],[201,3,202,3],[201,4,202,4],[201,5,202,5],[201,6,202,10],[201,11,202,11],[201,12,202,12],[197,13,198,13],[197,15,198,15],[197,16,198,16],[199,3,200,3],[199,4,200,4],[199,5,200,5],[199,6,200,10],[199,11,200,11],[199,12,200,12],[197,3,198,3],[197,4,198,4],[197,5,198,5],[197,6,198,10],[197,11,198,11],[197,12,198,12],[197,14,198,14],[199,14,200,14],[195,11,196,11],[195,12,196,12],[195,13,196,13],[195,15,196,15],[195,16,196,16],[193,3,194,3],[193,4,194,4],[193,6,193,10],[194,6,194,10],[195,3,196,3],[195,4,196,4],[195,5,196,5],[195,6,196,10],[190,5,190,7],[190,9,190,10],[190,11,190,12],[191,2,191,3],[191,9,191,10],[191,11,191,12],[195,14,196,14],[184,4,184,8],[186,11,186,12],[186,16,189,16],[188,1,188,3],[188,9,188,10],[189,5,189,7],[189,9,189,10],[189,11,189,12],[181,7,182,7],[181,8,182,8],[181,9,182,10],[181,11,182,11],[181,12,182,12],[177,13,178,13],[177,15,178,15],[177,16,178,16],[179,7,180,7],[179,8,180,8],[179,9,180,10],[179,11,180,11],[179,12,180,12],[177,14,178,14],[187,9,187,10],[187,11,187,12],[188,11,188,12],[175,13,176,13],[175,15,176,15],[175,16,176,16],[177,3,178,3],[177,4,178,4],[177,5,178,5],[177,6,178,10],[177,11,178,11],[177,12,178,12],[173,13,174,13],[173,15,174,15],[173,16,174,16],[175,3,176,3],[175,4,176,4],[175,5,176,5],[175,6,176,10],[175,11,176,11],[175,12,176,12],[175,14,176,14],[173,14,174,14],[171,13,172,13],[171,15,172,15],[171,16,172,16],[173,3,174,3],[173,4,174,4],[173,5,174,5],[173,6,174,10],[173,11,174,11],[173,12,174,12],[169,13,170,13],[169,15,170,15],[169,16,170,16],[171,3,172,3],[171,4,172,4],[171,5,172,5],[171,6,172,10],[171,11,172,11],[171,12,172,12],[169,14,170,14],[171,14,172,14],[167,13,168,13],[167,15,168,15],[167,16,168,16],[169,3,170,3],[169,4,170,4],[169,5,170,5],[169,6,170,10],[169,11,170,11],[169,12,170,12],[165,13,166,13],[165,15,166,15],[165,16,166,16],[167,3,168,3],[167,4,168,4],[167,5,168,5],[167,6,168,10],[167,11,168,11],[167,12,168,12],[165,14,166,14],[167,14,168,14],[163,13,164,13],[163,15,164,15],[163,16,164,16],[165,3,166,3],[165,4,166,4],[165,5,166,5],[165,6,166,10],[165,11,166,11],[165,12,166,12],[161,13,162,13],[161,15,162,15],[161,16,162,16],[163,3,164,3],[163,4,164,4],[163,5,164,5],[163,6,164,10],[163,11,164,11],[163,12,164,12],[161,14,162,14],[163,14,164,14],[159,13,160,13],[159,15,160,15],[159,16,160,16],[161,3,162,3],[161,4,162,4],[161,5,162,5],[161,6,162,10],[161,11,162,11],[161,12,162,12],[157,13,158,13],[157,15,158,15],[157,16,158,16],[159,3,160,3],[159,4,160,4],[159,5,160,5],[159,6,160,10],[159,11,160,11],[159,12,160,12],[157,14,158,14],[159,14,160,14],[155,13,156,13],[155,15,156,15],[155,16,156,16],[157,3,158,3],[157,4,158,4],[157,5,158,5],[157,6,158,10],[157,11,158,11],[157,12,158,12],[153,13,154,13],[153,15,154,15],[153,16,154,16],[155,3,156,3],[155,4,156,4],[155,5,156,5],[155,6,156,10],[155,11,156,11],[155,12,156,12],[153,14,154,14],[155,14,156,14],[151,13,152,13],[151,15,152,15],[151,16,152,16],[153,3,154,3],[153,4,154,4],[153,5,154,5],[153,6,154,10],[153,11,154,11],[153,12,154,12],[151,3,152,3],[151,4,152,4],[151,5,152,5],[151,6,152,10],[151,11,152,11],[151,12,152,12],[149,11,150,11],[149,12,150,12],[149,13,150,13],[149,15,150,15],[149,16,150,16],[151,14,152,14],[149,14,150,14],[147,3,148,3],[147,4,148,4],[147,6,147,10],[148,6,148,10],[149,3,150,3],[149,4,150,4],[149,5,150,5],[149,6,150,10],[144,5,144,7],[144,9,144,10],[144,11,144,12],[145,2,145,3],[145,9,145,10],[145,11,145,12],[138,4,138,8],[140,11,140,12],[140,16,143,16],[142,1,142,3],[142,9,142,10],[143,5,143,7],[143,9,143,10],[143,11,143,12],[141,9,141,10],[141,11,141,12],[142,11,142,12],[135,7,136,7],[135,8,136,8],[135,9,136,10],[135,11,136,11],[135,12,136,12],[131,13,132,13],[131,15,132,15],[131,16,132,16],[133,7,134,7],[133,8,134,8],[133,9,134,10],[133,11,134,11],[133,12,134,12],[129,13,130,13],[129,15,130,15],[129,16,130,16],[131,3,132,3],[131,4,132,4],[131,5,132,5],[131,6,132,10],[131,11,132,11],[131,12,132,12],[129,14,130,14],[131,14,132,14],[127,13,128,13],[127,15,128,15],[127,16,128,16],[129,3,130,3],[129,4,130,4],[129,5,130,5],[129,6,130,10],[129,11,130,11],[129,12,130,12],[125,13,126,13],[125,15,126,15],[125,16,126,16],[127,3,128,3],[127,4,128,4],[127,5,128,5],[127,6,128,10],[127,11,128,11],[127,12,128,12],[125,14,126,14],[127,14,128,14],[123,13,124,13],[123,15,124,15],[123,16,124,16],[125,3,126,3],[125,4,126,4],[125,5,126,5],[125,6,126,10],[125,11,126,11],[125,12,126,12],[121,13,122,13],[121,15,122,15],[121,16,122,16],[123,3,124,3],[123,4,124,4],[123,5,124,5],[123,6,124,10],[123,11,124,11],[123,12,124,12],[123,14,124,14],[121,14,122,14],[119,13,120,13],[119,15,120,15],[119,16,120,16],[121,3,122,3],[121,4,122,4],[121,5,122,5],[121,6,122,10],[121,11,122,11],[121,12,122,12],[117,13,118,13],[117,15,118,15],[117,16,118,16],[119,3,120,3],[119,4,120,4],[119,5,120,5],[119,6,120,10],[119,11,120,11],[119,12,120,12],[117,14,118,14],[119,14,120,14],[115,13,116,13],[115,15,116,15],[115,16,116,16],[117,3,118,3],[117,4,118,4],[117,5,118,5],[117,6,118,10],[117,11,118,11],[117,12,118,12],[113,13,114,13],[113,15,114,15],[113,16,114,16],[115,3,116,3],[115,4,116,4],[115,5,116,5],[115,6,116,10],[115,11,116,11],[115,12,116,12],[113,14,114,14],[115,14,116,14],[111,13,112,13],[111,15,112,15],[111,16,112,16],[113,3,114,3],[113,4,114,4],[113,5,114,5],[113,6,114,10],[113,11,114,11],[113,12,114,12],[109,13,110,13],[109,15,110,15],[109,16,110,16],[111,3,112,3],[111,4,112,4],[111,5,112,5],[111,6,112,10],[111,11,112,11],[111,12,112,12],[109,14,110,14],[111,14,112,14],[107,13,108,13],[107,15,108,15],[107,16,108,16],[109,3,110,3],[109,4,110,4],[109,5,110,5],[109,6,110,10],[109,11,110,11],[109,12,110,12],[105,13,106,13],[105,15,106,15],[105,16,106,16],[107,3,108,3],[107,4,108,4],[107,5,108,5],[107,6,108,10],[107,11,108,11],[107,12,108,12],[105,3,106,3],[105,4,106,4],[105,5,106,5],[105,6,106,10],[105,11,106,11],[105,12,106,12],[105,14,106,14],[107,14,108,14],[103,11,104,11],[103,12,104,12],[103,13,104,13],[103,15,104,15],[103,16,104,16],[101,3,102,3],[101,4,102,4],[101,6,101,10],[102,6,102,10],[103,3,104,3],[103,4,104,4],[103,5,104,5],[103,6,104,10],[98,5,98,7],[98,9,98,10],[98,11,98,12],[99,2,99,3],[99,9,99,10],[99,11,99,12],[103,14,104,14],[92,4,92,8],[94,11,94,12],[94,16,97,16],[96,1,96,3],[96,9,96,10],[97,5,97,7],[97,9,97,10],[97,11,97,12],[89,7,90,7],[89,8,90,8],[89,9,90,10],[89,11,90,11],[89,12,90,12],[85,13,86,13],[85,15,86,15],[85,16,86,16],[87,7,88,7],[87,8,88,8],[87,9,88,10],[87,11,88,11],[87,12,88,12],[85,14,86,14],[95,9,95,10],[95,11,95,12],[96,11,96,12],[83,13,84,13],[83,15,84,15],[83,16,84,16],[85,3,86,3],[85,4,86,4],[85,5,86,5],[85,6,86,10],[85,11,86,11],[85,12,86,12],[81,13,82,13],[81,15,82,15],[81,16,82,16],[83,3,84,3],[83,4,84,4],[83,5,84,5],[83,6,84,10],[83,11,84,11],[83,12,84,12],[83,14,84,14],[81,14,82,14],[79,13,80,13],[79,15,80,15],[79,16,80,16],[81,3,82,3],[81,4,82,4],[81,5,82,5],[81,6,82,10],[81,11,82,11],[81,12,82,12],[77,13,78,13],[77,15,78,15],[77,16,78,16],[79,3,80,3],[79,4,80,4],[79,5,80,5],[79,6,80,10],[79,11,80,11],[79,12,80,12],[77,14,78,14],[79,14,80,14],[75,13,76,13],[75,15,76,15],[75,16,76,16],[77,3,78,3],[77,4,78,4],[77,5,78,5],[77,6,78,10],[77,11,78,11],[77,12,78,12],[73,13,74,13],[73,15,74,15],[73,16,74,16],[75,3,76,3],[75,4,76,4],[75,5,76,5],[75,6,76,10],[75,11,76,11],[75,12,76,12],[73,14,74,14],[75,14,76,14],[71,13,72,13],[71,15,72,15],[71,16,72,16],[73,3,74,3],[73,4,74,4],[73,5,74,5],[73,6,74,10],[73,11,74,11],[73,12,74,12],[69,13,70,13],[69,15,70,15],[69,16,70,16],[71,3,72,3],[71,4,72,4],[71,5,72,5],[71,6,72,10],[71,11,72,11],[71,12,72,12],[71,14,72,14],[69,14,70,14],[67,13,68,13],[67,15,68,15],[67,16,68,16],[69,3,70,3],[69,4,70,4],[69,5,70,5],[69,6,70,10],[69,11,70,11],[69,12,70,12],[65,13,66,13],[65,15,66,15],[65,16,66,16],[67,3,68,3],[67,4,68,4],[67,5,68,5],[67,6,68,10],[67,11,68,11],[67,12,68,12],[65,14,66,14],[67,14,68,14],[57,6,58,10],[63,13,64,13],[63,15,64,15],[63,16,64,16],[65,3,66,3],[65,4,66,4],[65,5,66,5],[65,6,66,10],[65,11,66,11],[65,12,66,12],[61,13,62,13],[61,15,62,15],[61,16,62,16],[63,3,64,3],[63,4,64,4],[63,5,64,5],[63,6,64,10],[63,11,64,11],[63,12,64,12],[61,14,62,14],[63,14,64,14],[50,9,50,10],[51,5,51,7],[51,9,51,10],[51,11,51,12],[49,9,49,10],[49,11,49,12],[50,11,50,12],[59,13,60,13],[59,15,60,15],[59,16,60,16],[61,3,62,3],[61,4,62,4],[61,5,62,5],[61,6,62,10],[61,11,62,11],[61,12,62,12],[59,3,60,3],[59,4,60,4],[59,5,60,5],[59,6,60,10],[59,11,60,11],[59,12,60,12],[57,11,58,11],[57,12,58,12],[57,13,58,13],[57,15,58,15],[57,16,58,16],[57,14,58,14],[59,14,60,14],[57,3,58,3],[57,4,58,4],[57,5,58,5],[39,12,40,12],[39,13,40,13],[39,15,40,15],[39,16,40,16],[41,7,42,7],[41,8,42,8],[41,9,42,10],[41,11,42,11],[41,12,42,12],[37,12,38,12],[37,13,38,13],[37,15,38,15],[37,16,38,16],[55,3,56,3],[55,4,56,4],[55,6,55,10],[56,6,56,10],[39,3,40,3],[39,4,40,4],[39,5,40,5],[39,6,40,10],[39,11,40,11],[52,5,52,7],[52,9,52,10],[52,11,52,12],[53,1,53,3],[53,9,53,10],[53,11,53,12],[46,4,46,8],[48,11,48,12],[48,16,51,16],[50,1,50,3],[35,15,36,15],[35,16,36,16],[37,3,38,3],[37,4,38,4],[37,5,38,5],[37,6,38,10],[37,11,38,11],[33,12,34,12],[33,13,34,13],[33,15,34,15],[33,16,34,16],[35,3,36,3],[35,4,36,4],[35,5,36,5],[35,6,36,10],[35,11,36,11],[31,12,32,12],[31,13,32,13],[31,15,32,15],[31,16,32,16],[33,3,34,3],[33,4,34,4],[33,5,34,5],[33,6,34,10],[33,11,34,11],[31,3,32,3],[31,4,32,4],[31,5,32,5],[31,6,32,10],[31,11,32,11],[31,14,32,14],[33,14,34,14],[27,12,28,12],[27,13,28,13],[27,15,28,15],[27,16,28,16],[29,3,30,3],[29,4,30,4],[29,5,30,5],[29,6,30,10],[29,11,30,11],[25,12,26,12],[25,13,26,13],[25,15,26,15],[25,16,26,16],[27,3,28,3],[27,4,28,4],[27,5,28,5],[27,6,28,10],[27,11,28,11],[25,3,26,3],[25,4,26,4],[25,5,26,5],[25,6,26,10],[25,11,26,11],[29,12,30,12],[29,13,30,13],[25,14,26,14],[27,14,28,14],[29,14,30,14],[21,12,22,12],[21,13,22,13],[21,15,22,15],[21,16,22,16],[23,3,24,3],[23,4,24,4]],"merged_total":3678,"flags":["merged_cut"]}
[null,null,null,null,"振 込 依 頼 書",null,null,null,null,null,null,null,"ページ　1"]
[]
[null,null,null,null,null,null,null,null,null,null,"ご依頼日","2020-09-01",null,null,null,null,"受取人が手数料を負担する場合「１」を入力"]
[null,null,"福島銀行",null,null,null,null,null,null,"お客様番号"]
[null,null,null,null,"御中",null,null,null,null,"依頼人名カナ"]
[null,null,null,null,null," 　振込種類",null,null,null,"依頼人名"]
[null,null,"振込指定日",null,null,null,null,{"$f":"IF(F7=4,\"シヨウヨ\",IF(F7=3,\"キウヨ\",IF(F7=2,\"サキフリ\",\"フリコミ\")))","v":"フリコミ"},null," 担当者名"]
[null,"2020-09-01",null,null,null,null,"振込：1、先振：2",null,null,"電話番号"]
[null,null,null,null,null,null,"給与：3、賞与：4"]
[null,null,"金 融 機 関 名","科目","口 座 番 号",null,"受　  　　　取 　　 　　人　　　 　　名",null,null,null,null,"　金　　　　　　　額"," 手数料　円",null,"銀行",null,"手数料",null,"電信扱い為替手数料一覧"]
[null,null,"支　  　店　　  名","目",null,null,"（　カ　タ　カ　ナ　で　記　入　）",null,null,null,null,"　　　　　　　　　　円","(消費税含）",null,"区分",null,"負担区分"]
[1,null,null,null,null,null,null,null,null,null,null,null,{"$f":"IF(AND(L12>0,ISNUMBER(L12)=TRUE),IF(ISNUMBER(O12)=FALSE,0,INDEX((三万円未満,三万円以上),O12+1,1,IF(L12<30000,1,2))),0)","v":0},null,null,null,null,null,null,"銀行区分","銀行"]
[null,null,null,null,null,null,null,null,null,null,null,null,null,null,null,null,null,null,null,null,"区分"]
[2,null,null,null,null,null,null,null,null,null,null,null,{"$f":"IF(AND(L14>0,ISNUMBER(L14)=TRUE),IF(ISNUMBER(O14)=FALSE,0,INDEX((三万円未満,三万円以上),O14+1,1,IF(L14<30000,1,2))),0)","v":0},null,null,null,null,null,"一般\n振込"," 福島銀行　同一店　宛",0]
[null,null,null,null,null,null,null,null,null,null,null,null,null,null,null,null,null,null,null," 福島銀行　他支店　宛",1]
[3,null,null,null,null,null,null,null,null,null,null,null,{"$f":"IF(AND(L16>0,ISNUMBER(L16)=TRUE),IF(ISNUMBER(O16)=FALSE,0,INDEX((三万円未満,三万円以上),O16+1,1,IF(L16<30000,1,2))),0)","v":0},null,null,null,null,null,null," 他銀行　宛",2]
[null,null,null,null,null,null,null,null,null,null,null,null,null,null,null,null,null,null,"給与\n振込"," 福島銀行　宛",3]
[4,null,null,null,null,null,null,null,null,null,null,null,{"$f":"IF(AND(L18>0,ISNUMBER(L18)=TRUE),IF(ISNUMBER(O18)=FALSE,0,INDEX((三万円未満,三万円以上),O18+1,1,IF(L18<30000,1,2))),0)","v":0},null,null,null,null,null,null," 他銀行　宛",4]
[null,null,null,null,null,null,null,null,null,null,null,null,null,null,null,null,null,null,"賞与\n振込"," 福島銀行　宛",5]
[5,null,null,null,null,null,null,null,null,null,null,null,{"$f":"IF(AND(L20>0,ISNUMBER(L20)=TRUE),IF(ISNUMBER(O20)=FALSE,0,INDEX((三万円未満,三万円以上),O20+1,1,IF(L20<30000,1,2))),0)","v":0},null,null,null,null,null,null," 他銀行　宛",6]
[]
[6,null,null,null,null,null,null,null,null,null,null,null,{"$f":"IF(AND(L22>0,ISNUMBER(L22)=TRUE),IF(ISNUMBER(O22)=FALSE,0,INDEX((三万円未満,三万円以上),O22+1,1,IF(L22<30000,1,2))),0)","v":0}]
[]
[7,null,null,null,null,null,null,null,null,null,null,null,{"$f":"IF(AND(L24>0,ISNUMBER(L24)=TRUE),IF(ISNUMBER(O24)=FALSE,0,INDEX((三万円未満,三万円以上),O24+1,1,IF(L24<30000,1,2))),0)","v":0}]
[]
[8,null,null,null,null,null,null,null,null,null,null,null,{"$f":"IF(AND(L26>0,ISNUMBER(L26)=TRUE),IF(ISNUMBER(O26)=FALSE,0,INDEX((三万円未満,三万円以上),O26+1,1,IF(L26<30000,1,2))),0)","v":0}]
[]
[9,null,null,null,null,null,null,null,null,null,null,null,{"$f":"IF(AND(L28>0,ISNUMBER(L28)=TRUE),IF(ISNUMBER(O28)=FALSE,0,INDEX((三万円未満,三万円以上),O28+1,1,IF(L28<30000,1,2))),0)","v":0}]
[]
[10,null,null,null,null,null,null,null,null,null,null,null,{"$f":"IF(AND(L30>0,ISNUMBER(L30)=TRUE),IF(ISNUMBER(O30)=FALSE,0,INDEX((三万円未満,三万円以上),O30+1,1,IF(L30<30000,1,2))),0)","v":0}]
[]
[11,null,null,null,null,null,null,null,null,null,null,null,{"$f":"IF(AND(L32>0,ISNUMBER(L32)=TRUE),IF(ISNUMBER(O32)=FALSE,0,INDEX((三万円未満,三万円以上),O32+1,1,IF(L32<30000,1,2))),0)","v":0}]
[]
[12,null,null,null,null,null,null,null,null,null,null,null,{"$f":"IF(AND(L34>0,ISNUMBER(L34)=TRUE),IF(ISNUMBER(O34)=FALSE,0,INDEX((三万円未満,三万円以上),O34+1,1,IF(L34<30000,1,2))),0)","v":0}]
[]
[13,null,null,null,null,null,null,null,null,null,null,null,{"$f":"IF(AND(L36>0,ISNUMBER(L36)=TRUE),IF(ISNUMBER(O36)=FALSE,0,INDEX((三万円未満,三万円以上),O36+1,1,IF(L36<30000,1,2))),0)","v":0}]
[]
[14,null,null,null,null,null,null,null,null,null,null,null,{"$f":"IF(AND(L38>0,ISNUMBER(L38)=TRUE),IF(ISNUMBER(O38)=FALSE,0,INDEX((三万円未満,三万円以上),O38+1,1,IF(L38<30000,1,2))),0)","v":0}]
[]
[15,null,null,null,null,null,null,null,null,null,null,null,{"$f":"IF(AND(L40>0,ISNUMBER(L40)=TRUE),IF(ISNUMBER(O40)=FALSE,0,INDEX((三万円未満,三万円以上),O40+1,1,IF(L40<30000,1,2))),0)","v":0}]
[]
["科目",null,"　普　 通 　預　 金　","フ",null,null,null,{"$f":"COUNTIF(L12:L41,\">=1\")","v":0},"件","小計",null,{"$f":"SUM(L12:L41)","v":0},{"$f":"SUM(M12:M41)","v":0}]
[null,null,"　当 　座　 預　 金","ト"]
[null,null,"　貯　 蓄　 預　 金","チ",null,null,null,{"$f":"H42","v":0},"件","合計",null,{"$f":"L42","v":0},{"$f":"M42","v":0}]
[null,null,"　　そ　　の　　他","ソ"]
[]
[null,null,null,null,"振 込 依 頼 書",null,null,null,null,null,null,null,"ページ　2"]
[]
[null,null,null,null,null,null,null,null,null,null,"ご依頼日",{"$f":"$L$3","v":"2020-09-01"},null,null,null,null,"受取人が手数料を負担する場合「１」を入力"]
[null,null,"福島銀行",null,null,null,null,null,null,"お客様番号",null,{"$f":"IF($L$4=\"\",\"\",$L$4)","v":""}]
[null,{"$f":"IF($B$5=0,\"\",$B$5)","v":""},null,null,"御中",null,null,null,null,"依頼人名カナ",null,{"$f":"IF($L$5=\"\",\"\",$L$5)","v":""}]
[null,null,null,null,null," 　振込種類",null,null,null,"会社名",null,{"$f":"IF($L$6=\"\",\"\",$L$6)","v":""}]
[null,null,"振込指定日",null,null,{"$f":"IF(F7=4,\"4シヨウヨ\",IF(F7=3,\"3キウヨ\",IF(F7=2,\"2サキフリ\",\"1フリコミ\")))","v":"1フリコミ"},null,null,null," 担当者名",null,{"$f":"IF($L$7=\"\",\"\",$L$7)","v":""}]
[null,{"$f":"IF($B$8=\"\",\"平成　　年　　月　　日\",$B$8)","v":"2020-09-01"},null,null,null,null,null,null,null,"電話番号",null,{"$f":"IF($L$8=\"\",\"\",$L$8)","v":""}]
[]
[null,null,"金 融 機 関 名","科目","口 座 番 号",null,"受　  　　　取 　　 　　人　　　 　　名",null,null,null,null,"　金　　　　　　　額"," 手数料　円",null,"銀行",null,"手数料"]
[null,null,"支　  　店　　  名","目",null,null,"（　カ　タ　カ　ナ　記　入　）",null,null,null,null,"　　　　　　　　　　円","(消費税含）",null,"区分",null,"負担区分"]
[1,null,null,null,null,null,null,null,null,null,null,null,{"$f":"IF(AND(L58>0,ISNUMBER(L58)=TRUE),IF(ISNUMBER(O58)=FALSE,0,INDEX((三万円未満,三万円以上),O58+1,1,IF(L58<30000,1,2))),0)","v":0}]
[]
[2,null,null,null,null,null,null,null,null,null,null,null,{"$f":"IF(AND(L60>0,ISNUMBER(L60)=TRUE),IF(ISNUMBER(O60)=FALSE,0,INDEX((三万円未満,三万円以上),O60+1,1,IF(L60<30000,1,2))),0)","v":0}]
[]
[3,null,null,null,null,null,null,null,null,null,null,null,{"$f":"IF(AND(L62>0,ISNUMBER(L62)=TRUE),IF(ISNUMBER(O62)=FALSE,0,INDEX((三万円未満,三万円以上),O62+1,1,IF(L62<30000,1,2))),0)","v":0}]
[]
[4,null,null,null,null,null,null,null,null,null,null,null,{"$f":"IF(AND(L64>0,ISNUMBER(L64)=TRUE),IF(ISNUMBER(O64)=FALSE,0,INDEX((三万円未満,三万円以上),O64+1,1,IF(L64<30000,1,2))),0)","v":0}]
[]
[5,null,null,null,null,null,null,null,null,null,null,null,{"$f":"IF(AND(L66>0,ISNUMBER(L66)=TRUE),IF(ISNUMBER(O66)=FALSE,0,INDEX((三万円未満,三万円以上),O66+1,1,IF(L66<30000,1,2))),0)","v":0}]
[]
[6,null,null,null,null,null,null,null,null,null,null,null,{"$f":"IF(AND(L68>0,ISNUMBER(L68)=TRUE),IF(ISNUMBER(O68)=FALSE,0,INDEX((三万円未満,三万円以上),O68+1,1,IF(L68<30000,1,2))),0)","v":0}]
[]
[7,null,null,null,null,null,null,null,null,null,null,null,{"$f":"IF(AND(L70>0,ISNUMBER(L70)=TRUE),IF(ISNUMBER(O70)=FALSE,0,INDEX((三万円未満,三万円以上),O70+1,1,IF(L70<30000,1,2))),0)","v":0}]
[]
[8,null,null,null,null,null,null,null,null,null,null,null,{"$f":"IF(AND(L72>0,ISNUMBER(L72)=TRUE),IF(ISNUMBER(O72)=FALSE,0,INDEX((三万円未満,三万円以上),O72+1,1,IF(L72<30000,1,2))),0)","v":0}]
[]
[9,null,null,null,null,null,null,null,null,null,null,null,{"$f":"IF(AND(L74>0,ISNUMBER(L74)=TRUE),IF(ISNUMBER(O74)=FALSE,0,INDEX((三万円未満,三万円以上),O74+1,1,IF(L74<30000,1,2))),0)","v":0}]
[]
[10,null,null,null,null,null,null,null,null,null,null,null,{"$f":"IF(AND(L76>0,ISNUMBER(L76)=TRUE),IF(ISNUMBER(O76)=FALSE,0,INDEX((三万円未満,三万円以上),O76+1,1,IF(L76<30000,1,2))),0)","v":0}]
[]
[11,null,null,null,null,null,null,null,null,null,null,null,{"$f":"IF(AND(L78>0,ISNUMBER(L78)=TRUE),IF(ISNUMBER(O78)=FALSE,0,INDEX((三万円未満,三万円以上),O78+1,1,IF(L78<30000,1,2))),0)","v":0}]
[]
[12,null,null,null,null,null,null,null,null,null,null,null,{"$f":"IF(AND(L80>0,ISNUMBER(L80)=TRUE),IF(ISNUMBER(O80)=FALSE,0,INDEX((三万円未満,三万円以上),O80+1,1,IF(L80<30000,1,2))),0)","v":0}]
[]
[13,null,null,null,null,null,null,null,null,null,null,null,{"$f":"IF(AND(L82>0,ISNUMBER(L82)=TRUE),IF(ISNUMBER(O82)=FALSE,0,INDEX((三万円未満,三万円以上),O82+1,1,IF(L82<30000,1,2))),0)","v":0}]
[]
[14,null,null,null,null,null,null,null,null,null,null,null,{"$f":"IF(AND(L84>0,ISNUMBER(L84)=TRUE),IF(ISNUMBER(O84)=FALSE,0,INDEX((三万円未満,三万円以上),O84+1,1,IF(L84<30000,1,2))),0)","v":0}]
[]
[15,null,null,null,null,null,null,null,null,null,null,null,{"$f":"IF(AND(L86>0,ISNUMBER(L86)=TRUE),IF(ISNUMBER(O86)=FALSE,0,INDEX((三万円未満,三万円以上),O86+1,1,IF(L86<30000,1,2))),0)","v":0}]
[]
["科目",null,"　普　 通 　預　 金　","フ",null,null,null,{"$f":"COUNTIF(L58:L87,\">=1\")","v":0},"件","小計",null,{"$f":"SUM(L58:L87)","v":0},{"$f":"SUM(M58:M87)","v":0}]
[null,null,"　当 　座　 預　 金","ト"]
[null,null,"　貯　 蓄　 預　 金","チ",null,null,null,{"$f":"H44+H88","v":0},"件","合計",null,{"$f":"L88+L44","v":0},{"$f":"M88+M44","v":0}]
[null,null,"　　そ　　の　　他","ソ"]
[]
[null,null,null,null,"振 込 依 頼 書",null,null,null,null,null,null,null,"ページ　3"]
[]
[null,null,null,null,null,null,null,null,null,null,"ご依頼日",{"$f":"$L$3","v":"2020-09-01"},null,null,null,null,"受取人が手数料を負担する場合「１」を入力"]
[null,null,"福島銀行",null,null,null,null,null,null,"お客様番号",null,{"$f":"IF($L$4=\"\",\"\",$L$4)","v":""}]
[null,{"$f":"IF($B$5=0,\"\",$B$5)","v":""},null,null,"御中",null,null,null,null,"依頼人名カナ",null,{"$f":"IF($L$5=\"\",\"\",$L$5)","v":""}]
[null,null,null,null,null," 　振込種類",null,null,null,"会社名",null,{"$f":"IF($L$6=\"\",\"\",$L$6)","v":""}]
[null,null,"振込指定日",null,null,{"$f":"IF(F7=4,\"4シヨウヨ\",IF(F7=3,\"3キウヨ\",IF(F7=2,\"2サキフリ\",\"1フリコミ\")))","v":"1フリコミ"},null,null,null," 担当者名",null,{"$f":"IF($L$7=\"\",\"\",$L$7)","v":""}]
[null,null,{"$f":"IF($B$8=\"\",\"平成　　年　　月　　日\",$B$8)","v":"2020-09-01"},null,null,null,null,null,null,"電話番号",null,{"$f":"IF($L$8=\"\",\"\",$L$8)","v":""}]
[]
[null,null,"金 融 機 関 名","科目","口 座 番 号",null,"受　  　　　取 　　 　　人　　　 　　名",null,null,null,null,"　金　　　　　　　額"," 手数料　円",null,"銀行",null,"手数料"]
[null,null,"支　  　店　　  名","目",null,null,"（　カ　タ　カ　ナ　記　入　）",null,null,null,null,"　　　　　　　　　　円","(消費税含）",null,"区分",null,"負担区分"]
[1,null,null,null,null,null,null,null,null,null,null,null,{"$f":"IF(AND(L104>0,ISNUMBER(L104)=TRUE),IF(ISNUMBER(O104)=FALSE,0,INDEX((三万円未満,三万円以上),O104+1,1,IF(L104<30000,1,2))),0)","v":0}]
[]
[2,null,null,null,null,null,null,null,null,null,null,null,{"$f":"IF(AND(L106>0,ISNUMBER(L106)=TRUE),IF(ISNUMBER(O106)=FALSE,0,INDEX((三万円未満,三万円以上),O106+1,1,IF(L106<30000,1,2))),0)","v":0}]
[]
[3,null,null,null,null,null,null,null,null,null,null,null,{"$f":"IF(AND(L108>0,ISNUMBER(L108)=TRUE),IF(ISNUMBER(O108)=FALSE,0,INDEX((三万円未満,三万円以上),O108+1,1,IF(L108<30000,1,2))),0)","v":0}]
[]
[4,null,null,null,null,null,null,null,null,null,null,null,{"$f":"IF(AND(L110>0,ISNUMBER(L110)=TRUE),IF(ISNUMBER(O110)=FALSE,0,INDEX((三万円未満,三万円以上),O110+1,1,IF(L110<30000,1,2))),0)","v":0}]
[]
[5,null,null,null,null,null,null,null,null,null,null,null,{"$f":"IF(AND(L112>0,ISNUMBER(L112)=TRUE),IF(ISNUMBER(O112)=FALSE,0,INDEX((三万円未満,三万円以上),O112+1,1,IF(L112<30000,1,2))),0)","v":0}]
[]
[6,null,null,null,null,null,null,null,null,null,null,null,{"$f":"IF(AND(L114>0,ISNUMBER(L114)=TRUE),IF(ISNUMBER(O114)=FALSE,0,INDEX((三万円未満,三万円以上),O114+1,1,IF(L114<30000,1,2))),0)","v":0}]
[]
[7,null,null,null,null,null,null,null,null,null,null,null,{"$f":"IF(AND(L116>0,ISNUMBER(L116)=TRUE),IF(ISNUMBER(O116)=FALSE,0,INDEX((三万円未満,三万円以上),O116+1,1,IF(L116<30000,1,2))),0)","v":0}]
[]
[8,null,null,null,null,null,null,null,null,null,null,null,{"$f":"IF(AND(L118>0,ISNUMBER(L118)=TRUE),IF(ISNUMBER(O118)=FALSE,0,INDEX((三万円未満,三万円以上),O118+1,1,IF(L118<30000,1,2))),0)","v":0}]
[]
[9,null,null,null,null,null,null,null,null,null,null,null,{"$f":"IF(AND(L120>0,ISNUMBER(L120)=TRUE),IF(ISNUMBER(O120)=FALSE,0,INDEX((三万円未満,三万円以上),O120+1,1,IF(L120<30000,1,2))),0)","v":0}]
[]
[10,null,null,null,null,null,null,null,null,null,null,null,{"$f":"IF(AND(L122>0,ISNUMBER(L122)=TRUE),IF(ISNUMBER(O122)=FALSE,0,INDEX((三万円未満,三万円以上),O122+1,1,IF(L122<30000,1,2))),0)","v":0}]
[]
[11,null,null,null,null,null,null,null,null,null,null,null,{"$f":"IF(AND(L124>0,ISNUMBER(L124)=TRUE),IF(ISNUMBER(O124)=FALSE,0,INDEX((三万円未満,三万円以上),O124+1,1,IF(L124<30000,1,2))),0)","v":0}]
[]
[12,null,null,null,null,null,null,null,null,null,null,null,{"$f":"IF(AND(L126>0,ISNUMBER(L126)=TRUE),IF(ISNUMBER(O126)=FALSE,0,INDEX((三万円未満,三万円以上),O126+1,1,IF(L126<30000,1,2))),0)","v":0}]
[]
[13,null,null,null,null,null,null,null,null,null,null,null,{"$f":"IF(AND(L128>0,ISNUMBER(L128)=TRUE),IF(ISNUMBER(O128)=FALSE,0,INDEX((三万円未満,三万円以上),O128+1,1,IF(L128<30000,1,2))),0)","v":0}]
[]
[14,null,null,null,null,null,null,null,null,null,null,null,{"$f":"IF(AND(L130>0,ISNUMBER(L130)=TRUE),IF(ISNUMBER(O130)=FALSE,0,INDEX((三万円未満,三万円以上),O130+1,1,IF(L130<30000,1,2))),0)","v":0}]
[]
[15,null,null,null,null,null,null,null,null,null,null,null,{"$f":"IF(AND(L132>0,ISNUMBER(L132)=TRUE),IF(ISNUMBER(O132)=FALSE,0,INDEX((三万円未満,三万円以上),O132+1,1,IF(L132<30000,1,2))),0)","v":0}]
[]
["科目",null,"　普　 通 　預　 金　","フ",null,null,null,{"$f":"COUNTIF(L104:L133,\">=1\")","v":0},"件","小計",null,{"$f":"SUM(L104:L133)","v":0},{"$f":"SUM(M104:M133)","v":0}]
[null,null,"　当 　座　 預　 金","ト"]
[null,null,"　貯　 蓄　 預　 金","チ",null,null,null,{"$f":"H90+H134","v":0},"件","合計",null,{"$f":"L134+L90","v":0},{"$f":"M134+M90","v":0}]
[null,null,"　　そ　　の　　他","ソ"]
[]
[null,null,null,null,"振 込 依 頼 書",null,null,null,null,null,null,null,"ページ　4"]
[]
[null,null,null,null,null,null,null,null,null,null,"ご依頼日",{"$f":"$L$3","v":"2020-09-01"},null,null,null,null,"受取人が手数料を負担する場合「１」を入力"]
[null,null,"福島銀行",null,null,null,null,null,null,"お客様番号",null,{"$f":"IF($L$4=\"\",\"\",$L$4)","v":""}]
[null,{"$f":"IF($B$5=0,\"\",$B$5)","v":""},null,null,"御中",null,null,null,null,"依頼人名カナ",null,{"$f":"IF($L$5=\"\",\"\",$L$5)","v":""}]
[null,null,null,null,null," 　振込種類",null,null,null,"会社名",null,{"$f":"IF($L$6=\"\",\"\",$L$6)","v":""}]
[null,null,"振込指定日",null,null,{"$f":"IF(F7=4,\"4シヨウヨ\",IF(F7=3,\"3キウヨ\",IF(F7=2,\"2サキフリ\",\"1フリコミ\")))","v":"1フリコミ"},null,null,null," 担当者名",null,{"$f":"IF($L$7=\"\",\"\",$L$7)","v":""}]
[null,null,{"$f":"IF($B$8=\"\",\"平成　　年　　月　　日\",$B$8)","v":"2020-09-01"},null,null,null,null,null,null,"電話番号",null,{"$f":"IF($L$8=\"\",\"\",$L$8)","v":""}]
[]
[null,null,"金 融 機 関 名","科目","口 座 番 号",null,"受　  　　　取 　　 　　人　　　 　　名",null,null,null,null,"　金　　　　　　　額"," 手数料　円",null,"銀行",null,"手数料"]
[null,null,"支　  　店　　  名","目",null,null,"（　カ　タ　カ　ナ　記　入　）",null,null,null,null,"　　　　　　　　　　円","(消費税含）",null,"区分",null,"負担区分"]
[1,null,null,null,null,null,null,null,null,null,null,null,{"$f":"IF(AND(L150>0,ISNUMBER(L150)=TRUE),IF(ISNUMBER(O150)=FALSE,0,INDEX((三万円未満,三万円以上),O150+1,1,IF(L150<30000,1,2))),0)","v":0}]
[]
[2,null,null,null,null,null,null,null,null,null,null,null,{"$f":"IF(AND(L152>0,ISNUMBER(L152)=TRUE),IF(ISNUMBER(O152)=FALSE,0,INDEX((三万円未満,三万円以上),O152+1,1,IF(L152<30000,1,2))),0)","v":0}]
[]
[3,null,null,null,null,null,null,null,null,null,null,null,{"$f":"IF(AND(L154>0,ISNUMBER(L154)=TRUE),IF(ISNUMBER(O154)=FALSE,0,INDEX((三万円未満,三万円以上),O154+1,1,IF(L154<30000,1,2))),0)","v":0}]
[]
[4,null,null,null,null,null,null,null,null,null,null,null,{"$f":"IF(AND(L156>0,ISNUMBER(L156)=TRUE),IF(ISNUMBER(O156)=FALSE,0,INDEX((三万円未満,三万円以上),O156+1,1,IF(L156<30000,1,2))),0)","v":0}]
[]
[5,null,null,null,null,null,null,null,null,null,null,null,{"$f":"IF(AND(L158>0,ISNUMBER(L158)=TRUE),IF(ISNUMBER(O158)=FALSE,0,INDEX((三万円未満,三万円以上),O158+1,1,IF(L158<30000,1,2))),0)","v":0}]
[]
[6,null,null,null,null,null,null,null,null,null,null,null,{"$f":"IF(AND(L160>0,ISNUMBER(L160)=TRUE),IF(ISNUMBER(O160)=FALSE,0,INDEX((三万円未満,三万円以上),O160+1,1,IF(L160<30000,1,2))),0)","v":0}]
[]
[7,null,null,null,null,null,null,null,null,null,null,null,{"$f":"IF(AND(L162>0,ISNUMBER(L162)=TRUE),IF(ISNUMBER(O162)=FALSE,0,INDEX((三万円未満,三万円以上),O162+1,1,IF(L162<30000,1,2))),0)","v":0}]
[]
[8,null,null,null,null,null,null,null,null,null,null,null,{"$f":"IF(AND(L164>0,ISNUMBER(L164)=TRUE),IF(ISNUMBER(O164)=FALSE,0,INDEX((三万円未満,三万円以上),O164+1,1,IF(L164<30000,1,2))),0)","v":0}]
[]
[9,null,null,null,null,null,null,null,null,null,null,null,{"$f":"IF(AND(L166>0,ISNUMBER(L166)=TRUE),IF(ISNUMBER(O166)=FALSE,0,INDEX((三万円未満,三万円以上),O166+1,1,IF(L166<30000,1,2))),0)","v":0}]
[]
[10,null,null,null,null,null,null,null,null,null,null,null,{"$f":"IF(AND(L168>0,ISNUMBER(L168)=TRUE),IF(ISNUMBER(O168)=FALSE,0,INDEX((三万円未満,三万円以上),O168+1,1,IF(L168<30000,1,2))),0)","v":0}]
[]
[11,null,null,null,null,null,null,null,null,null,null,null,{"$f":"IF(AND(L170>0,ISNUMBER(L170)=TRUE),IF(ISNUMBER(O170)=FALSE,0,INDEX((三万円未満,三万円以上),O170+1,1,IF(L170<30000,1,2))),0)","v":0}]
[]
[12,null,null,null,null,null,null,null,null,null,null,null,{"$f":"IF(AND(L172>0,ISNUMBER(L172)=TRUE),IF(ISNUMBER(O172)=FALSE,0,INDEX((三万円未満,三万円以上),O172+1,1,IF(L172<30000,1,2))),0)","v":0}]
[]
[13,null,null,null,null,null,null,null,null,null,null,null,{"$f":"IF(AND(L174>0,ISNUMBER(L174)=TRUE),IF(ISNUMBER(O174)=FALSE,0,INDEX((三万円未満,三万円以上),O174+1,1,IF(L174<30000,1,2))),0)","v":0}]
[]
[14,null,null,null,null,null,null,null,null,null,null,null,{"$f":"IF(AND(L176>0,ISNUMBER(L176)=TRUE),IF(ISNUMBER(O176)=FALSE,0,INDEX((三万円未満,三万円以上),O176+1,1,IF(L176<30000,1,2))),0)","v":0}]
[]
[15,null,null,null,null,null,null,null,null,null,null,null,{"$f":"IF(AND(L178>0,ISNUMBER(L178)=TRUE),IF(ISNUMBER(O178)=FALSE,0,INDEX((三万円未満,三万円以上),O178+1,1,IF(L178<30000,1,2))),0)","v":0}]
[]
["科目",null,"　普　 通 　預　 金　","フ",null,null,null,{"$f":"COUNTIF(L150:L179,\">=1\")","v":0},"件","小計",null,{"$f":"SUM(L150:L179)","v":0},{"$f":"SUM(M150:M179)","v":0}]
[null,null,"　当 　座　 預　 金","ト"]
[null,null,"　貯　 蓄　 預　 金","チ",null,null,null,{"$f":"H136+H180","v":0},"件","合計",null,{"$f":"L180+L136","v":0},{"$f":"M180+M136","v":0}]
[null,null,"　　そ　　の　　他","ソ"]
[]
[null,null,null,null,"振 込 依 頼 書",null,null,null,null,null,null,null,"ページ　5"]
[]
[null,null,null,null,null,null,null,null,null,null,"ご依頼日",{"$f":"$L$3","v":"2020-09-01"},null,null,null,null,"受取人が手数料を負担する場合「１」を入力"]
[null,null,"福島銀行",null,null,null,null,null,null,"お客様番号",null,{"$f":"IF($L$4=\"\",\"\",$L$4)","v":""}]
[null,{"$f":"IF($B$5=0,\"\",$B$5)","v":""},null,null,"御中",null,null,null,null,"依頼人名カナ",null,{"$f":"IF($L$5=\"\",\"\",$L$5)","v":""}]
[null,null,null,null,null," 　振込種類",null,null,null,"会社名",null,{"$f":"IF($L$6=\"\",\"\",$L$6)","v":""}]
[null,null,"振込指定日",null,null,{"$f":"IF(F7=4,\"4シヨウヨ\",IF(F7=3,\"3キウヨ\",IF(F7=2,\"2サキフリ\",\"1フリコミ\")))","v":"1フリコミ"},null,null,null," 担当者名",null,{"$f":"IF($L$7=\"\",\"\",$L$7)","v":""}]
[null,null,{"$f":"IF($B$8=\"\",\"平成　　年　　月　　日\",$B$8)","v":"2020-09-01"},null,null,null,null,null,null,"電話番号",null,{"$f":"IF($L$8=\"\",\"\",$L$8)","v":""}]
[]
[null,null,"金 融 機 関 名","科目","口 座 番 号",null,"受　  　　　取 　　 　　人　　　 　　名",null,null,null,null,"　金　　　　　　　額"," 手数料　円",null,"銀行",null,"手数料"]
[null,null,"支　  　店　　  名","目",null,null,"（　カ　タ　カ　ナ　記　入　）",null,null,null,null,"　　　　　　　　　　円","(消費税含）",null,"区分",null,"負担区分"]
[1,null,null,null,null,null,null,null,null,null,null,null,{"$f":"IF(AND(L196>0,ISNUMBER(L196)=TRUE),IF(ISNUMBER(O196)=FALSE,0,INDEX((三万円未満,三万円以上),O196+1,1,IF(L196<30000,1,2))),0)","v":0}]
[]
[2,null,null,null,null,null,null,null,null,null,null,null,{"$f":"IF(AND(L198>0,ISNUMBER(L198)=TRUE),IF(ISNUMBER(O198)=FALSE,0,INDEX((三万円未満,三万円以上),O198+1,1,IF(L198<30000,1,2))),0)","v":0}]
[]
[3,null,null,null,null,null,null,null,null,null,null,null,{"$f":"IF(AND(L200>0,ISNUMBER(L200)=TRUE),IF(ISNUMBER(O200)=FALSE,0,INDEX((三万円未満,三万円以上),O200+1,1,IF(L200<30000,1,2))),0)","v":0}]
[]
[4,null,null,null,null,null,null,null,null,null,null,null,{"$f":"IF(AND(L202>0,ISNUMBER(L202)=TRUE),IF(ISNUMBER(O202)=FALSE,0,INDEX((三万円未満,三万円以上),O202+1,1,IF(L202<30000,1,2))),0)","v":0}]
[]
[5,null,null,null,null,null,null,null,null,null,null,null,{"$f":"IF(AND(L204>0,ISNUMBER(L204)=TRUE),IF(ISNUMBER(O204)=FALSE,0,INDEX((三万円未満,三万円以上),O204+1,1,IF(L204<30000,1,2))),0)","v":0}]
[]
[6,null,null,null,null,null,null,null,null,null,null,null,{"$f":"IF(AND(L206>0,ISNUMBER(L206)=TRUE),IF(ISNUMBER(O206)=FALSE,0,INDEX((三万円未満,三万円以上),O206+1,1,IF(L206<30000,1,2))),0)","v":0}]
[]
[7,null,null,null,null,null,null,null,null,null,null,null,{"$f":"IF(AND(L208>0,ISNUMBER(L208)=TRUE),IF(ISNUMBER(O208)=FALSE,0,INDEX((三万円未満,三万円以上),O208+1,1,IF(L208<30000,1,2))),0)","v":0}]
[]
[8,null,null,null,null,null,null,null,null,null,null,null,{"$f":"IF(AND(L210>0,ISNUMBER(L210)=TRUE),IF(ISNUMBER(O210)=FALSE,0,INDEX((三万円未満,三万円以上),O210+1,1,IF(L210<30000,1,2))),0)","v":0}]
[]
[9,null,null,null,null,null,null,null,null,null,null,null,{"$f":"IF(AND(L212>0,ISNUMBER(L212)=TRUE),IF(ISNUMBER(O212)=FALSE,0,INDEX((三万円未満,三万円以上),O212+1,1,IF(L212<30000,1,2))),0)","v":0}]
[]
[10,null,null,null,null,null,null,null,null,null,null,null,{"$f":"IF(AND(L214>0,ISNUMBER(L214)=TRUE),IF(ISNUMBER(O214)=FALSE,0,INDEX((三万円未満,三万円以上),O214+1,1,IF(L214<30000,1,2))),0)","v":0}]
[]
[11,null,null,null,null,null,null,null,null,null,null,null,{"$f":"IF(AND(L216>0,ISNUMBER(L216)=TRUE),IF(ISNUMBER(O216)=FALSE,0,INDEX((三万円未満,三万円以上),O216+1,1,IF(L216<30000,1,2))),0)","v":0}]
[]
[12,null,null,null,null,null,null,null,null,null,null,null,{"$f":"IF(AND(L218>0,ISNUMBER(L218)=TRUE),IF(ISNUMBER(O218)=FALSE,0,INDEX((三万円未満,三万円以上),O218+1,1,IF(L218<30000,1,2))),0)","v":0}]
[]
[13,null,null,null,null,null,null,null,null,null,null,null,{"$f":"IF(AND(L220>0,ISNUMBER(L220)=TRUE),IF(ISNUMBER(O220)=FALSE,0,INDEX((三万円未満,三万円以上),O220+1,1,IF(L220<30000,1,2))),0)","v":0}]
[]
[14,null,null,null,null,null,null,null,null,null,null,null,{"$f":"IF(AND(L222>0,ISNUMBER(L222)=TRUE),IF(ISNUMBER(O222)=FALSE,0,INDEX((三万円未満,三万円以上),O222+1,1,IF(L222<30000,1,2))),0)","v":0}]
[]
[15,null,null,null,null,null,null,null,null,null,null,null,{"$f":"IF(AND(L224>0,ISNUMBER(L224)=TRUE),IF(ISNUMBER(O224)=FALSE,0,INDEX((三万円未満,三万円以上),O224+1,1,IF(L224<30000,1,2))),0)","v":0}]
[]
["科目",null,"　普　 通 　預　 金　","フ",null,null,null,{"$f":"COUNTIF(L196:L225,\">=1\")","v":0},"件","小計",null,{"$f":"SUM(L196:L225)","v":0},{"$f":"SUM(M196:M225)","v":0}]
[null,null,"　当 　座　 預　 金","ト"]
[null,null,"　貯　 蓄　 預　 金","チ",null,null,null,{"$f":"H182+H226","v":0},"件","合計",null,{"$f":"L226+L182","v":0},{"$f":"M226+M182","v":0}]
[null,null,"　　そ　　の　　他","ソ"]
[]
[null,null,null,null,"振 込 依 頼 書",null,null,null,null,null,null,null,"ページ　6"]
[]
[null,null,null,null,null,null,null,null,null,null,"ご依頼日",{"$f":"$L$3","v":"2020-09-01"},null,null,null,null,"受取人が手数料を負担する場合「１」を入力"]
[null,null,"福島銀行",null,null,null,null,null,null,"お客様番号",null,{"$f":"IF($L$4=\"\",\"\",$L$4)","v":""}]
[null,{"$f":"IF($B$5=0,\"\",$B$5)","v":""},null,null,"御中",null,null,null,null,"依頼人名カナ",null,{"$f":"IF($L$5=\"\",\"\",$L$5)","v":""}]
[null,null,null,null,null," 　振込種類",null,null,null,"会社名",null,{"$f":"IF($L$6=\"\",\"\",$L$6)","v":""}]
[null,null,"振込指定日",null,null,{"$f":"IF($F$7=4,\"4シヨウヨ\",IF($F$7=3,\"3キウヨ\",IF($F$7=2,\"2サキフリ\",\"1フリコミ\")))","v":"1フリコミ"},null,null,null," 担当者名",null,{"$f":"IF($L$7=\"\",\"\",$L$7)","v":""}]
[null,null,{"$f":"IF($B$8=\"\",\"平成　　年　　月　　日\",$B$8)","v":"2020-09-01"},null,null,null,null,null,null,"電話番号",null,{"$f":"IF($L$8=\"\",\"\",$L$8)","v":""}]
[]
[null,null,"金 融 機 関 名","科目","口 座 番 号",null,"受　  　　　取 　　 　　人　　　 　　名",null,null,null,null,"　金　　　　　　　額"," 手数料　円",null,"銀行",null,"手数料"]
[null,null,"支　  　店　　  名","目",null,null,"（　カ　タ　カ　ナ　記　入　）",null,null,null,null,"　　　　　　　　　　円","(消費税含）",null,"区分",null,"負担区分"]
[1,null,null,null,null,null,null,null,null,null,null,null,{"$f":"IF(AND(L242>0,ISNUMBER(L242)=TRUE),IF(ISNUMBER(O242)=FALSE,0,INDEX((三万円未満,三万円以上),O242+1,1,IF(L242<30000,1,2))),0)","v":0}]
[]
[2,null,null,null,null,null,null,null,null,null,null,null,{"$f":"IF(AND(L244>0,ISNUMBER(L244)=TRUE),IF(ISNUMBER(O244)=FALSE,0,INDEX((三万円未満,三万円以上),O244+1,1,IF(L244<30000,1,2))),0)","v":0}]
[]
[3,null,null,null,null,null,null,null,null,null,null,null,{"$f":"IF(AND(L246>0,ISNUMBER(L246)=TRUE),IF(ISNUMBER(O246)=FALSE,0,INDEX((三万円未満,三万円以上),O246+1,1,IF(L246<30000,1,2))),0)","v":0}]
[]
[4,null,null,null,null,null,null,null,null,null,null,null,{"$f":"IF(AND(L248>0,ISNUMBER(L248)=TRUE),IF(ISNUMBER(O248)=FALSE,0,INDEX((三万円未満,三万円以上),O248+1,1,IF(L248<30000,1,2))),0)","v":0}]
[]
[5,null,null,null,null,null,null,null,null,null,null,null,{"$f":"IF(AND(L250>0,ISNUMBER(L250)=TRUE),IF(ISNUMBER(O250)=FALSE,0,INDEX((三万円未満,三万円以上),O250+1,1,IF(L250<30000,1,2))),0)","v":0}]
[]
[6,null,null,null,null,null,null,null,null,null,null,null,{"$f":"IF(AND(L252>0,ISNUMBER(L252)=TRUE),IF(ISNUMBER(O252)=FALSE,0,INDEX((三万円未満,三万円以上),O252+1,1,IF(L252<30000,1,2))),0)","v":0}]
[]
[7,null,null,null,null,null,null,null,null,null,null,null,{"$f":"IF(AND(L254>0,ISNUMBER(L254)=TRUE),IF(ISNUMBER(O254)=FALSE,0,INDEX((三万円未満,三万円以上),O254+1,1,IF(L254<30000,1,2))),0)","v":0}]
[]
[8,null,null,null,null,null,null,null,null,null,null,null,{"$f":"IF(AND(L256>0,ISNUMBER(L256)=TRUE),IF(ISNUMBER(O256)=FALSE,0,INDEX((三万円未満,三万円以上),O256+1,1,IF(L256<30000,1,2))),0)","v":0}]
[]
[9,null,null,null,null,null,null,null,null,null,null,null,{"$f":"IF(AND(L258>0,ISNUMBER(L258)=TRUE),IF(ISNUMBER(O258)=FALSE,0,INDEX((三万円未満,三万円以上),O258+1,1,IF(L258<30000,1,2))),0)","v":0}]
[]
[10,null,null,null,null,null,null,null,null,null,null,null,{"$f":"IF(AND(L260>0,ISNUMBER(L260)=TRUE),IF(ISNUMBER(O260)=FALSE,0,INDEX((三万円未満,三万円以上),O260+1,1,IF(L260<30000,1,2))),0)","v":0}]
[]
[11,null,null,null,null,null,null,null,null,null,null,null,{"$f":"IF(AND(L262>0,ISNUMBER(L262)=TRUE),IF(ISNUMBER(O262)=FALSE,0,INDEX((三万円未満,三万円以上),O262+1,1,IF(L262<30000,1,2))),0)","v":0}]
[]
[12,null,null,null,null,null,null,null,null,null,null,null,{"$f":"IF(AND(L264>0,ISNUMBER(L264)=TRUE),IF(ISNUMBER(O264)=FALSE,0,INDEX((三万円未満,三万円以上),O264+1,1,IF(L264<30000,1,2))),0)","v":0}]
[]
[13,null,null,null,null,null,null,null,null,null,null,null,{"$f":"IF(AND(L266>0,ISNUMBER(L266)=TRUE),IF(ISNUMBER(O266)=FALSE,0,INDEX((三万円未満,三万円以上),O266+1,1,IF(L266<30000,1,2))),0)","v":0}]
[]
[14,null,null,null,null,null,null,null,null,null,null,null,{"$f":"IF(AND(L268>0,ISNUMBER(L268)=TRUE),IF(ISNUMBER(O268)=FALSE,0,INDEX((三万円未満,三万円以上),O268+1,1,IF(L268<30000,1,2))),0)","v":0}]
[]
[15,null,null,null,null,null,null,null,null,null,null,null,{"$f":"IF(AND(L270>0,ISNUMBER(L270)=TRUE),IF(ISNUMBER(O270)=FALSE,0,INDEX((三万円未満,三万円以上),O270+1,1,IF(L270<30000,1,2))),0)","v":0}]
[]
["科目",null,"　普　 通 　預　 金　","フ",null,null,null,{"$f":"COUNTIF(L242:L271,\">=1\")","v":0},"件","小計",null,{"$f":"SUM(L242:L271)","v":0},{"$f":"SUM(M242:M271)","v":0}]
[null,null,"　当 　座　 預　 金","ト"]
[null,null,"　貯　 蓄　 預　 金","チ",null,null,null,{"$f":"H228+H272","v":0},"件","合計",null,{"$f":"L272+L228","v":0},{"$f":"M272+M228","v":0}]
[null,null,"　　そ　　の　　他","ソ"]
[]
[null,null,null,null,"振 込 依 頼 書",null,null,null,null,null,null,null,"ページ　7"]
[]
[null,null,null,null,null,null,null,null,null,null,"ご依頼日",{"$f":"$L$3","v":"2020-09-01"},null,null,null,null,"受取人が手数料を負担する場合「１」を入力"]
[null,null,"福島銀行",null,null,null,null,null,null,"お客様番号",null,{"$f":"IF($L$4=\"\",\"\",$L$4)","v":""}]
[null,{"$f":"IF($B$5=0,\"\",$B$5)","v":""},null,null,"御中",null,null,null,null,"依頼人名カナ",null,{"$f":"IF($L$5=\"\",\"\",$L$5)","v":""}]
[null,null,null,null,null," 　振込種類",null,null,null,"会社名",null,{"$f":"IF($L$6=\"\",\"\",$L$6)","v":""}]
[null,null,"振込指定日",null,null,{"$f":"IF($F$7=4,\"4シヨウヨ\",IF($F$7=3,\"3キウヨ\",IF($F$7=2,\"2サキフリ\",\"1フリコミ\")))","v":"1フリコミ"},null,null,null," 担当者名",null,{"$f":"IF($L$7=\"\",\"\",$L$7)","v":""}]
[null,null,{"$f":"IF($B$8=\"\",\"平成　　年　　月　　日\",$B$8)","v":"2020-09-01"},null,null,null,null,null,null,"電話番号",null,{"$f":"IF($L$8=\"\",\"\",$L$8)","v":""}]
[]
[null,null,"金 融 機 関 名","科目","口 座 番 号",null,"受　  　　　取 　　 　　人　　　 　　名",null,null,null,null,"　金　　　　　　　額"," 手数料　円",null,"銀行",null,"手数料"]
[null,null,"支　  　店　　  名","目",null,null,"（　カ　タ　カ　ナ　記　入　）",null,null,null,null,"　　　　　　　　　　円","(消費税含）",null,"区分",null,"負担区分"]
[1,null,null,null,null,null,null,null,null,null,null,null,{"$f":"IF(AND(L288>0,ISNUMBER(L288)=TRUE),IF(ISNUMBER(O288)=FALSE,0,INDEX((三万円未満,三万円以上),O288+1,1,IF(L288<30000,1,2))),0)","v":0}]
[]
[2,null,null,null,null,null,null,null,null,null,null,null,{"$f":"IF(AND(L290>0,ISNUMBER(L290)=TRUE),IF(ISNUMBER(O290)=FALSE,0,INDEX((三万円未満,三万円以上),O290+1,1,IF(L290<30000,1,2))),0)","v":0}]
[]
[3,null,null,null,null,null,null,null,null,null,null,null,{"$f":"IF(AND(L292>0,ISNUMBER(L292)=TRUE),IF(ISNUMBER(O292)=FALSE,0,INDEX((三万円未満,三万円以上),O292+1,1,IF(L292<30000,1,2))),0)","v":0}]
[]
[4,null,null,null,null,null,null,null,null,null,null,null,{"$f":"IF(AND(L294>0,ISNUMBER(L294)=TRUE),IF(ISNUMBER(O294)=FALSE,0,INDEX((三万円未満,三万円以上),O294+1,1,IF(L294<30000,1,2))),0)","v":0}]
[]
[5,null,null,null,null,null,null,null,null,null,null,null,{"$f":"IF(AND(L296>0,ISNUMBER(L296)=TRUE),IF(ISNUMBER(O296)=FALSE,0,INDEX((三万円未満,三万円以上),O296+1,1,IF(L296<30000,1,2))),0)","v":0}]
[]
[6,null,null,null,null,null,null,null,null,null,null,null,{"$f":"IF(AND(L298>0,ISNUMBER(L298)=TRUE),IF(ISNUMBER(O298)=FALSE,0,INDEX((三万円未満,三万円以上),O298+1,1,IF(L298<30000,1,2))),0)","v":0}]
[]
[7,null,null,null,null,null,null,null,null,null,null,null,{"$f":"IF(AND(L300>0,ISNUMBER(L300)=TRUE),IF(ISNUMBER(O300)=FALSE,0,INDEX((三万円未満,三万円以上),O300+1,1,IF(L300<30000,1,2))),0)","v":0}]
[]
[8,null,null,null,null,null,null,null,null,null,null,null,{"$f":"IF(AND(L302>0,ISNUMBER(L302)=TRUE),IF(ISNUMBER(O302)=FALSE,0,INDEX((三万円未満,三万円以上),O302+1,1,IF(L302<30000,1,2))),0)","v":0}]
[]
[9,null,null,null,null,null,null,null,null,null,null,null,{"$f":"IF(AND(L304>0,ISNUMBER(L304)=TRUE),IF(ISNUMBER(O304)=FALSE,0,INDEX((三万円未満,三万円以上),O304+1,1,IF(L304<30000,1,2))),0)","v":0}]
[]
[10,null,null,null,null,null,null,null,null,null,null,null,{"$f":"IF(AND(L306>0,ISNUMBER(L306)=TRUE),IF(ISNUMBER(O306)=FALSE,0,INDEX((三万円未満,三万円以上),O306+1,1,IF(L306<30000,1,2))),0)","v":0}]
[]
[11,null,null,null,null,null,null,null,null,null,null,null,{"$f":"IF(AND(L308>0,ISNUMBER(L308)=TRUE),IF(ISNUMBER(O308)=FALSE,0,INDEX((三万円未満,三万円以上),O308+1,1,IF(L308<30000,1,2))),0)","v":0}]
[]
[12,null,null,null,null,null,null,null,null,null,null,null,{"$f":"IF(AND(L310>0,ISNUMBER(L310)=TRUE),IF(ISNUMBER(O310)=FALSE,0,INDEX((三万円未満,三万円以上),O310+1,1,IF(L310<30000,1,2))),0)","v":0}]
[]
[13,null,null,null,null,null,null,null,null,null,null,null,{"$f":"IF(AND(L312>0,ISNUMBER(L312)=TRUE),IF(ISNUMBER(O312)=FALSE,0,INDEX((三万円未満,三万円以上),O312+1,1,IF(L312<30000,1,2))),0)","v":0}]
[]
[14,null,null,null,null,null,null,null,null,null,null,null,{"$f":"IF(AND(L314>0,ISNUMBER(L314)=TRUE),IF(ISNUMBER(O314)=FALSE,0,INDEX((三万円未満,三万円以上),O314+1,1,IF(L314<30000,1,2))),0)","v":0}]
[]
[15,null,null,null,null,null,null,null,null,null,null,null,{"$f":"IF(AND(L316>0,ISNUMBER(L316)=TRUE),IF(ISNUMBER(O316)=FALSE,0,INDEX((三万円未満,三万円以上),O316+1,1,IF(L316<30000,1,2))),0)","v":0}]
[]
["科目",null,"　普　 通 　預　 金　","フ",null,null,null,{"$f":"COUNTIF(L288:L317,\">=1\")","v":0},"件","小計",null,{"$f":"SUM(L288:L317)","v":0},{"$f":"SUM(M288:M317)","v":0}]
[null,null,"　当 　座　 預　 金","ト"]
[null,null,"　貯　 蓄　 預　 金","チ",null,null,null,{"$f":"H274+H318","v":0},"件","合計",null,{"$f":"L318+L274","v":0},{"$f":"M318+M274","v":0}]
[null,null,"　　そ　　の　　他","ソ"]
[]
[null,null,null,null,"振 込 依 頼 書",null,null,null,null,null,null,null,"ページ　8"]
[]
[null,null,null,null,null,null,null,null,null,null,"ご依頼日",{"$f":"$L$3","v":"2020-09-01"},null,null,null,null,"受取人が手数料を負担する場合「１」を入力"]
[null,null,"福島銀行",null,null,null,null,null,null,"お客様番号",null,{"$f":"IF($L$4=\"\",\"\",$L$4)","v":""}]
[null,{"$f":"IF($B$5=0,\"\",$B$5)","v":""},null,null,"御中",null,null,null,null,"依頼人名カナ",null,{"$f":"IF($L$5=\"\",\"\",$L$5)","v":""}]
[null,null,null,null,null," 　振込種類",null,null,null,"会社名",null,{"$f":"IF($L$6=\"\",\"\",$L$6)","v":""}]
[null,null,"振込指定日",null,null,{"$f":"IF($F$7=4,\"4シヨウヨ\",IF($F$7=3,\"3キウヨ\",IF($F$7=2,\"2サキフリ\",\"1フリコミ\")))","v":"1フリコミ"},null,null,null," 担当者名",null,{"$f":"IF($L$7=\"\",\"\",$L$7)","v":""}]
[null,null,{"$f":"IF($B$8=\"\",\"平成　　年　　月　　日\",$B$8)","v":"2020-09-01"},null,null,null,null,null,null,"電話番号",null,{"$f":"IF($L$8=\"\",\"\",$L$8)","v":""}]
[]
[null,null,"金 融 機 関 名","科目","口 座 番 号",null,"受　  　　　取 　　 　　人　　　 　　名",null,null,null,null,"　金　　　　　　　額"," 手数料　円",null,"銀行",null,"手数料"]
[null,null,"支　  　店　　  名","目",null,null,"（　カ　タ　カ　ナ　記　入　）",null,null,null,null,"　　　　　　　　　　円","(消費税含）",null,"区分",null,"負担区分"]
[1,null,null,null,null,null,null,null,null,null,null,null,{"$f":"IF(AND(L334>0,ISNUMBER(L334)=TRUE),IF(ISNUMBER(O334)=FALSE,0,INDEX((三万円未満,三万円以上),O334+1,1,IF(L334<30000,1,2))),0)","v":0}]
[]
[2,null,null,null,null,null,null,null,null,null,null,null,{"$f":"IF(AND(L336>0,ISNUMBER(L336)=TRUE),IF(ISNUMBER(O336)=FALSE,0,INDEX((三万円未満,三万円以上),O336+1,1,IF(L336<30000,1,2))),0)","v":0}]
[]
[3,null,null,null,null,null,null,null,null,null,null,null,{"$f":"IF(AND(L338>0,ISNUMBER(L338)=TRUE),IF(ISNUMBER(O338)=FALSE,0,INDEX((三万円未満,三万円以上),O338+1,1,IF(L338<30000,1,2))),0)","v":0}]
[]
[4,null,null,null,null,null,null,null,null,null,null,null,{"$f":"IF(AND(L340>0,ISNUMBER(L340)=TRUE),IF(ISNUMBER(O340)=FALSE,0,INDEX((三万円未満,三万円以上),O340+1,1,IF(L340<30000,1,2))),0)","v":0}]
[]
[5,null,null,null,null,null,null,null,null,null,null,null,{"$f":"IF(AND(L342>0,ISNUMBER(L342)=TRUE),IF(ISNUMBER(O342)=FALSE,0,INDEX((三万円未満,三万円以上),O342+1,1,IF(L342<30000,1,2))),0)","v":0}]
[]
[6,null,null,null,null,null,null,null,null,null,null,null,{"$f":"IF(AND(L344>0,ISNUMBER(L344)=TRUE),IF(ISNUMBER(O344)=FALSE,0,INDEX((三万円未満,三万円以上),O344+1,1,IF(L344<30000,1,2))),0)","v":0}]
[]
[7,null,null,null,null,null,null,null,null,null,null,null,{"$f":"IF(AND(L346>0,ISNUMBER(L346)=TRUE),IF(ISNUMBER(O346)=FALSE,0,INDEX((三万円未満,三万円以上),O346+1,1,IF(L346<30000,1,2))),0)","v":0}]
[]
[8,null,null,null,null,null,null,null,null,null,null,null,{"$f":"IF(AND(L348>0,ISNUMBER(L348)=TRUE),IF(ISNUMBER(O348)=FALSE,0,INDEX((三万円未満,三万円以上),O348+1,1,IF(L348<30000,1,2))),0)","v":0}]
[]
[9,null,null,null,null,null,null,null,null,null,null,null,{"$f":"IF(AND(L350>0,ISNUMBER(L350)=TRUE),IF(ISNUMBER(O350)=FALSE,0,INDEX((三万円未満,三万円以上),O350+1,1,IF(L350<30000,1,2))),0)","v":0}]
[]
[10,null,null,null,null,null,null,null,null,null,null,null,{"$f":"IF(AND(L352>0,ISNUMBER(L352)=TRUE),IF(ISNUMBER(O352)=FALSE,0,INDEX((三万円未満,三万円以上),O352+1,1,IF(L352<30000,1,2))),0)","v":0}]
[]
[11,null,null,null,null,null,null,null,null,null,null,null,{"$f":"IF(AND(L354>0,ISNUMBER(L354)=TRUE),IF(ISNUMBER(O354)=FALSE,0,INDEX((三万円未満,三万円以上),O354+1,1,IF(L354<30000,1,2))),0)","v":0}]
[]
[12,null,null,null,null,null,null,null,null,null,null,null,{"$f":"IF(AND(L356>0,ISNUMBER(L356)=TRUE),IF(ISNUMBER(O356)=FALSE,0,INDEX((三万円未満,三万円以上),O356+1,1,IF(L356<30000,1,2))),0)","v":0}]
[]
[13,null,null,null,null,null,null,null,null,null,null,null,{"$f":"IF(AND(L358>0,ISNUMBER(L358)=TRUE),IF(ISNUMBER(O358)=FALSE,0,INDEX((三万円未満,三万円以上),O358+1,1,IF(L358<30000,1,2))),0)","v":0}]
[]
[14,null,null,null,null,null,null,null,null,null,null,null,{"$f":"IF(AND(L360>0,ISNUMBER(L360)=TRUE),IF(ISNUMBER(O360)=FALSE,0,INDEX((三万円未満,三万円以上),O360+1,1,IF(L360<30000,1,2))),0)","v":0}]
[]
[15,null,null,null,null,null,null,null,null,null,null,null,{"$f":"IF(AND(L362>0,ISNUMBER(L362)=TRUE),IF(ISNUMBER(O362)=FALSE,0,INDEX((三万円未満,三万円以上),O362+1,1,IF(L362<30000,1,2))),0)","v":0}]
[]
["科目",null,"　普　 通 　預　 金　","フ",null,null,null,{"$f":"COUNTIF(L334:L363,\">=1\")","v":0},"件","小計",null,{"$f":"SUM(L334:L363)","v":0},{"$f":"SUM(M334:M363)","v":0}]
[null,null,"　当 　座　 預　 金","ト"]
[null,null,"　貯　 蓄　 預　 金","チ",null,null,null,{"$f":"H320+H364","v":0},"件","合計",null,{"$f":"L364+L320","v":0},{"$f":"M364+M320","v":0}]
[null,null,"　　そ　　の　　他","ソ"]
[]
[null,null,null,null,"振 込 依 頼 書",null,null,null,null,null,null,null,"ページ　9"]
[]
[null,null,null,null,null,null,null,null,null,null,"ご依頼日",{"$f":"$L$3","v":"2020-09-01"},null,null,null,null,"受取人が手数料を負担する場合「１」を入力"]
[null,null,"福島銀行",null,null,null,null,null,null,"お客様番号",null,{"$f":"IF($L$4=\"\",\"\",$L$4)","v":""}]
[null,{"$f":"IF($B$5=0,\"\",$B$5)","v":""},null,null,"御中",null,null,null,null,"依頼人名カナ",null,{"$f":"IF($L$5=\"\",\"\",$L$5)","v":""}]
[null,null,null,null,null," 　振込種類",null,null,null,"会社名",null,{"$f":"IF($L$6=\"\",\"\",$L$6)","v":""}]
[null,null,"振込指定日",null,null,{"$f":"IF($F$7=4,\"4シヨウヨ\",IF($F$7=3,\"3キウヨ\",IF($F$7=2,\"2サキフリ\",\"1フリコミ\")))","v":"1フリコミ"},null,null,null," 担当者名",null,{"$f":"IF($L$7=\"\",\"\",$L$7)","v":""}]
[null,null,{"$f":"IF($B$8=\"\",\"平成　　年　　月　　日\",$B$8)","v":"2020-09-01"},null,null,null,null,null,null,"電話番号",null,{"$f":"IF($L$8=\"\",\"\",$L$8)","v":""}]
[]
[null,null,"金 融 機 関 名","科目","口 座 番 号",null,"受　  　　　取 　　 　　人　　　 　　名",null,null,null,null,"　金　　　　　　　額"," 手数料　円",null,"銀行",null,"手数料"]
[null,null,"支　  　店　　  名","目",null,null,"（　カ　タ　カ　ナ　記　入　）",null,null,null,null,"　　　　　　　　　　円","(消費税含）",null,"区分",null,"負担区分"]
[1,null,null,null,null,null,null,null,null,null,null,null,{"$f":"IF(AND(L380>0,ISNUMBER(L380)=TRUE),IF(ISNUMBER(O380)=FALSE,0,INDEX((三万円未満,三万円以上),O380+1,1,IF(L380<30000,1,2))),0)","v":0}]
[]
[2,null,null,null,null,null,null,null,null,null,null,null,{"$f":"IF(AND(L382>0,ISNUMBER(L382)=TRUE),IF(ISNUMBER(O382)=FALSE,0,INDEX((三万円未満,三万円以上),O382+1,1,IF(L382<30000,1,2))),0)","v":0}]
[]
[3,null,null,null,null,null,null,null,null,null,null,null,{"$f":"IF(AND(L384>0,ISNUMBER(L384)=TRUE),IF(ISNUMBER(O384)=FALSE,0,INDEX((三万円未満,三万円以上),O384+1,1,IF(L384<30000,1,2))),0)","v":0}]
[]
[4,null,null,null,null,null,null,null,null,null,null,null,{"$f":"IF(AND(L386>0,ISNUMBER(L386)=TRUE),IF(ISNUMBER(O386)=FALSE,0,INDEX((三万円未満,三万円以上),O386+1,1,IF(L386<30000,1,2))),0)","v":0}]
[]
[5,null,null,null,null,null,null,null,null,null,null,null,{"$f":"IF(AND(L388>0,ISNUMBER(L388)=TRUE),IF(ISNUMBER(O388)=FALSE,0,INDEX((三万円未満,三万円以上),O388+1,1,IF(L388<30000,1,2))),0)","v":0}]
[]
[6,null,null,null,null,null,null,null,null,null,null,null,{"$f":"IF(AND(L390>0,ISNUMBER(L390)=TRUE),IF(ISNUMBER(O390)=FALSE,0,INDEX((三万円未満,三万円以上),O390+1,1,IF(L390<30000,1,2))),0)","v":0}]
[]
[7,null,null,null,null,null,null,null,null,null,null,null,{"$f":"IF(AND(L392>0,ISNUMBER(L392)=TRUE),IF(ISNUMBER(O392)=FALSE,0,INDEX((三万円未満,三万円以上),O392+1,1,IF(L392<30000,1,2))),0)","v":0}]
[]
[8,null,null,null,null,null,null,null,null,null,null,null,{"$f":"IF(AND(L394>0,ISNUMBER(L394)=TRUE),IF(ISNUMBER(O394)=FALSE,0,INDEX((三万円未満,三万円以上),O394+1,1,IF(L394<30000,1,2))),0)","v":0}]
[]
[9,null,null,null,null,null,null,null,null,null,null,null,{"$f":"IF(AND(L396>0,ISNUMBER(L396)=TRUE),IF(ISNUMBER(O396)=FALSE,0,INDEX((三万円未満,三万円以上),O396+1,1,IF(L396<30000,1,2))),0)","v":0}]
[]
[10,null,null,null,null,null,null,null,null,null,null,null,{"$f":"IF(AND(L398>0,ISNUMBER(L398)=TRUE),IF(ISNUMBER(O398)=FALSE,0,INDEX((三万円未満,三万円以上),O398+1,1,IF(L398<30000,1,2))),0)","v":0}]
[]
[11,null,null,null,null,null,null,null,null,null,null,null,{"$f":"IF(AND(L400>0,ISNUMBER(L400)=TRUE),IF(ISNUMBER(O400)=FALSE,0,INDEX((三万円未満,三万円以上),O400+1,1,IF(L400<30000,1,2))),0)","v":0}]
[]
[12,null,null,null,null,null,null,null,null,null,null,null,{"$f":"IF(AND(L402>0,ISNUMBER(L402)=TRUE),IF(ISNUMBER(O402)=FALSE,0,INDEX((三万円未満,三万円以上),O402+1,1,IF(L402<30000,1,2))),0)","v":0}]
[]
[13,null,null,null,null,null,null,null,null,null,null,null,{"$f":"IF(AND(L404>0,ISNUMBER(L404)=TRUE),IF(ISNUMBER(O404)=FALSE,0,INDEX((三万円未満,三万円以上),O404+1,1,IF(L404<30000,1,2))),0)","v":0}]
[]
[14,null,null,null,null,null,null,null,null,null,null,null,{"$f":"IF(AND(L406>0,ISNUMBER(L406)=TRUE),IF(ISNUMBER(O406)=FALSE,0,INDEX((三万円未満,三万円以上),O406+1,1,IF(L406<30000,1,2))),0)","v":0}]
[]
[15,null,null,null,null,null,null,null,null,null,null,null,{"$f":"IF(AND(L408>0,ISNUMBER(L408)=TRUE),IF(ISNUMBER(O408)=FALSE,0,INDEX((三万円未満,三万円以上),O408+1,1,IF(L408<30000,1,2))),0)","v":0}]
[]
["科目",null,"　普　 通 　預　 金　","フ",null,null,null,{"$f":"COUNTIF(L380:L409,\">=1\")","v":0},"件","小計",null,{"$f":"SUM(L380:L409)","v":0},{"$f":"SUM(M380:M409)","v":0}]
[null,null,"　当 　座　 預　 金","ト"]
[null,null,"　貯　 蓄　 預　 金","チ",null,null,null,{"$f":"H366+H410","v":0},"件","合計",null,{"$f":"L410+L366","v":0},{"$f":"M410+M366","v":0}]
[null,null,"　　そ　　の　　他","ソ"]
[]
[null,null,null,null,"振 込 依 頼 書",null,null,null,null,null,null,null,"ページ 10"]
[]
[null,null,null,null,null,null,null,null,null,null,"ご依頼日",{"$f":"$L$3","v":"2020-09-01"},null,null,null,null,"受取人が手数料を負担する場合「１」を入力"]
[null,null,"福島銀行",null,null,null,null,null,null,"お客様番号",null,{"$f":"IF($L$4=\"\",\"\",$L$4)","v":""}]
[null,{"$f":"IF($B$5=0,\"\",$B$5)","v":""},null,null,"御中",null,null,null,null,"依頼人名カナ",null,{"$f":"IF($L$5=\"\",\"\",$L$5)","v":""}]
[null,null,null,null,null," 　振込種類",null,null,null,"会社名",null,{"$f":"IF($L$6=\"\",\"\",$L$6)","v":""}]
[null,null,"振込指定日",null,null,{"$f":"IF($F$7=4,\"4シヨウヨ\",IF($F$7=3,\"3キウヨ\",IF($F$7=2,\"2サキフリ\",\"1フリコミ\")))","v":"1フリコミ"},null,null,null," 担当者名",null,{"$f":"IF($L$7=\"\",\"\",$L$7)","v":""}]
[null,null,{"$f":"IF($B$8=\"\",\"平成　　年　　月　　日\",$B$8)","v":"2020-09-01"},null,null,null,null,null,null,"電話番号",null,{"$f":"IF($L$8=\"\",\"\",$L$8)","v":""}]
[]
[null,null,"金 融 機 関 名","科目","口 座 番 号",null,"受　  　　　取 　　 　　人　　　 　　名",null,null,null,null,"　金　　　　　　　額"," 手数料　円",null,"銀行",null,"手数料"]
[null,null,"支　  　店　　  名","目",null,null,"（　カ　タ　カ　ナ　記　入　）",null,null,null,null,"　　　　　　　　　　円","(消費税含）",null,"区分",null,"負担区分"]
[1,null,null,null,null,null,null,null,null,null,null,null,{"$f":"IF(AND(L426>0,ISNUMBER(L426)=TRUE),IF(ISNUMBER(O426)=FALSE,0,INDEX((三万円未満,三万円以上),O426+1,1,IF(L426<30000,1,2))),0)","v":0}]
[]
[2,null,null,null,null,null,null,null,null,null,null,null,{"$f":"IF(AND(L428>0,ISNUMBER(L428)=TRUE),IF(ISNUMBER(O428)=FALSE,0,INDEX((三万円未満,三万円以上),O428+1,1,IF(L428<30000,1,2))),0)","v":0}]
[]
[3,null,null,null,null,null,null,null,null,null,null,null,{"$f":"IF(AND(L430>0,ISNUMBER(L430)=TRUE),IF(ISNUMBER(O430)=FALSE,0,INDEX((三万円未満,三万円以上),O430+1,1,IF(L430<30000,1,2))),0)","v":0}]
[]
[4,null,null,null,null,null,null,null,null,null,null,null,{"$f":"IF(AND(L432>0,ISNUMBER(L432)=TRUE),IF(ISNUMBER(O432)=FALSE,0,INDEX((三万円未満,三万円以上),O432+1,1,IF(L432<30000,1,2))),0)","v":0}]
[]
[5,null,null,null,null,null,null,null,null,null,null,null,{"$f":"IF(AND(L434>0,ISNUMBER(L434)=TRUE),IF(ISNUMBER(O434)=FALSE,0,INDEX((三万円未満,三万円以上),O434+1,1,IF(L434<30000,1,2))),0)","v":0}]
[]
[6,null,null,null,null,null,null,null,null,null,null,null,{"$f":"IF(AND(L436>0,ISNUMBER(L436)=TRUE),IF(ISNUMBER(O436)=FALSE,0,INDEX((三万円未満,三万円以上),O436+1,1,IF(L436<30000,1,2))),0)","v":0}]
[]
[7,null,null,null,null,null,null,null,null,null,null,null,{"$f":"IF(AND(L438>0,ISNUMBER(L438)=TRUE),IF(ISNUMBER(O438)=FALSE,0,INDEX((三万円未満,三万円以上),O438+1,1,IF(L438<30000,1,2))),0)","v":0}]
[]
[8,null,null,null,null,null,null,null,null,null,null,null,{"$f":"IF(AND(L440>0,ISNUMBER(L440)=TRUE),IF(ISNUMBER(O440)=FALSE,0,INDEX((三万円未満,三万円以上),O440+1,1,IF(L440<30000,1,2))),0)","v":0}]
[]
[9,null,null,null,null,null,null,null,null,null,null,null,{"$f":"IF(AND(L442>0,ISNUMBER(L442)=TRUE),IF(ISNUMBER(O442)=FALSE,0,INDEX((三万円未満,三万円以上),O442+1,1,IF(L442<30000,1,2))),0)","v":0}]
[]
[10,null,null,null,null,null,null,null,null,null,null,null,{"$f":"IF(AND(L444>0,ISNUMBER(L444)=TRUE),IF(ISNUMBER(O444)=FALSE,0,INDEX((三万円未満,三万円以上),O444+1,1,IF(L444<30000,1,2))),0)","v":0}]
[]
[11,null,null,null,null,null,null,null,null,null,null,null,{"$f":"IF(AND(L446>0,ISNUMBER(L446)=TRUE),IF(ISNUMBER(O446)=FALSE,0,INDEX((三万円未満,三万円以上),O446+1,1,IF(L446<30000,1,2))),0)","v":0}]
[]
[12,null,null,null,null,null,null,null,null,null,null,null,{"$f":"IF(AND(L448>0,ISNUMBER(L448)=TRUE),IF(ISNUMBER(O448)=FALSE,0,INDEX((三万円未満,三万円以上),O448+1,1,IF(L448<30000,1,2))),0)","v":0}]
[]
[13,null,null,null,null,null,null,null,null,null,null,null,{"$f":"IF(AND(L450>0,ISNUMBER(L450)=TRUE),IF(ISNUMBER(O450)=FALSE,0,INDEX((三万円未満,三万円以上),O450+1,1,IF(L450<30000,1,2))),0)","v":0}]
[]
[14,null,null,null,null,null,null,null,null,null,null,null,{"$f":"IF(AND(L452>0,ISNUMBER(L452)=TRUE),IF(ISNUMBER(O452)=FALSE,0,INDEX((三万円未満,三万円以上),O452+1,1,IF(L452<30000,1,2))),0)","v":0}]
[]
[15,null,null,null,null,null,null,null,null,null,null,null,{"$f":"IF(AND(L454>0,ISNUMBER(L454)=TRUE),IF(ISNUMBER(O454)=FALSE,0,INDEX((三万円未満,三万円以上),O454+1,1,IF(L454<30000,1,2))),0)","v":0}]
[]
["科目",null,"　普　 通 　預　 金　","フ",null,null,null,{"$f":"COUNTIF(L426:L455,\">=1\")","v":0},"件","小計",null,{"$f":"SUM(L426:L455)","v":0},{"$f":"SUM(M426:M455)","v":0}]
[null,null,"　当 　座　 預　 金","ト"]
[null,null,"　貯　 蓄　 預　 金","チ",null,null,null,{"$f":"H412+H456","v":0},"件","合計",null,{"$f":"L456+L412","v":0},{"$f":"M456+M412","v":0}]
[null,null,"　　そ　　の　　他","ソ"]
[]
[null,null,null,null,"振 込 依 頼 書",null,null,null,null,null,null,null,"ページ 11"]
[]
[null,null,null,null,null,null,null,null,null,null,"ご依頼日",{"$f":"$L$3","v":"2020-09-01"},null,null,null,null,"受取人が手数料を負担する場合「１」を入力"]
[null,null,"福島銀行",null,null,null,null,null,null,"お客様番号",null,{"$f":"IF($L$4=\"\",\"\",$L$4)","v":""}]
[null,{"$f":"IF($B$5=0,\"\",$B$5)","v":""},null,null,"御中",null,null,null,null,"依頼人名カナ",null,{"$f":"IF($L$5=\"\",\"\",$L$5)","v":""}]
[null,null,null,null,null," 　振込種類",null,null,null,"会社名",null,{"$f":"IF($L$6=\"\",\"\",$L$6)","v":""}]
[null,null,"振込指定日",null,null,{"$f":"IF($F$7=4,\"4シヨウヨ\",IF($F$7=3,\"3キウヨ\",IF($F$7=2,\"2サキフリ\",\"1フリコミ\")))","v":"1フリコミ"},null,null,null," 担当者名",null,{"$f":"IF($L$7=\"\",\"\",$L$7)","v":""}]
[null,null,{"$f":"IF($B$8=\"\",\"平成　　年　　月　　日\",$B$8)","v":"2020-09-01"},null,null,null,null,null,null,"電話番号",null,{"$f":"IF($L$8=\"\",\"\",$L$8)","v":""}]
[]
[null,null,"金 融 機 関 名","科目","口 座 番 号",null,"受　  　　　取 　　 　　人　　　 　　名",null,null,null,null,"　金　　　　　　　額"," 手数料　円",null,"銀行",null,"手数料"]
[null,null,"支　  　店　　  名","目",null,null,"（　カ　タ　カ　ナ　記　入　）",null,null,null,null,"　　　　　　　　　　円","(消費税含）",null,"区分",null,"負担区分"]
[1,null,null,null,null,null,null,null,null,null,null,null,{"$f":"IF(AND(L472>0,ISNUMBER(L472)=TRUE),IF(ISNUMBER(O472)=FALSE,0,INDEX((三万円未満,三万円以上),O472+1,1,IF(L472<30000,1,2))),0)","v":0}]
[]
[2,null,null,null,null,null,null,null,null,null,null,null,{"$f":"IF(AND(L474>0,ISNUMBER(L474)=TRUE),IF(ISNUMBER(O474)=FALSE,0,INDEX((三万円未満,三万円以上),O474+1,1,IF(L474<30000,1,2))),0)","v":0}]
[]
[3,null,null,null,null,null,null,null,null,null,null,null,{"$f":"IF(AND(L476>0,ISNUMBER(L476)=TRUE),IF(ISNUMBER(O476)=FALSE,0,INDEX((三万円未満,三万円以上),O476+1,1,IF(L476<30000,1,2))),0)","v":0}]
[]
[4,null,null,null,null,null,null,null,null,null,null,null,{"$f":"IF(AND(L478>0,ISNUMBER(L478)=TRUE),IF(ISNUMBER(O478)=FALSE,0,INDEX((三万円未満,三万円以上),O478+1,1,IF(L478<30000,1,2))),0)","v":0}]
[]
[5,null,null,null,null,null,null,null,null,null,null,null,{"$f":"IF(AND(L480>0,ISNUMBER(L480)=TRUE),IF(ISNUMBER(O480)=FALSE,0,INDEX((三万円未満,三万円以上),O480+1,1,IF(L480<30000,1,2))),0)","v":0}]
[]
[6,null,null,null,null,null,null,null,null,null,null,null,{"$f":"IF(AND(L482>0,ISNUMBER(L482)=TRUE),IF(ISNUMBER(O482)=FALSE,0,INDEX((三万円未満,三万円以上),O482+1,1,IF(L482<30000,1,2))),0)","v":0}]
[]
[7,null,null,null,null,null,null,null,null,null,null,null,{"$f":"IF(AND(L484>0,ISNUMBER(L484)=TRUE),IF(ISNUMBER(O484)=FALSE,0,INDEX((三万円未満,三万円以上),O484+1,1,IF(L484<30000,1,2))),0)","v":0}]
[]
[8,null,null,null,null,null,null,null,null,null,null,null,{"$f":"IF(AND(L486>0,ISNUMBER(L486)=TRUE),IF(ISNUMBER(O486)=FALSE,0,INDEX((三万円未満,三万円以上),O486+1,1,IF(L486<30000,1,2))),0)","v":0}]
[]
[9,null,null,null,null,null,null,null,null,null,null,null,{"$f":"IF(AND(L488>0,ISNUMBER(L488)=TRUE),IF(ISNUMBER(O488)=FALSE,0,INDEX((三万円未満,三万円以上),O488+1,1,IF(L488<30000,1,2))),0)","v":0}]
[]
[10,null,null,null,null,null,null,null,null,null,null,null,{"$f":"IF(AND(L490>0,ISNUMBER(L490)=TRUE),IF(ISNUMBER(O490)=FALSE,0,INDEX((三万円未満,三万円以上),O490+1,1,IF(L490<30000,1,2))),0)","v":0}]
[]
[11,null,null,null,null,null,null,null,null,null,null,null,{"$f":"IF(AND(L492>0,ISNUMBER(L492)=TRUE),IF(ISNUMBER(O492)=FALSE,0,INDEX((三万円未満,三万円以上),O492+1,1,IF(L492<30000,1,2))),0)","v":0}]
[]
[12,null,null,null,null,null,null,null,null,null,null,null,{"$f":"IF(AND(L494>0,ISNUMBER(L494)=TRUE),IF(ISNUMBER(O494)=FALSE,0,INDEX((三万円未満,三万円以上),O494+1,1,IF(L494<30000,1,2))),0)","v":0}]
[]
[13,null,null,null,null,null,null,null,null,null,null,null,{"$f":"IF(AND(L496>0,ISNUMBER(L496)=TRUE),IF(ISNUMBER(O496)=FALSE,0,INDEX((三万円未満,三万円以上),O496+1,1,IF(L496<30000,1,2))),0)","v":0}]
[]
[14,null,null,null,null,null,null,null,null,null,null,null,{"$f":"IF(AND(L498>0,ISNUMBER(L498)=TRUE),IF(ISNUMBER(O498)=FALSE,0,INDEX((三万円未満,三万円以上),O498+1,1,IF(L498<30000,1,2))),0)","v":0}]
[]
[15,null,null,null,null,null,null,null,null,null,null,null,{"$f":"IF(AND(L500>0,ISNUMBER(L500)=TRUE),IF(ISNUMBER(O500)=FALSE,0,INDEX((三万円未満,三万円以上),O500+1,1,IF(L500<30000,1,2))),0)","v":0}]
[]
["科目",null,"　普　 通 　預　 金　","フ",null,null,null,{"$f":"COUNTIF(L472:L501,\">=1\")","v":0},"件","小計",null,{"$f":"SUM(L472:L501)","v":0},{"$f":"SUM(M472:M501)","v":0}]
[null,null,"　当 　座　 預　 金","ト"]
[null,null,"　貯　 蓄　 預　 金","チ",null,null,null,{"$f":"H458+H502","v":0},"件","合計",null,{"$f":"L502+L458","v":0},{"$f":"M502+M458","v":0}]
[null,null,"　　そ　　の　　他","ソ"]
[]
[null,null,null,null,"振 込 依 頼 書",null,null,null,null,null,null,null,"ページ 12"]
[]
[null,null,null,null,null,null,null,null,null,null,"ご依頼日",{"$f":"$L$3","v":"2020-09-01"},null,null,null,null,"受取人が手数料を負担する場合「１」を入力"]
[null,null,"福島銀行",null,null,null,null,null,null,"お客様番号",null,{"$f":"IF($L$4=\"\",\"\",$L$4)","v":""}]
[null,{"$f":"IF($B$5=0,\"\",$B$5)","v":""},null,null,"御中",null,null,null,null,"依頼人名カナ",null,{"$f":"IF($L$5=\"\",\"\",$L$5)","v":""}]
[null,null,null,null,null," 　振込種類",null,null,null,"会社名",null,{"$f":"IF($L$6=\"\",\"\",$L$6)","v":""}]
[null,null,"振込指定日",null,null,{"$f":"IF($F$7=4,\"4シヨウヨ\",IF($F$7=3,\"3キウヨ\",IF($F$7=2,\"2サキフリ\",\"1フリコミ\")))","v":"1フリコミ"},null,null,null," 担当者名",null,{"$f":"IF($L$7=\"\",\"\",$L$7)","v":""}]
[null,null,{"$f":"IF($B$8=\"\",\"平成　　年　　月　　日\",$B$8)","v":"2020-09-01"},null,null,null,null,null,null,"電話番号",null,{"$f":"IF($L$8=\"\",\"\",$L$8)","v":""}]
[]
[null,null,"金 融 機 関 名","科目","口 座 番 号",null,"受　  　　　取 　　 　　人　　　 　　名",null,null,null,null,"　金　　　　　　　額"," 手数料　円",null,"銀行",null,"手数料"]
[null,null,"支　  　店　　  名","目",null,null,"（　カ　タ　カ　ナ　記　入　）",null,null,null,null,"　　　　　　　　　　円","(消費税含）",null,"区分",null,"負担区分"]
[1,null,null,null,null,null,null,null,null,null,null,null,{"$f":"IF(AND(L518>0,ISNUMBER(L518)=TRUE),IF(ISNUMBER(O518)=FALSE,0,INDEX((三万円未満,三万円以上),O518+1,1,IF(L518<30000,1,2))),0)","v":0}]
[]
[2,null,null,null,null,null,null,null,null,null,null,null,{"$f":"IF(AND(L520>0,ISNUMBER(L520)=TRUE),IF(ISNUMBER(O520)=FALSE,0,INDEX((三万円未満,三万円以上),O520+1,1,IF(L520<30000,1,2))),0)","v":0}]
[]
[3,null,null,null,null,null,null,null,null,null,null,null,{"$f":"IF(AND(L522>0,ISNUMBER(L522)=TRUE),IF(ISNUMBER(O522)=FALSE,0,INDEX((三万円未満,三万円以上),O522+1,1,IF(L522<30000,1,2))),0)","v":0}]
[]
[4,null,null,null,null,null,null,null,null,null,null,null,{"$f":"IF(AND(L524>0,ISNUMBER(L524)=TRUE),IF(ISNUMBER(O524)=FALSE,0,INDEX((三万円未満,三万円以上),O524+1,1,IF(L524<30000,1,2))),0)","v":0}]
[]
[5,null,null,null,null,null,null,null,null,null,null,null,{"$f":"IF(AND(L526>0,ISNUMBER(L526)=TRUE),IF(ISNUMBER(O526)=FALSE,0,INDEX((三万円未満,三万円以上),O526+1,1,IF(L526<30000,1,2))),0)","v":0}]
[]
[6,null,null,null,null,null,null,null,null,null,null,null,{"$f":"IF(AND(L528>0,ISNUMBER(L528)=TRUE),IF(ISNUMBER(O528)=FALSE,0,INDEX((三万円未満,三万円以上),O528+1,1,IF(L528<30000,1,2))),0)","v":0}]
[]
[7,null,null,null,null,null,null,null,null,null,null,null,{"$f":"IF(AND(L530>0,ISNUMBER(L530)=TRUE),IF(ISNUMBER(O530)=FALSE,0,INDEX((三万円未満,三万円以上),O530+1,1,IF(L530<30000,1,2))),0)","v":0}]
[]
[8,null,null,null,null,null,null,null,null,null,null,null,{"$f":"IF(AND(L532>0,ISNUMBER(L532)=TRUE),IF(ISNUMBER(O532)=FALSE,0,INDEX((三万円未満,三万円以上),O532+1,1,IF(L532<30000,1,2))),0)","v":0}]
[]
[9,null,null,null,null,null,null,null,null,null,null,null,{"$f":"IF(AND(L534>0,ISNUMBER(L534)=TRUE),IF(ISNUMBER(O534)=FALSE,0,INDEX((三万円未満,三万円以上),O534+1,1,IF(L534<30000,1,2))),0)","v":0}]
[]
[10,null,null,null,null,null,null,null,null,null,null,null,{"$f":"IF(AND(L536>0,ISNUMBER(L536)=TRUE),IF(ISNUMBER(O536)=FALSE,0,INDEX((三万円未満,三万円以上),O536+1,1,IF(L536<30000,1,2))),0)","v":0}]
[]
[11,null,null,null,null,null,null,null,null,null,null,null,{"$f":"IF(AND(L538>0,ISNUMBER(L538)=TRUE),IF(ISNUMBER(O538)=FALSE,0,INDEX((三万円未満,三万円以上),O538+1,1,IF(L538<30000,1,2))),0)","v":0}]
[]
[12,null,null,null,null,null,null,null,null,null,null,null,{"$f":"IF(AND(L540>0,ISNUMBER(L540)=TRUE),IF(ISNUMBER(O540)=FALSE,0,INDEX((三万円未満,三万円以上),O540+1,1,IF(L540<30000,1,2))),0)","v":0}]
[]
[13,null,null,null,null,null,null,null,null,null,null,null,{"$f":"IF(AND(L542>0,ISNUMBER(L542)=TRUE),IF(ISNUMBER(O542)=FALSE,0,INDEX((三万円未満,三万円以上),O542+1,1,IF(L542<30000,1,2))),0)","v":0}]
[]
[14,null,null,null,null,null,null,null,null,null,null,null,{"$f":"IF(AND(L544>0,ISNUMBER(L544)=TRUE),IF(ISNUMBER(O544)=FALSE,0,INDEX((三万円未満,三万円以上),O544+1,1,IF(L544<30000,1,2))),0)","v":0}]
[]
[15,null,null,null,null,null,null,null,null,null,null,null,{"$f":"IF(AND(L546>0,ISNUMBER(L546)=TRUE),IF(ISNUMBER(O546)=FALSE,0,INDEX((三万円未満,三万円以上),O546+1,1,IF(L546<30000,1,2))),0)","v":0}]
[]
["科目",null,"　普　 通 　預　 金　","フ",null,null,null,{"$f":"COUNTIF(L518:L547,\">=1\")","v":0},"件","小計",null,{"$f":"SUM(L518:L547)","v":0},{"$f":"SUM(M518:M547)","v":0}]
[null,null,"　当 　座　 預　 金","ト"]
[null,null,"　貯　 蓄　 預　 金","チ",null,null,null,{"$f":"H504+H548","v":0},"件","合計",null,{"$f":"L548+L504","v":0},{"$f":"M548+M504","v":0}]
[null,null,"　　そ　　の　　他","ソ"]
[]
[null,null,null,null,"振 込 依 頼 書",null,null,null,null,null,null,null,"ページ 13"]
[]
[null,null,null,null,null,null,null,null,null,null,"ご依頼日",{"$f":"$L$3","v":"2020-09-01"},null,null,null,null,"受取人が手数料を負担する場合「１」を入力"]
[null,null,"福島銀行",null,null,null,null,null,null,"お客様番号",null,{"$f":"IF($L$4=\"\",\"\",$L$4)","v":""}]
[null,{"$f":"IF($B$5=0,\"\",$B$5)","v":""},null,null,"御中",null,null,null,null,"依頼人名カナ",null,{"$f":"IF($L$5=\"\",\"\",$L$5)","v":""}]
[null,null,null,null,null," 　振込種類",null,null,null,"会社名",null,{"$f":"IF($L$6=\"\",\"\",$L$6)","v":""}]
[null,null,"振込指定日",null,null,{"$f":"IF($F$7=4,\"4シヨウヨ\",IF($F$7=3,\"3キウヨ\",IF($F$7=2,\"2サキフリ\",\"1フリコミ\")))","v":"1フリコミ"},null,null,null," 担当者名",null,{"$f":"IF($L$7=\"\",\"\",$L$7)","v":""}]
[null,null,{"$f":"IF($B$8=\"\",\"平成　　年　　月　　日\",$B$8)","v":"2020-09-01"},null,null,null,null,null,null,"電話番号",null,{"$f":"IF($L$8=\"\",\"\",$L$8)","v":""}]
[]
[null,null,"金 融 機 関 名","科目","口 座 番 号",null,"受　  　　　取 　　 　　人　　　 　　名",null,null,null,null,"　金　　　　　　　額"," 手数料　円",null,"銀行",null,"手数料"]
[null,null,"支　  　店　　  名","目",null,null,"（　カ　タ　カ　ナ　記　入　）",null,null,null,null,"　　　　　　　　　　円","(消費税含）",null,"区分",null,"負担区分"]
[1,null,null,null,null,null,null,null,null,null,null,null,{"$f":"IF(AND(L564>0,ISNUMBER(L564)=TRUE),IF(ISNUMBER(O564)=FALSE,0,INDEX((三万円未満,三万円以上),O564+1,1,IF(L564<30000,1,2))),0)","v":0}]
[]
[2,null,null,null,null,null,null,null,null,null,null,null,{"$f":"IF(AND(L566>0,ISNUMBER(L566)=TRUE),IF(ISNUMBER(O566)=FALSE,0,INDEX((三万円未満,三万円以上),O566+1,1,IF(L566<30000,1,2))),0)","v":0}]
[]
[3,null,null,null,null,null,null,null,null,null,null,null,{"$f":"IF(AND(L568>0,ISNUMBER(L568)=TRUE),IF(ISNUMBER(O568)=FALSE,0,INDEX((三万円未満,三万円以上),O568+1,1,IF(L568<30000,1,2))),0)","v":0}]
[]
[4,null,null,null,null,null,null,null,null,null,null,null,{"$f":"IF(AND(L570>0,ISNUMBER(L570)=TRUE),IF(ISNUMBER(O570)=FALSE,0,INDEX((三万円未満,三万円以上),O570+1,1,IF(L570<30000,1,2))),0)","v":0}]
[]
[5,null,null,null,null,null,null,null,null,null,null,null,{"$f":"IF(AND(L572>0,ISNUMBER(L572)=TRUE),IF(ISNUMBER(O572)=FALSE,0,INDEX((三万円未満,三万円以上),O572+1,1,IF(L572<30000,1,2))),0)","v":0}]
[]
[6,null,null,null,null,null,null,null,null,null,null,null,{"$f":"IF(AND(L574>0,ISNUMBER(L574)=TRUE),IF(ISNUMBER(O574)=FALSE,0,INDEX((三万円未満,三万円以上),O574+1,1,IF(L574<30000,1,2))),0)","v":0}]
[]
[7,null,null,null,null,null,null,null,null,null,null,null,{"$f":"IF(AND(L576>0,ISNUMBER(L576)=TRUE),IF(ISNUMBER(O576)=FALSE,0,INDEX((三万円未満,三万円以上),O576+1,1,IF(L576<30000,1,2))),0)","v":0}]
[]
[8,null,null,null,null,null,null,null,null,null,null,null,{"$f":"IF(AND(L578>0,ISNUMBER(L578)=TRUE),IF(ISNUMBER(O578)=FALSE,0,INDEX((三万円未満,三万円以上),O578+1,1,IF(L578<30000,1,2))),0)","v":0}]
[]
[9,null,null,null,null,null,null,null,null,null,null,null,{"$f":"IF(AND(L580>0,ISNUMBER(L580)=TRUE),IF(ISNUMBER(O580)=FALSE,0,INDEX((三万円未満,三万円以上),O580+1,1,IF(L580<30000,1,2))),0)","v":0}]
[]
[10,null,null,null,null,null,null,null,null,null,null,null,{"$f":"IF(AND(L582>0,ISNUMBER(L582)=TRUE),IF(ISNUMBER(O582)=FALSE,0,INDEX((三万円未満,三万円以上),O582+1,1,IF(L582<30000,1,2))),0)","v":0}]
[]
[11,null,null,null,null,null,null,null,null,null,null,null,{"$f":"IF(AND(L584>0,ISNUMBER(L584)=TRUE),IF(ISNUMBER(O584)=FALSE,0,INDEX((三万円未満,三万円以上),O584+1,1,IF(L584<30000,1,2))),0)","v":0}]
[]
[12,null,null,null,null,null,null,null,null,null,null,null,{"$f":"IF(AND(L586>0,ISNUMBER(L586)=TRUE),IF(ISNUMBER(O586)=FALSE,0,INDEX((三万円未満,三万円以上),O586+1,1,IF(L586<30000,1,2))),0)","v":0}]
[]
[13,null,null,null,null,null,null,null,null,null,null,null,{"$f":"IF(AND(L588>0,ISNUMBER(L588)=TRUE),IF(ISNUMBER(O588)=FALSE,0,INDEX((三万円未満,三万円以上),O588+1,1,IF(L588<30000,1,2))),0)","v":0}]
[]
[14,null,null,null,null,null,null,null,null,null,null,null,{"$f":"IF(AND(L590>0,ISNUMBER(L590)=TRUE),IF(ISNUMBER(O590)=FALSE,0,INDEX((三万円未満,三万円以上),O590+1,1,IF(L590<30000,1,2))),0)","v":0}]
[]
[15,null,null,null,null,null,null,null,null,null,null,null,{"$f":"IF(AND(L592>0,ISNUMBER(L592)=TRUE),IF(ISNUMBER(O592)=FALSE,0,INDEX((三万円未満,三万円以上),O592+1,1,IF(L592<30000,1,2))),0)","v":0}]
[]
["科目",null,"　普　 通 　預　 金　","フ",null,null,null,{"$f":"COUNTIF(L564:L593,\">=1\")","v":0},"件","小計",null,{"$f":"SUM(L564:L593)","v":0},{"$f":"SUM(M564:M593)","v":0}]
[null,null,"　当 　座　 預　 金","ト"]
[null,null,"　貯　 蓄　 預　 金","チ",null,null,null,{"$f":"H550+H594","v":0},"件","合計",null,{"$f":"L594+L550","v":0},{"$f":"M594+M550","v":0}]
[null,null,"　　そ　　の　　他","ソ"]
[]
[null,null,null,null,"振 込 依 頼 書",null,null,null,null,null,null,null,"ページ 14"]
[]
[null,null,null,null,null,null,null,null,null,null,"ご依頼日",{"$f":"$L$3","v":"2020-09-01"},null,null,null,null,"受取人が手数料を負担する場合「１」を入力"]
[null,null,"福島銀行",null,null,null,null,null,null,"お客様番号",null,{"$f":"IF($L$4=\"\",\"\",$L$4)","v":""}]
[null,{"$f":"IF($B$5=0,\"\",$B$5)","v":""},null,null,"御中",null,null,null,null,"依頼人名カナ",null,{"$f":"IF($L$5=\"\",\"\",$L$5)","v":""}]
[null,null,null,null,null," 　振込種類",null,null,null,"会社名",null,{"$f":"IF($L$6=\"\",\"\",$L$6)","v":""}]
[null,null,"振込指定日",null,null,{"$f":"IF($F$7=4,\"4シヨウヨ\",IF($F$7=3,\"3キウヨ\",IF($F$7=2,\"2サキフリ\",\"1フリコミ\")))","v":"1フリコミ"},null,null,null," 担当者名",null,{"$f":"IF($L$7=\"\",\"\",$L$7)","v":""}]
[null,null,{"$f":"IF($B$8=\"\",\"平成　　年　　月　　日\",$B$8)","v":"2020-09-01"},null,null,null,null,null,null,"電話番号",null,{"$f":"IF($L$8=\"\",\"\",$L$8)","v":""}]
[]
[null,null,"金 融 機 関 名","科目","口 座 番 号",null,"受　  　　　取 　　 　　人　　　 　　名",null,null,null,null,"　金　　　　　　　額"," 手数料　円",null,"銀行",null,"手数料"]
[null,null,"支　  　店　　  名","目",null,null,"（　カ　タ　カ　ナ　記　入　）",null,null,null,null,"　　　　　　　　　　円","(消費税含）",null,"区分",null,"負担区分"]
[1,null,null,null,null,null,null,null,null,null,null,null,{"$f":"IF(AND(L610>0,ISNUMBER(L610)=TRUE),IF(ISNUMBER(O610)=FALSE,0,INDEX((三万円未満,三万円以上),O610+1,1,IF(L610<30000,1,2))),0)","v":0}]
[]
[2,null,null,null,null,null,null,null,null,null,null,null,{"$f":"IF(AND(L612>0,ISNUMBER(L612)=TRUE),IF(ISNUMBER(O612)=FALSE,0,INDEX((三万円未満,三万円以上),O612+1,1,IF(L612<30000,1,2))),0)","v":0}]
[]
[3,null,null,null,null,null,null,null,null,null,null,null,{"$f":"IF(AND(L614>0,ISNUMBER(L614)=TRUE),IF(ISNUMBER(O614)=FALSE,0,INDEX((三万円未満,三万円以上),O614+1,1,IF(L614<30000,1,2))),0)","v":0}]
[]
[4,null,null,null,null,null,null,null,null,null,null,null,{"$f":"IF(AND(L616>0,ISNUMBER(L616)=TRUE),IF(ISNUMBER(O616)=FALSE,0,INDEX((三万円未満,三万円以上),O616+1,1,IF(L616<30000,1,2))),0)","v":0}]
[]
[5,null,null,null,null,null,null,null,null,null,null,null,{"$f":"IF(AND(L618>0,ISNUMBER(L618)=TRUE),IF(ISNUMBER(O618)=FALSE,0,INDEX((三万円未満,三万円以上),O618+1,1,IF(L618<30000,1,2))),0)","v":0}]
[]
[6,null,null,null,null,null,null,null,null,null,null,null,{"$f":"IF(AND(L620>0,ISNUMBER(L620)=TRUE),IF(ISNUMBER(O620)=FALSE,0,INDEX((三万円未満,三万円以上),O620+1,1,IF(L620<30000,1,2))),0)","v":0}]
[]
[7,null,null,null,null,null,null,null,null,null,null,null,{"$f":"IF(AND(L622>0,ISNUMBER(L622)=TRUE),IF(ISNUMBER(O622)=FALSE,0,INDEX((三万円未満,三万円以上),O622+1,1,IF(L622<30000,1,2))),0)","v":0}]
[]
[8,null,null,null,null,null,null,null,null,null,null,null,{"$f":"IF(AND(L624>0,ISNUMBER(L624)=TRUE),IF(ISNUMBER(O624)=FALSE,0,INDEX((三万円未満,三万円以上),O624+1,1,IF(L624<30000,1,2))),0)","v":0}]
[]
[9,null,null,null,null,null,null,null,null,null,null,null,{"$f":"IF(AND(L626>0,ISNUMBER(L626)=TRUE),IF(ISNUMBER(O626)=FALSE,0,INDEX((三万円未満,三万円以上),O626+1,1,IF(L626<30000,1,2))),0)","v":0}]
[]
[10,null,null,null,null,null,null,null,null,null,null,null,{"$f":"IF(AND(L628>0,ISNUMBER(L628)=TRUE),IF(ISNUMBER(O628)=FALSE,0,INDEX((三万円未満,三万円以上),O628+1,1,IF(L628<30000,1,2))),0)","v":0}]
[]
[11,null,null,null,null,null,null,null,null,null,null,null,{"$f":"IF(AND(L630>0,ISNUMBER(L630)=TRUE),IF(ISNUMBER(O630)=FALSE,0,INDEX((三万円未満,三万円以上),O630+1,1,IF(L630<30000,1,2))),0)","v":0}]
[]
[12,null,null,null,null,null,null,null,null,null,null,null,{"$f":"IF(AND(L632>0,ISNUMBER(L632)=TRUE),IF(ISNUMBER(O632)=FALSE,0,INDEX((三万円未満,三万円以上),O632+1,1,IF(L632<30000,1,2))),0)","v":0}]
[]
[13,null,null,null,null,null,null,null,null,null,null,null,{"$f":"IF(AND(L634>0,ISNUMBER(L634)=TRUE),IF(ISNUMBER(O634)=FALSE,0,INDEX((三万円未満,三万円以上),O634+1,1,IF(L634<30000,1,2))),0)","v":0}]
[]
[14,null,null,null,null,null,null,null,null,null,null,null,{"$f":"IF(AND(L636>0,ISNUMBER(L636)=TRUE),IF(ISNUMBER(O636)=FALSE,0,INDEX((三万円未満,三万円以上),O636+1,1,IF(L636<30000,1,2))),0)","v":0}]
[]
[15,null,null,null,null,null,null,null,null,null,null,null,{"$f":"IF(AND(L638>0,ISNUMBER(L638)=TRUE),IF(ISNUMBER(O638)=FALSE,0,INDEX((三万円未満,三万円以上),O638+1,1,IF(L638<30000,1,2))),0)","v":0}]
[]
["科目",null,"　普　 通 　預　 金　","フ",null,null,null,{"$f":"COUNTIF(L610:L639,\">=1\")","v":0},"件","小計",null,{"$f":"SUM(L610:L639)","v":0},{"$f":"SUM(M610:M639)","v":0}]
[null,null,"　当 　座　 預　 金","ト"]
[null,null,"　貯　 蓄　 預　 金","チ",null,null,null,{"$f":"H596+H640","v":0},"件","合計",null,{"$f":"L640+L596","v":0},{"$f":"M640+M596","v":0}]
[null,null,"　　そ　　の　　他","ソ"]
[]
[null,null,null,null,"振 込 依 頼 書",null,null,null,null,null,null,null,"ページ 15"]
[]
[null,null,null,null,null,null,null,null,null,null,"ご依頼日",{"$f":"$L$3","v":"2020-09-01"},null,null,null,null,"受取人が手数料を負担する場合「１」を入力"]
[null,null,"福島銀行",null,null,null,null,null,null,"お客様番号",null,{"$f":"IF($L$4=\"\",\"\",$L$4)","v":""}]
[null,{"$f":"IF($B$5=0,\"\",$B$5)","v":""},null,null,"御中",null,null,null,null,"依頼人名カナ",null,{"$f":"IF($L$5=\"\",\"\",$L$5)","v":""}]
[null,null,null,null,null," 　振込種類",null,null,null,"会社名",null,{"$f":"IF($L$6=\"\",\"\",$L$6)","v":""}]
[null,null,"振込指定日",null,null,{"$f":"IF($F$7=4,\"4シヨウヨ\",IF($F$7=3,\"3キウヨ\",IF($F$7=2,\"2サキフリ\",\"1フリコミ\")))","v":"1フリコミ"},null,null,null," 担当者名",null,{"$f":"IF($L$7=\"\",\"\",$L$7)","v":""}]
[null,null,{"$f":"IF($B$8=\"\",\"平成　　年　　月　　日\",$B$8)","v":"2020-09-01"},null,null,null,null,null,null,"電話番号",null,{"$f":"IF($L$8=\"\",\"\",$L$8)","v":""}]
[]
[null,null,"金 融 機 関 名","科目","口 座 番 号",null,"受　  　　　取 　　 　　人　　　 　　名",null,null,null,null,"　金　　　　　　　額"," 手数料　円",null,"銀行",null,"手数料"]
[null,null,"支　  　店　　  名","目",null,null,"（　カ　タ　カ　ナ　記　入　）",null,null,null,null,"　　　　　　　　　　円","(消費税含）",null,"区分",null,"負担区分"]
[1,null,null,null,null,null,null,null,null,null,null,null,{"$f":"IF(AND(L656>0,ISNUMBER(L656)=TRUE),IF(ISNUMBER(O656)=FALSE,0,INDEX((三万円未満,三万円以上),O656+1,1,IF(L656<30000,1,2))),0)","v":0}]
[]
[2,null,null,null,null,null,null,null,null,null,null,null,{"$f":"IF(AND(L658>0,ISNUMBER(L658)=TRUE),IF(ISNUMBER(O658)=FALSE,0,INDEX((三万円未満,三万円以上),O658+1,1,IF(L658<30000,1,2))),0)","v":0}]
[]
[3,null,null,null,null,null,null,null,null,null,null,null,{"$f":"IF(AND(L660>0,ISNUMBER(L660)=TRUE),IF(ISNUMBER(O660)=FALSE,0,INDEX((三万円未満,三万円以上),O660+1,1,IF(L660<30000,1,2))),0)","v":0}]
[]
[4,null,null,null,null,null,null,null,null,null,null,null,{"$f":"IF(AND(L662>0,ISNUMBER(L662)=TRUE),IF(ISNUMBER(O662)=FALSE,0,INDEX((三万円未満,三万円以上),O662+1,1,IF(L662<30000,1,2))),0)","v":0}]
[]
[5,null,null,null,null,null,null,null,null,null,null,null,{"$f":"IF(AND(L664>0,ISNUMBER(L664)=TRUE),IF(ISNUMBER(O664)=FALSE,0,INDEX((三万円未満,三万円以上),O664+1,1,IF(L664<30000,1,2))),0)","v":0}]
[]
[6,null,null,null,null,null,null,null,null,null,null,null,{"$f":"IF(AND(L666>0,ISNUMBER(L666)=TRUE),IF(ISNUMBER(O666)=FALSE,0,INDEX((三万円未満,三万円以上),O666+1,1,IF(L666<30000,1,2))),0)","v":0}]
[]
[7,null,null,null,null,null,null,null,null,null,null,null,{"$f":"IF(AND(L668>0,ISNUMBER(L668)=TRUE),IF(ISNUMBER(O668)=FALSE,0,INDEX((三万円未満,三万円以上),O668+1,1,IF(L668<30000,1,2))),0)","v":0}]
[]
[8,null,null,null,null,null,null,null,null,null,null,null,{"$f":"IF(AND(L670>0,ISNUMBER(L670)=TRUE),IF(ISNUMBER(O670)=FALSE,0,INDEX((三万円未満,三万円以上),O670+1,1,IF(L670<30000,1,2))),0)","v":0}]
[]
[9,null,null,null,null,null,null,null,null,null,null,null,{"$f":"IF(AND(L672>0,ISNUMBER(L672)=TRUE),IF(ISNUMBER(O672)=FALSE,0,INDEX((三万円未満,三万円以上),O672+1,1,IF(L672<30000,1,2))),0)","v":0}]
[]
[10,null,null,null,null,null,null,null,null,null,null,null,{"$f":"IF(AND(L674>0,ISNUMBER(L674)=TRUE),IF(ISNUMBER(O674)=FALSE,0,INDEX((三万円未満,三万円以上),O674+1,1,IF(L674<30000,1,2))),0)","v":0}]
[]
[11,null,null,null,null,null,null,null,null,null,null,null,{"$f":"IF(AND(L676>0,ISNUMBER(L676)=TRUE),IF(ISNUMBER(O676)=FALSE,0,INDEX((三万円未満,三万円以上),O676+1,1,IF(L676<30000,1,2))),0)","v":0}]
[]
[12,null,null,null,null,null,null,null,null,null,null,null,{"$f":"IF(AND(L678>0,ISNUMBER(L678)=TRUE),IF(ISNUMBER(O678)=FALSE,0,INDEX((三万円未満,三万円以上),O678+1,1,IF(L678<30000,1,2))),0)","v":0}]
[]
[13,null,null,null,null,null,null,null,null,null,null,null,{"$f":"IF(AND(L680>0,ISNUMBER(L680)=TRUE),IF(ISNUMBER(O680)=FALSE,0,INDEX((三万円未満,三万円以上),O680+1,1,IF(L680<30000,1,2))),0)","v":0}]
[]
[14,null,null,null,null,null,null,null,null,null,null,null,{"$f":"IF(AND(L682>0,ISNUMBER(L682)=TRUE),IF(ISNUMBER(O682)=FALSE,0,INDEX((三万円未満,三万円以上),O682+1,1,IF(L682<30000,1,2))),0)","v":0}]
[]
[15,null,null,null,null,null,null,null,null,null,null,null,{"$f":"IF(AND(L684>0,ISNUMBER(L684)=TRUE),IF(ISNUMBER(O684)=FALSE,0,INDEX((三万円未満,三万円以上),O684+1,1,IF(L684<30000,1,2))),0)","v":0}]
[]
["科目",null,"　普　 通 　預　 金　","フ",null,null,null,{"$f":"COUNTIF(L656:L685,\">=1\")","v":0},"件","小計",null,{"$f":"SUM(L656:L685)","v":0},{"$f":"SUM(M656:M685)","v":0}]
[null,null,"　当 　座　 預　 金","ト"]
[null,null,"　貯　 蓄　 預　 金","チ",null,null,null,{"$f":"H642+H686","v":0},"件","合計",null,{"$f":"L686+L642","v":0},{"$f":"M686+M642","v":0}]
[null,null,"　　そ　　の　　他","ソ"]
[]
[null,null,null,null,"振 込 依 頼 書",null,null,null,null,null,null,null,"ページ 16"]
[]
[null,null,null,null,null,null,null,null,null,null,"ご依頼日",{"$f":"$L$3","v":"2020-09-01"},null,null,null,null,"受取人が手数料を負担する場合「１」を入力"]
[null,null,"福島銀行",null,null,null,null,null,null,"お客様番号",null,{"$f":"IF($L$4=\"\",\"\",$L$4)","v":""}]
[null,{"$f":"IF($B$5=0,\"\",$B$5)","v":""},null,null,"御中",null,null,null,null,"依頼人名カナ",null,{"$f":"IF($L$5=\"\",\"\",$L$5)","v":""}]
[null,null,null,null,null," 　振込種類",null,null,null,"会社名",null,{"$f":"IF($L$6=\"\",\"\",$L$6)","v":""}]
[null,null,"振込指定日",null,null,{"$f":"IF($F$7=4,\"4シヨウヨ\",IF($F$7=3,\"3キウヨ\",IF($F$7=2,\"2サキフリ\",\"1フリコミ\")))","v":"1フリコミ"},null,null,null," 担当者名",null,{"$f":"IF($L$7=\"\",\"\",$L$7)","v":""}]
[null,null,{"$f":"IF($B$8=\"\",\"平成　　年　　月　　日\",$B$8)","v":"2020-09-01"},null,null,null,null,null,null,"電話番号",null,{"$f":"IF($L$8=\"\",\"\",$L$8)","v":""}]
[]
[null,null,"金 融 機 関 名","科目","口 座 番 号",null,"受　  　　　取 　　 　　人　　　 　　名",null,null,null,null,"　金　　　　　　　額"," 手数料　円",null,"銀行",null,"手数料"]
[null,null,"支　  　店　　  名","目",null,null,"（　カ　タ　カ　ナ　記　入　）",null,null,null,null,"　　　　　　　　　　円","(消費税含）",null,"区分",null,"負担区分"]
[1,null,null,null,null,null,null,null,null,null,null,null,{"$f":"IF(AND(L702>0,ISNUMBER(L702)=TRUE),IF(ISNUMBER(O702)=FALSE,0,INDEX((三万円未満,三万円以上),O702+1,1,IF(L702<30000,1,2))),0)","v":0}]
[]
[2,null,null,null,null,null,null,null,null,null,null,null,{"$f":"IF(AND(L704>0,ISNUMBER(L704)=TRUE),IF(ISNUMBER(O704)=FALSE,0,INDEX((三万円未満,三万円以上),O704+1,1,IF(L704<30000,1,2))),0)","v":0}]
[]
[3,null,null,null,null,null,null,null,null,null,null,null,{"$f":"IF(AND(L706>0,ISNUMBER(L706)=TRUE),IF(ISNUMBER(O706)=FALSE,0,INDEX((三万円未満,三万円以上),O706+1,1,IF(L706<30000,1,2))),0)","v":0}]
[]
[4,null,null,null,null,null,null,null,null,null,null,null,{"$f":"IF(AND(L708>0,ISNUMBER(L708)=TRUE),IF(ISNUMBER(O708)=FALSE,0,INDEX((三万円未満,三万円以上),O708+1,1,IF(L708<30000,1,2))),0)","v":0}]
[]
[5,null,null,null,null,null,null,null,null,null,null,null,{"$f":"IF(AND(L710>0,ISNUMBER(L710)=TRUE),IF(ISNUMBER(O710)=FALSE,0,INDEX((三万円未満,三万円以上),O710+1,1,IF(L710<30000,1,2))),0)","v":0}]
[]
[6,null,null,null,null,null,null,null,null,null,null,null,{"$f":"IF(AND(L712>0,ISNUMBER(L712)=TRUE),IF(ISNUMBER(O712)=FALSE,0,INDEX((三万円未満,三万円以上),O712+1,1,IF(L712<30000,1,2))),0)","v":0}]
[]
[7,null,null,null,null,null,null,null,null,null,null,null,{"$f":"IF(AND(L714>0,ISNUMBER(L714)=TRUE),IF(ISNUMBER(O714)=FALSE,0,INDEX((三万円未満,三万円以上),O714+1,1,IF(L714<30000,1,2))),0)","v":0}]
[]
[8,null,null,null,null,null,null,null,null,null,null,null,{"$f":"IF(AND(L716>0,ISNUMBER(L716)=TRUE),IF(ISNUMBER(O716)=FALSE,0,INDEX((三万円未満,三万円以上),O716+1,1,IF(L716<30000,1,2))),0)","v":0}]
[]
[9,null,null,null,null,null,null,null,null,null,null,null,{"$f":"IF(AND(L718>0,ISNUMBER(L718)=TRUE),IF(ISNUMBER(O718)=FALSE,0,INDEX((三万円未満,三万円以上),O718+1,1,IF(L718<30000,1,2))),0)","v":0}]
[]
[10,null,null,null,null,null,null,null,null,null,null,null,{"$f":"IF(AND(L720>0,ISNUMBER(L720)=TRUE),IF(ISNUMBER(O720)=FALSE,0,INDEX((三万円未満,三万円以上),O720+1,1,IF(L720<30000,1,2))),0)","v":0}]
[]
[11,null,null,null,null,null,null,null,null,null,null,null,{"$f":"IF(AND(L722>0,ISNUMBER(L722)=TRUE),IF(ISNUMBER(O722)=FALSE,0,INDEX((三万円未満,三万円以上),O722+1,1,IF(L722<30000,1,2))),0)","v":0}]
[]
[12,null,null,null,null,null,null,null,null,null,null,null,{"$f":"IF(AND(L724>0,ISNUMBER(L724)=TRUE),IF(ISNUMBER(O724)=FALSE,0,INDEX((三万円未満,三万円以上),O724+1,1,IF(L724<30000,1,2))),0)","v":0}]
[]
[13,null,null,null,null,null,null,null,null,null,null,null,{"$f":"IF(AND(L726>0,ISNUMBER(L726)=TRUE),IF(ISNUMBER(O726)=FALSE,0,INDEX((三万円未満,三万円以上),O726+1,1,IF(L726<30000,1,2))),0)","v":0}]
[]
[14,null,null,null,null,null,null,null,null,null,null,null,{"$f":"IF(AND(L728>0,ISNUMBER(L728)=TRUE),IF(ISNUMBER(O728)=FALSE,0,INDEX((三万円未満,三万円以上),O728+1,1,IF(L728<30000,1,2))),0)","v":0}]
[]
[15,null,null,null,null,null,null,null,null,null,null,null,{"$f":"IF(AND(L730>0,ISNUMBER(L730)=TRUE),IF(ISNUMBER(O730)=FALSE,0,INDEX((三万円未満,三万円以上),O730+1,1,IF(L730<30000,1,2))),0)","v":0}]
[]
["科目",null,"　普　 通 　預　 金　","フ",null,null,null,{"$f":"COUNTIF(L702:L731,\">=1\")","v":0},"件","小計",null,{"$f":"SUM(L702:L731)","v":0},{"$f":"SUM(M702:M731)","v":0}]
[null,null,"　当 　座　 預　 金","ト"]
[null,null,"　貯　 蓄　 預　 金","チ",null,null,null,{"$f":"H688+H732","v":0},"件","合計",null,{"$f":"L732+L688","v":0},{"$f":"M732+M688","v":0}]
[null,null,"　　そ　　の　　他","ソ"]
[]
[null,null,null,null,"振 込 依 頼 書",null,null,null,null,null,null,null,"ページ 17"]
[]
[null,null,null,null,null,null,null,null,null,null,"ご依頼日",{"$f":"$L$3","v":"2020-09-01"},null,null,null,null,"受取人が手数料を負担する場合「１」を入力"]
[null,null,"福島銀行",null,null,null,null,null,null,"お客様番号",null,{"$f":"IF($L$4=\"\",\"\",$L$4)","v":""}]
[null,{"$f":"IF($B$5=0,\"\",$B$5)","v":""},null,null,"御中",null,null,null,null,"依頼人名カナ",null,{"$f":"IF($L$5=\"\",\"\",$L$5)","v":""}]
[null,null,null,null,null," 　振込種類",null,null,null,"会社名",null,{"$f":"IF($L$6=\"\",\"\",$L$6)","v":""}]
[null,null,"振込指定日",null,null,{"$f":"IF($F$7=4,\"4シヨウヨ\",IF($F$7=3,\"3キウヨ\",IF($F$7=2,\"2サキフリ\",\"1フリコミ\")))","v":"1フリコミ"},null,null,null," 担当者名",null,{"$f":"IF($L$7=\"\",\"\",$L$7)","v":""}]
[null,null,{"$f":"IF($B$8=\"\",\"平成　　年　　月　　日\",$B$8)","v":"2020-09-01"},null,null,null,null,null,null,"電話番号",null,{"$f":"IF($L$8=\"\",\"\",$L$8)","v":""}]
[]
[null,null,"金 融 機 関 名","科目","口 座 番 号",null,"受　  　　　取 　　 　　人　　　 　　名",null,null,null,null,"　金　　　　　　　額"," 手数料　円",null,"銀行",null,"手数料"]
[null,null,"支　  　店　　  名","目",null,null,"（　カ　タ　カ　ナ　記　入　）",null,null,null,null,"　　　　　　　　　　円","(消費税含）",null,"区分",null,"負担区分"]
[1,null,null,null,null,null,null,null,null,null,null,null,{"$f":"IF(AND(L748>0,ISNUMBER(L748)=TRUE),IF(ISNUMBER(O748)=FALSE,0,INDEX((三万円未満,三万円以上),O748+1,1,IF(L748<30000,1,2))),0)","v":0}]
[]
[2,null,null,null,null,null,null,null,null,null,null,null,{"$f":"IF(AND(L750>0,ISNUMBER(L750)=TRUE),IF(ISNUMBER(O750)=FALSE,0,INDEX((三万円未満,三万円以上),O750+1,1,IF(L750<30000,1,2))),0)","v":0}]
[]
[3,null,null,null,null,null,null,null,null,null,null,null,{"$f":"IF(AND(L752>0,ISNUMBER(L752)=TRUE),IF(ISNUMBER(O752)=FALSE,0,INDEX((三万円未満,三万円以上),O752+1,1,IF(L752<30000,1,2))),0)","v":0}]
[]
[4,null,null,null,null,null,null,null,null,null,null,null,{"$f":"IF(AND(L754>0,ISNUMBER(L754)=TRUE),IF(ISNUMBER(O754)=FALSE,0,INDEX((三万円未満,三万円以上),O754+1,1,IF(L754<30000,1,2))),0)","v":0}]
[]
[5,null,null,null,null,null,null,null,null,null,null,null,{"$f":"IF(AND(L756>0,ISNUMBER(L756)=TRUE),IF(ISNUMBER(O756)=FALSE,0,INDEX((三万円未満,三万円以上),O756+1,1,IF(L756<30000,1,2))),0)","v":0}]
[]
[6,null,null,null,null,null,null,null,null,null,null,null,{"$f":"IF(AND(L758>0,ISNUMBER(L758)=TRUE),IF(ISNUMBER(O758)=FALSE,0,INDEX((三万円未満,三万円以上),O758+1,1,IF(L758<30000,1,2))),0)","v":0}]
[]
[7,null,null,null,null,null,null,null,null,null,null,null,{"$f":"IF(AND(L760>0,ISNUMBER(L760)=TRUE),IF(ISNUMBER(O760)=FALSE,0,INDEX((三万円未満,三万円以上),O760+1,1,IF(L760<30000,1,2))),0)","v":0}]
[]
[8,null,null,null,null,null,null,null,null,null,null,null,{"$f":"IF(AND(L762>0,ISNUMBER(L762)=TRUE),IF(ISNUMBER(O762)=FALSE,0,INDEX((三万円未満,三万円以上),O762+1,1,IF(L762<30000,1,2))),0)","v":0}]
[]
[9,null,null,null,null,null,null,null,null,null,null,null,{"$f":"IF(AND(L764>0,ISNUMBER(L764)=TRUE),IF(ISNUMBER(O764)=FALSE,0,INDEX((三万円未満,三万円以上),O764+1,1,IF(L764<30000,1,2))),0)","v":0}]
[]
[10,null,null,null,null,null,null,null,null,null,null,null,{"$f":"IF(AND(L766>0,ISNUMBER(L766)=TRUE),IF(ISNUMBER(O766)=FALSE,0,INDEX((三万円未満,三万円以上),O766+1,1,IF(L766<30000,1,2))),0)","v":0}]
[]
[11,null,null,null,null,null,null,null,null,null,null,null,{"$f":"IF(AND(L768>0,ISNUMBER(L768)=TRUE),IF(ISNUMBER(O768)=FALSE,0,INDEX((三万円未満,三万円以上),O768+1,1,IF(L768<30000,1,2))),0)","v":0}]
[]
[12,null,null,null,null,null,null,null,null,null,null,null,{"$f":"IF(AND(L770>0,ISNUMBER(L770)=TRUE),IF(ISNUMBER(O770)=FALSE,0,INDEX((三万円未満,三万円以上),O770+1,1,IF(L770<30000,1,2))),0)","v":0}]
[]
[13,null,null,null,null,null,null,null,null,null,null,null,{"$f":"IF(AND(L772>0,ISNUMBER(L772)=TRUE),IF(ISNUMBER(O772)=FALSE,0,INDEX((三万円未満,三万円以上),O772+1,1,IF(L772<30000,1,2))),0)","v":0}]
[]
[14,null,null,null,null,null,null,null,null,null,null,null,{"$f":"IF(AND(L774>0,ISNUMBER(L774)=TRUE),IF(ISNUMBER(O774)=FALSE,0,INDEX((三万円未満,三万円以上),O774+1,1,IF(L774<30000,1,2))),0)","v":0}]
[]
[15,null,null,null,null,null,null,null,null,null,null,null,{"$f":"IF(AND(L776>0,ISNUMBER(L776)=TRUE),IF(ISNUMBER(O776)=FALSE,0,INDEX((三万円未満,三万円以上),O776+1,1,IF(L776<30000,1,2))),0)","v":0}]
[]
["科目",null,"　普　 通 　預　 金　","フ",null,null,null,{"$f":"COUNTIF(L748:L777,\">=1\")","v":0},"件","小計",null,{"$f":"SUM(L748:L777)","v":0},{"$f":"SUM(M748:M777)","v":0}]
[null,null,"　当 　座　 預　 金","ト"]
[null,null,"　貯　 蓄　 預　 金","チ",null,null,null,{"$f":"H734+H778","v":0},"件","合計",null,{"$f":"L778+L734","v":0},{"$f":"M778+M734","v":0}]
[null,null,"　　そ　　の　　他","ソ"]
[]
[null,null,null,null,"振 込 依 頼 書",null,null,null,null,null,null,null,"ページ 18"]
[]
[null,null,null,null,null,null,null,null,null,null,"ご依頼日",{"$f":"$L$3","v":"2020-09-01"},null,null,null,null,"受取人が手数料を負担する場合「１」を入力"]
[null,null,"福島銀行",null,null,null,null,null,null,"お客様番号",null,{"$f":"IF($L$4=\"\",\"\",$L$4)","v":""}]
[null,{"$f":"IF($B$5=0,\"\",$B$5)","v":""},null,null,"御中",null,null,null,null,"依頼人名カナ",null,{"$f":"IF($L$5=\"\",\"\",$L$5)","v":""}]
[null,null,null,null,null," 　振込種類",null,null,null,"会社名",null,{"$f":"IF($L$6=\"\",\"\",$L$6)","v":""}]
[null,null,"振込指定日",null,null,{"$f":"IF($F$7=4,\"4シヨウヨ\",IF($F$7=3,\"3キウヨ\",IF($F$7=2,\"2サキフリ\",\"1フリコミ\")))","v":"1フリコミ"},null,null,null," 担当者名",null,{"$f":"IF($L$7=\"\",\"\",$L$7)","v":""}]
[null,null,{"$f":"IF($B$8=\"\",\"平成　　年　　月　　日\",$B$8)","v":"2020-09-01"},null,null,null,null,null,null,"電話番号",null,{"$f":"IF($L$8=\"\",\"\",$L$8)","v":""}]
[]
[null,null,"金 融 機 関 名","科目","口 座 番 号",null,"受　  　　　取 　　 　　人　　　 　　名",null,null,null,null,"　金　　　　　　　額"," 手数料　円",null,"銀行",null,"手数料"]
[null,null,"支　  　店　　  名","目",null,null,"（　カ　タ　カ　ナ　記　入　）",null,null,null,null,"　　　　　　　　　　円","(消費税含）",null,"区分",null,"負担区分"]
[1,null,null,null,null,null,null,null,null,null,null,null,{"$f":"IF(AND(L794>0,ISNUMBER(L794)=TRUE),IF(ISNUMBER(O794)=FALSE,0,INDEX((三万円未満,三万円以上),O794+1,1,IF(L794<30000,1,2))),0)","v":0}]
[]
[2,null,null,null,null,null,null,null,null,null,null,null,{"$f":"IF(AND(L796>0,ISNUMBER(L796)=TRUE),IF(ISNUMBER(O796)=FALSE,0,INDEX((三万円未満,三万円以上),O796+1,1,IF(L796<30000,1,2))),0)","v":0}]
[]
[3,null,null,null,null,null,null,null,null,null,null,null,{"$f":"IF(AND(L798>0,ISNUMBER(L798)=TRUE),IF(ISNUMBER(O798)=FALSE,0,INDEX((三万円未満,三万円以上),O798+1,1,IF(L798<30000,1,2))),0)","v":0}]
[]
[4,null,null,null,null,null,null,null,null,null,null,null,{"$f":"IF(AND(L800>0,ISNUMBER(L800)=TRUE),IF(ISNUMBER(O800)=FALSE,0,INDEX((三万円未満,三万円以上),O800+1,1,IF(L800<30000,1,2))),0)","v":0}]
[]
[5,null,null,null,null,null,null,null,null,null,null,null,{"$f":"IF(AND(L802>0,ISNUMBER(L802)=TRUE),IF(ISNUMBER(O802)=FALSE,0,INDEX((三万円未満,三万円以上),O802+1,1,IF(L802<30000,1,2))),0)","v":0}]
[]
[6,null,null,null,null,null,null,null,null,null,null,null,{"$f":"IF(AND(L804>0,ISNUMBER(L804)=TRUE),IF(ISNUMBER(O804)=FALSE,0,INDEX((三万円未満,三万円以上),O804+1,1,IF(L804<30000,1,2))),0)","v":0}]
[]
[7,null,null,null,null,null,null,null,null,null,null,null,{"$f":"IF(AND(L806>0,ISNUMBER(L806)=TRUE),IF(ISNUMBER(O806)=FALSE,0,INDEX((三万円未満,三万円以上),O806+1,1,IF(L806<30000,1,2))),0)","v":0}]
[]
[8,null,null,null,null,null,null,null,null,null,null,null,{"$f":"IF(AND(L808>0,ISNUMBER(L808)=TRUE),IF(ISNUMBER(O808)=FALSE,0,INDEX((三万円未満,三万円以上),O808+1,1,IF(L808<30000,1,2))),0)","v":0}]
[]
[9,null,null,null,null,null,null,null,null,null,null,null,{"$f":"IF(AND(L810>0,ISNUMBER(L810)=TRUE),IF(ISNUMBER(O810)=FALSE,0,INDEX((三万円未満,三万円以上),O810+1,1,IF(L810<30000,1,2))),0)","v":0}]
[]
[10,null,null,null,null,null,null,null,null,null,null,null,{"$f":"IF(AND(L812>0,ISNUMBER(L812)=TRUE),IF(ISNUMBER(O812)=FALSE,0,INDEX((三万円未満,三万円以上),O812+1,1,IF(L812<30000,1,2))),0)","v":0}]
[]
[11,null,null,null,null,null,null,null,null,null,null,null,{"$f":"IF(AND(L814>0,ISNUMBER(L814)=TRUE),IF(ISNUMBER(O814)=FALSE,0,INDEX((三万円未満,三万円以上),O814+1,1,IF(L814<30000,1,2))),0)","v":0}]
[]
[12,null,null,null,null,null,null,null,null,null,null,null,{"$f":"IF(AND(L816>0,ISNUMBER(L816)=TRUE),IF(ISNUMBER(O816)=FALSE,0,INDEX((三万円未満,三万円以上),O816+1,1,IF(L816<30000,1,2))),0)","v":0}]
[]
[13,null,null,null,null,null,null,null,null,null,null,null,{"$f":"IF(AND(L818>0,ISNUMBER(L818)=TRUE),IF(ISNUMBER(O818)=FALSE,0,INDEX((三万円未満,三万円以上),O818+1,1,IF(L818<30000,1,2))),0)","v":0}]
[]
[14,null,null,null,null,null,null,null,null,null,null,null,{"$f":"IF(AND(L820>0,ISNUMBER(L820)=TRUE),IF(ISNUMBER(O820)=FALSE,0,INDEX((三万円未満,三万円以上),O820+1,1,IF(L820<30000,1,2))),0)","v":0}]
[]
[15,null,null,null,null,null,null,null,null,null,null,null,{"$f":"IF(AND(L822>0,ISNUMBER(L822)=TRUE),IF(ISNUMBER(O822)=FALSE,0,INDEX((三万円未満,三万円以上),O822+1,1,IF(L822<30000,1,2))),0)","v":0}]
[]
["科目",null,"　普　 通 　預　 金　","フ",null,null,null,{"$f":"COUNTIF(L794:L823,\">=1\")","v":0},"件","小計",null,{"$f":"SUM(L794:L823)","v":0},{"$f":"SUM(M794:M823)","v":0}]
[null,null,"　当 　座　 預　 金","ト"]
[null,null,"　貯　 蓄　 預　 金","チ",null,null,null,{"$f":"H780+H824","v":0},"件","合計",null,{"$f":"L824+L780","v":0},{"$f":"M824+M780","v":0}]
[null,null,"　　そ　　の　　他","ソ"]
[]
[null,null,null,null,"振 込 依 頼 書",null,null,null,null,null,null,null,"ページ 19"]
[]
[null,null,null,null,null,null,null,null,null,null,"ご依頼日",{"$f":"$L$3","v":"2020-09-01"},null,null,null,null,"受取人が手数料を負担する場合「１」を入力"]
[null,null,"福島銀行",null,null,null,null,null,null,"お客様番号",null,{"$f":"IF($L$4=\"\",\"\",$L$4)","v":""}]
[null,{"$f":"IF($B$5=0,\"\",$B$5)","v":""},null,null,"御中",null,null,null,null,"依頼人名カナ",null,{"$f":"IF($L$5=\"\",\"\",$L$5)","v":""}]
[null,null,null,null,null," 　振込種類",null,null,null,"会社名",null,{"$f":"IF($L$6=\"\",\"\",$L$6)","v":""}]
[null,null,"振込指定日",null,null,{"$f":"IF($F$7=4,\"4シヨウヨ\",IF($F$7=3,\"3キウヨ\",IF($F$7=2,\"2サキフリ\",\"1フリコミ\")))","v":"1フリコミ"},null,null,null," 担当者名",null,{"$f":"IF($L$7=\"\",\"\",$L$7)","v":""}]
[null,null,{"$f":"IF($B$8=\"\",\"平成　　年　　月　　日\",$B$8)","v":"2020-09-01"},null,null,null,null,null,null,"電話番号",null,{"$f":"IF($L$8=\"\",\"\",$L$8)","v":""}]
[]
[null,null,"金 融 機 関 名","科目","口 座 番 号",null,"受　  　　　取 　　 　　人　　　 　　名",null,null,null,null,"　金　　　　　　　額"," 手数料　円",null,"銀行",null,"手数料"]
[null,null,"支　  　店　　  名","目",null,null,"（　カ　タ　カ　ナ　記　入　）",null,null,null,null,"　　　　　　　　　　円","(消費税含）",null,"区分",null,"負担区分"]
[1,null,null,null,null,null,null,null,null,null,null,null,{"$f":"IF(AND(L840>0,ISNUMBER(L840)=TRUE),IF(ISNUMBER(O840)=FALSE,0,INDEX((三万円未満,三万円以上),O840+1,1,IF(L840<30000,1,2))),0)","v":0}]
[]
[2,null,null,null,null,null,null,null,null,null,null,null,{"$f":"IF(AND(L842>0,ISNUMBER(L842)=TRUE),IF(ISNUMBER(O842)=FALSE,0,INDEX((三万円未満,三万円以上),O842+1,1,IF(L842<30000,1,2))),0)","v":0}]
[]
[3,null,null,null,null,null,null,null,null,null,null,null,{"$f":"IF(AND(L844>0,ISNUMBER(L844)=TRUE),IF(ISNUMBER(O844)=FALSE,0,INDEX((三万円未満,三万円以上),O844+1,1,IF(L844<30000,1,2))),0)","v":0}]
[]
[4,null,null,null,null,null,null,null,null,null,null,null,{"$f":"IF(AND(L846>0,ISNUMBER(L846)=TRUE),IF(ISNUMBER(O846)=FALSE,0,INDEX((三万円未満,三万円以上),O846+1,1,IF(L846<30000,1,2))),0)","v":0}]
[]
[5,null,null,null,null,null,null,null,null,null,null,null,{"$f":"IF(AND(L848>0,ISNUMBER(L848)=TRUE),IF(ISNUMBER(O848)=FALSE,0,INDEX((三万円未満,三万円以上),O848+1,1,IF(L848<30000,1,2))),0)","v":0}]
[]
[6,null,null,null,null,null,null,null,null,null,null,null,{"$f":"IF(AND(L850>0,ISNUMBER(L850)=TRUE),IF(ISNUMBER(O850)=FALSE,0,INDEX((三万円未満,三万円以上),O850+1,1,IF(L850<30000,1,2))),0)","v":0}]
[]
[7,null,null,null,null,null,null,null,null,null,null,null,{"$f":"IF(AND(L852>0,ISNUMBER(L852)=TRUE),IF(ISNUMBER(O852)=FALSE,0,INDEX((三万円未満,三万円以上),O852+1,1,IF(L852<30000,1,2))),0)","v":0}]
[]
[8,null,null,null,null,null,null,null,null,null,null,null,{"$f":"IF(AND(L854>0,ISNUMBER(L854)=TRUE),IF(ISNUMBER(O854)=FALSE,0,INDEX((三万円未満,三万円以上),O854+1,1,IF(L854<30000,1,2))),0)","v":0}]
[]
[9,null,null,null,null,null,null,null,null,null,null,null,{"$f":"IF(AND(L856>0,ISNUMBER(L856)=TRUE),IF(ISNUMBER(O856)=FALSE,0,INDEX((三万円未満,三万円以上),O856+1,1,IF(L856<30000,1,2))),0)","v":0}]
[]
[10,null,null,null,null,null,null,null,null,null,null,null,{"$f":"IF(AND(L858>0,ISNUMBER(L858)=TRUE),IF(ISNUMBER(O858)=FALSE,0,INDEX((三万円未満,三万円以上),O858+1,1,IF(L858<30000,1,2))),0)","v":0}]
[]
[11,null,null,null,null,null,null,null,null,null,null,null,{"$f":"IF(AND(L860>0,ISNUMBER(L860)=TRUE),IF(ISNUMBER(O860)=FALSE,0,INDEX((三万円未満,三万円以上),O860+1,1,IF(L860<30000,1,2))),0)","v":0}]
[]
[12,null,null,null,null,null,null,null,null,null,null,null,{"$f":"IF(AND(L862>0,ISNUMBER(L862)=TRUE),IF(ISNUMBER(O862)=FALSE,0,INDEX((三万円未満,三万円以上),O862+1,1,IF(L862<30000,1,2))),0)","v":0}]
[]
[13,null,null,null,null,null,null,null,null,null,null,null,{"$f":"IF(AND(L864>0,ISNUMBER(L864)=TRUE),IF(ISNUMBER(O864)=FALSE,0,INDEX((三万円未満,三万円以上),O864+1,1,IF(L864<30000,1,2))),0)","v":0}]
[]
[14,null,null,null,null,null,null,null,null,null,null,null,{"$f":"IF(AND(L866>0,ISNUMBER(L866)=TRUE),IF(ISNUMBER(O866)=FALSE,0,INDEX((三万円未満,三万円以上),O866+1,1,IF(L866<30000,1,2))),0)","v":0}]
[]
[15,null,null,null,null,null,null,null,null,null,null,null,{"$f":"IF(AND(L868>0,ISNUMBER(L868)=TRUE),IF(ISNUMBER(O868)=FALSE,0,INDEX((三万円未満,三万円以上),O868+1,1,IF(L868<30000,1,2))),0)","v":0}]
[]
["科目",null,"　普　 通 　預　 金　","フ",null,null,null,{"$f":"COUNTIF(L840:L869,\">=1\")","v":0},"件","小計",null,{"$f":"SUM(L840:L869)","v":0},{"$f":"SUM(M840:M869)","v":0}]
[null,null,"　当 　座　 預　 金","ト"]
[null,null,"　貯　 蓄　 預　 金","チ",null,null,null,{"$f":"H826+H870","v":0},"件","合計",null,{"$f":"L870+L826","v":0},{"$f":"M870+M826","v":0}]
[null,null,"　　そ　　の　　他","ソ"]
[]
[null,null,null,null,"振 込 依 頼 書",null,null,null,null,null,null,null,"ページ 20"]
[]
[null,null,null,null,null,null,null,null,null,null,"ご依頼日",{"$f":"$L$3","v":"2020-09-01"},null,null,null,null,"受取人が手数料を負担する場合「１」を入力"]
[null,null,"福島銀行",null,null,null,null,null,null,"お客様番号",null,{"$f":"IF($L$4=\"\",\"\",$L$4)","v":""}]
[null,{"$f":"IF($B$5=0,\"\",$B$5)","v":""},null,null,"御中",null,null,null,null,"依頼人名カナ",null,{"$f":"IF($L$5=\"\",\"\",$L$5)","v":""}]
[null,null,null,null,null," 　振込種類",null,null,null,"会社名",null,{"$f":"IF($L$6=\"\",\"\",$L$6)","v":""}]
[null,null,"振込指定日",null,null,{"$f":"IF($F$7=4,\"4シヨウヨ\",IF($F$7=3,\"3キウヨ\",IF($F$7=2,\"2サキフリ\",\"1フリコミ\")))","v":"1フリコミ"},null,null,null," 担当者名",null,{"$f":"IF($L$7=\"\",\"\",$L$7)","v":""}]
[null,null,{"$f":"IF($B$8=\"\",\"平成　　年　　月　　日\",$B$8)","v":"2020-09-01"},null,null,null,null,null,null,"電話番号",null,{"$f":"IF($L$8=\"\",\"\",$L$8)","v":""}]
[]
[null,null,"金 融 機 関 名","科目","口 座 番 号",null,"受　  　　　取 　　 　　人　　　 　　名",null,null,null,null,"　金　　　　　　　額"," 手数料　円",null,"銀行",null,"手数料"]
[null,null,"支　  　店　　  名","目",null,null,"（　カ　タ　カ　ナ　記　入　）",null,null,null,null,"　　　　　　　　　　円","(消費税含）",null,"区分",null,"負担区分"]
[1,null,null,null,null,null,null,null,null,null,null,null,{"$f":"IF(AND(L886>0,ISNUMBER(L886)=TRUE),IF(ISNUMBER(O886)=FALSE,0,INDEX((三万円未満,三万円以上),O886+1,1,IF(L886<30000,1,2))),0)","v":0}]
[]
[2,null,null,null,null,null,null,null,null,null,null,null,{"$f":"IF(AND(L888>0,ISNUMBER(L888)=TRUE),IF(ISNUMBER(O888)=FALSE,0,INDEX((三万円未満,三万円以上),O888+1,1,IF(L888<30000,1,2))),0)","v":0}]
[]
[3,null,null,null,null,null,null,null,null,null,null,null,{"$f":"IF(AND(L890>0,ISNUMBER(L890)=TRUE),IF(ISNUMBER(O890)=FALSE,0,INDEX((三万円未満,三万円以上),O890+1,1,IF(L890<30000,1,2))),0)","v":0}]
[]
[4,null,null,null,null,null,null,null,null,null,null,null,{"$f":"IF(AND(L892>0,ISNUMBER(L892)=TRUE),IF(ISNUMBER(O892)=FALSE,0,INDEX((三万円未満,三万円以上),O892+1,1,IF(L892<30000,1,2))),0)","v":0}]
[]
[5,null,null,null,null,null,null,null,null,null,null,null,{"$f":"IF(AND(L894>0,ISNUMBER(L894)=TRUE),IF(ISNUMBER(O894)=FALSE,0,INDEX((三万円未満,三万円以上),O894+1,1,IF(L894<30000,1,2))),0)","v":0}]
[]
[6,null,null,null,null,null,null,null,null,null,null,null,{"$f":"IF(AND(L896>0,ISNUMBER(L896)=TRUE),IF(ISNUMBER(O896)=FALSE,0,INDEX((三万円未満,三万円以上),O896+1,1,IF(L896<30000,1,2))),0)","v":0}]
[]
[7,null,null,null,null,null,null,null,null,null,null,null,{"$f":"IF(AND(L898>0,ISNUMBER(L898)=TRUE),IF(ISNUMBER(O898)=FALSE,0,INDEX((三万円未満,三万円以上),O898+1,1,IF(L898<30000,1,2))),0)","v":0}]
[]
[8,null,null,null,null,null,null,null,null,null,null,null,{"$f":"IF(AND(L900>0,ISNUMBER(L900)=TRUE),IF(ISNUMBER(O900)=FALSE,0,INDEX((三万円未満,三万円以上),O900+1,1,IF(L900<30000,1,2))),0)","v":0}]
[]
[9,null,null,null,null,null,null,null,null,null,null,null,{"$f":"IF(AND(L902>0,ISNUMBER(L902)=TRUE),IF(ISNUMBER(O902)=FALSE,0,INDEX((三万円未満,三万円以上),O902+1,1,IF(L902<30000,1,2))),0)","v":0}]
[]
[10,null,null,null,null,null,null,null,null,null,null,null,{"$f":"IF(AND(L904>0,ISNUMBER(L904)=TRUE),IF(ISNUMBER(O904)=FALSE,0,INDEX((三万円未満,三万円以上),O904+1,1,IF(L904<30000,1,2))),0)","v":0}]
[]
[11,null,null,null,null,null,null,null,null,null,null,null,{"$f":"IF(AND(L906>0,ISNUMBER(L906)=TRUE),IF(ISNUMBER(O906)=FALSE,0,INDEX((三万円未満,三万円以上),O906+1,1,IF(L906<30000,1,2))),0)","v":0}]
[]
[12,null,null,null,null,null,null,null,null,null,null,null,{"$f":"IF(AND(L908>0,ISNUMBER(L908)=TRUE),IF(ISNUMBER(O908)=FALSE,0,INDEX((三万円未満,三万円以上),O908+1,1,IF(L908<30000,1,2))),0)","v":0}]
[]
[13,null,null,null,null,null,null,null,null,null,null,null,{"$f":"IF(AND(L910>0,ISNUMBER(L910)=TRUE),IF(ISNUMBER(O910)=FALSE,0,INDEX((三万円未満,三万円以上),O910+1,1,IF(L910<30000,1,2))),0)","v":0}]
[]
[14,null,null,null,null,null,null,null,null,null,null,null,{"$f":"IF(AND(L912>0,ISNUMBER(L912)=TRUE),IF(ISNUMBER(O912)=FALSE,0,INDEX((三万円未満,三万円以上),O912+1,1,IF(L912<30000,1,2))),0)","v":0}]
[]
[15,null,null,null,null,null,null,null,null,null,null,null,{"$f":"IF(AND(L914>0,ISNUMBER(L914)=TRUE),IF(ISNUMBER(O914)=FALSE,0,INDEX((三万円未満,三万円以上),O914+1,1,IF(L914<30000,1,2))),0)","v":0}]
[]
["科目",null,"　普　 通 　預　 金　","フ",null,null,null,{"$f":"COUNTIF(L886:L915,\">=1\")","v":0},"件","小計",null,{"$f":"SUM(L886:L915)","v":0},{"$f":"SUM(M886:M915)","v":0}]
[null,null,"　当 　座　 預　 金","ト"]
[null,null,"　貯　 蓄　 預　 金","チ",null,null,null,{"$f":"H872+H916","v":0},"件","合計",null,{"$f":"L916+L872","v":0},{"$f":"M916+M872","v":0}]
[null,null,"　　そ　　の　　他","ソ"]

{"sheet":"出力","index":2,"n_rows":920,"n_cols":22,"rows_kept":920,"cut":false,"hidden":false,"merged":[[271,0,274,1],[273,7,274,7],[273,8,274,8],[273,9,274,10],[273,11,274,11],[273,12,274,12],[267,12,268,12],[267,13,268,13],[265,3,266,3],[265,4,266,4],[265,5,266,5],[265,6,266,10],[265,11,266,11],[265,12,266,12],[271,11,272,11],[271,12,272,12],[269,3,270,3],[269,4,270,4],[269,5,270,5],[269,6,270,10],[269,11,270,11],[269,12,270,12],[269,13,270,13],[271,7,272,7],[271,8,272,8],[271,9,272,10],[261,13,262,13],[263,3,264,3],[263,4,264,4],[263,5,264,5],[263,6,264,10],[263,11,264,11],[263,12,264,12],[263,13,264,13],[261,3,262,3],[261,4,262,4],[261,5,262,5],[261,6,262,10],[261,11,262,11],[261,12,262,12],[265,13,266,13],[267,3,268,3],[267,4,268,4],[267,5,268,5],[267,6,268,10],[267,11,268,11],[253,13,254,13],[255,3,256,3],[255,4,256,4],[255,5,256,5],[255,6,256,10],[255,11,256,11],[255,12,256,12],[255,13,256,13],[253,3,254,3],[253,4,254,4],[253,5,254,5],[253,6,254,10],[253,11,254,11],[253,12,254,12],[257,13,258,13],[259,3,260,3],[259,4,260,4],[259,5,260,5],[259,6,260,10],[259,11,260,11],[259,12,260,12],[259,13,260,13],[257,3,258,3],[257,4,258,4],[257,5,258,5],[257,6,258,10],[257,11,258,11],[257,12,258,12],[245,13,246,13],[247,3,248,3],[247,4,248,4],[247,5,248,5],[247,6,248,10],[247,11,248,11],[247,12,248,12],[247,13,248,13],[245,3,246,3],[245,4,246,4],[245,5,246,5],[245,6,246,10],[245,11,246,11],[245,12,246,12],[249,13,250,13],[251,3,252,3],[251,4,252,4],[251,5,252,5],[251,6,252,10],[251,11,252,11],[251,12,252,12],[251,13,252,13],[249,3,250,3],[249,4,250,4],[249,5,250,5],[249,6,250,10],[249,11,250,11],[249,12,250,12],[239,3,240,3],[239,4,240,4],[239,6,239,10],[240,6,240,10],[235,5,235,7],[235,9,235,10],[235,11,235,12],[236,5,236,7],[236,9,236,10],[236,11,236,12],[241,13,242,13],[243,3,244,3],[243,4,244,4],[243,5,244,5],[243,6,244,10],[243,11,244,11],[243,12,244,12],[243,13,244,13],[241,3,242,3],[241,4,242,4],[241,5,242,5],[241,6,242,10],[241,11,242,11],[241,12,242,12],[233,9,233,10],[234,1,234,3],[234,9,234,10],[225,7,226,7],[225,8,226,8],[225,9,226,10],[225,11,226,11],[225,12,226,12],[227,7,228,7],[227,8,228,8],[227,9,228,10],[227,11,228,11],[225,0,228,1],[233,11,233,12],[234,11,234,12],[237,1,237,3],[237,9,237,10],[237,11,237,12],[221,13,222,13],[223,3,224,3],[223,4,224,4],[223,5,224,5],[223,6,224,10],[223,11,224,11],[223,12,224,12],[223,13,224,13],[221,3,222,3],[221,4,222,4],[221,5,222,5],[221,6,222,10],[221,11,222,11],[221,12,222,12],[227,12,228,12],[230,4,230,8],[232,11,232,12],[213,13,214,13],[215,3,216,3],[215,4,216,4],[215,5,216,5],[215,6,216,10],[215,11,216,11],[215,12,216,12],[215,13,216,13],[213,3,214,3],[213,4,214,4],[213,5,214,5],[213,6,214,10],[213,11,214,11],[213,12,214,12],[217,13,218,13],[219,3,220,3],[219,4,220,4],[219,5,220,5],[219,6,220,10],[219,11,220,11],[219,12,220,12],[219,13,220,13],[217,3,218,3],[217,4,218,4],[217,5,218,5],[217,6,218,10],[217,11,218,11],[217,12,218,12],[205,13,206,13],[207,3,208,3],[207,4,208,4],[207,5,208,5],[207,6,208,10],[207,11,208,11],[207,12,208,12],[207,13,208,13],[205,3,206,3],[205,4,206,4],[205,5,206,5],[205,6,206,10],[205,11,206,11],[205,12,206,12],[209,13,210,13],[211,3,212,3],[211,4,212,4],[211,5,212,5],[211,6,212,10],[211,11,212,11],[211,12,212,12],[211,13,212,13],[209,3,210,3],[209,4,210,4],[209,5,210,5],[209,6,210,10],[209,11,210,11],[209,12,210,12],[195,13,196,13],[197,3,198,3],[197,4,198,4],[197,5,198,5],[197,6,198,10],[197,11,198,11],[197,12,198,12],[197,13,198,13],[203,3,204,3],[203,4,204,4],[203,6,204,10],[203,11,204,11],[203,12,204,12],[203,13,204,13],[199,13,200,13],[201,3,202,3],[201,4,202,4],[201,5,202,5],[201,6,202,10],[201,11,202,11],[201,12,202,12],[201,13,202,13],[199,3,200,3],[199,4,200,4],[199,5,200,5],[199,6,200,10],[199,11,200,11],[199,12,200,12],[190,11,190,12],[191,11,191,12],[184,4,184,8],[186,11,186,12],[187,9,187,10],[188,1,188,3],[188,9,188,10],[189,5,189,7],[189,9,189,10],[189,11,189,12],[187,11,187,12],[188,11,188,12],[193,3,194,3],[193,4,194,4],[193,6,193,10],[194,6,194,10],[195,3,196,3],[195,4,196,4],[195,5,196,5],[195,6,196,10],[190,5,190,7],[190,9,190,10],[191,1,191,3],[191,9,191,10],[195,11,196,11],[195,12,196,12],[177,3,178,3],[177,4,178,4],[177,5,178,5],[177,6,178,10],[177,11,178,11],[177,12,178,12],[179,0,182,1],[173,13,174,13],[175,3,176,3],[175,4,176,4],[175,5,176,5],[175,6,176,10],[175,11,176,11],[175,12,176,12],[175,13,176,13],[173,3,174,3],[173,4,174,4],[173,5,174,5],[173,6,174,10],[173,11,174,11],[173,12,174,12],[181,7,182,7],[181,8,182,8],[181,9,182,10],[181,11,182,11],[181,12,182,12],[177,13,178,13],[179,7,180,7],[179,8,180,8],[179,9,180,10],[179,11,180,11],[179,12,180,12],[165,13,166,13],[167,3,168,3],[167,4,168,4],[167,5,168,5],[167,6,168,10],[167,11,168,11],[167,12,168,12],[167,13,168,13],[165,3,166,3],[165,4,166,4],[165,5,166,5],[165,6,166,10],[165,11,166,11],[165,12,166,12],[169,13,170,13],[171,3,172,3],[171,4,172,4],[171,5,172,5],[171,6,172,10],[171,11,172,11],[171,12,172,12],[171,13,172,13],[169,3,170,3],[169,4,170,4],[169,5,170,5],[169,6,170,10],[169,11,170,11],[169,12,170,12],[157,13,158,13],[159,3,160,3],[159,4,160,4],[159,5,160,5],[159,6,160,10],[159,11,160,11],[159,12,160,12],[159,13,160,13],[157,3,158,3],[157,4,158,4],[157,5,158,5],[157,6,158,10],[157,11,158,11],[157,12,158,12],[161,13,162,13],[163,3,164,3],[163,4,164,4],[163,5,164,5],[163,6,164,10],[163,11,164,11],[163,12,164,12],[163,13,164,13],[161,3,162,3],[161,4,162,4],[161,5,162,5],[161,6,162,10],[161,11,162,11],[161,12,162,12],[149,13,150,13],[151,3,152,3],[151,4,152,4],[151,5,152,5],[151,6,152,10],[151,11,152,11],[151,12,152,12],[151,13,152,13],[153,13,154,13],[155,3,156,3],[155,4,156,4],[155,5,156,5],[155,6,156,10],[155,11,156,11],[155,12,156,12],[155,13,156,13],[153,3,154,3],[153,4,154,4],[153,5,154,5],[153,6,154,10],[153,11,154,11],[153,12,154,12],[144,11,144,12],[145,11,145,12],[138,4,138,8],[140,11,140,12],[141,9,141,10],[142,1,142,3],[142,9,142,10],[143,5,143,7],[143,9,143,10],[143,11,143,12],[141,11,141,12],[142,11,142,12],[147,3,148,3],[147,4,148,4],[147,6,147,10],[148,6,148,10],[149,3,150,3],[149,4,150,4],[149,5,150,5],[149,6,150,10],[144,5,144,7],[144,9,144,10],[145,1,145,3],[145,9,145,10],[149,11,150,11],[149,12,150,12],[131,3,132,3],[131,4,132,4],[131,5,132,5],[131,6,132,10],[131,11,132,11],[131,12,132,12],[133,0,136,1],[127,13,128,13],[129,3,130,3],[129,4,130,4],[129,5,130,5],[129,6,130,10],[129,11,130,11],[129,12,130,12],[129,13,130,13],[127,3,128,3],[127,4,128,4],[127,5,128,5],[127,6,128,10],[127,11,128,11],[127,12,128,12],[135,7,136,7],[135,8,136,8],[135,9,136,10],[135,11,136,11],[135,12,136,12],[131,13,132,13],[133,7,134,7],[133,8,134,8],[133,9,134,10],[133,11,134,11],[133,12,134,12],[119,13,120,13],[121,3,122,3],[121,4,122,4],[121,5,122,5],[121,6,122,10],[121,11,122,11],[121,12,122,12],[121,13,122,13],[119,3,120,3],[119,4,120,4],[119,5,120,5],[119,6,120,10],[119,11,120,11],[119,12,120,12],[123,13,124,13],[125,3,126,3],[125,4,126,4],[125,5,126,5],[125,6,126,10],[125,11,126,11],[125,12,126,12],[125,13,126,13],[123,3,124,3],[123,4,124,4],[123,5,124,5],[123,6,124,10],[123,11,124,11],[123,12,124,12],[111,13,112,13],[113,3,114,3],[113,4,114,4],[113,5,114,5],[113,6,114,10],[113,11,114,11],[113,12,114,12],[113,13,114,13],[111,3,112,3],[111,4,112,4],[111,5,112,5],[111,6,112,10],[111,11,112,11],[111,12,112,12],[115,13,116,13],[117,3,118,3],[117,4,118,4],[117,5,118,5],[117,6,118,10],[117,11,118,11],[117,12,118,12],[117,13,118,13],[115,3,116,3],[115,4,116,4],[115,5,116,5],[115,6,116,10],[115,11,116,11],[115,12,116,12],[103,13,104,13],[105,3,106,3],[105,4,106,4],[105,5,106,5],[105,6,106,10],[105,11,106,11],[105,12,106,12],[105,13,106,13],[107,13,108,13],[109,3,110,3],[109,4,110,4],[109,5,110,5],[109,6,110,10],[109,11,110,11],[109,12,110,12],[109,13,110,13],[107,3,108,3],[107,4,108,4],[107,5,108,5],[107,6,108,10],[107,11,108,11],[107,12,108,12],[98,11,98,12],[99,11,99,12],[92,4,92,8],[94,11,94,12],[95,9,95,10],[96,1,96,3],[96,9,96,10],[97,5,97,7],[97,9,97,10],[97,11,97,12],[95,11,95,12],[96,11,96,12],[101,3,102,3],[101,4,102,4],[101,6,101,10],[102,6,102,10],[103,3,104,3],[103,4,104,4],[103,5,104,5],[103,6,104,10],[98,5,98,7],[98,9,98,10],[99,1,99,3],[99,9,99,10],[103,11,104,11],[103,12,104,12],[87,0,90,1],[81,13,82,13],[83,3,84,3],[83,4,84,4],[83,5,84,5],[83,6,84,10],[83,11,84,11],[83,12,84,12],[83,13,84,13],[81,3,82,3],[81,4,82,4],[81,5,82,5],[81,6,82,10],[81,11,82,11],[81,12,82,12],[89,7,90,7],[89,8,90,8],[89,9,90,10],[89,11,90,11],[89,12,90,12],[85,13,86,13],[87,7,88,7],[87,8,88,8],[87,9,88,10],[87,11,88,11],[87,12,88,12],[77,13,78,13],[79,3,80,3],[79,4,80,4],[79,5,80,5],[79,6,80,10],[79,11,80,11],[79,12,80,12],[79,13,80,13],[77,3,78,3],[77,4,78,4],[77,5,78,5],[77,6,78,10],[77,11,78,11],[77,12,78,12],[85,3,86,3],[85,4,86,4],[85,5,86,5],[85,6,86,10],[85,11,86,11],[85,12,86,12],[69,13,70,13],[71,3,72,3],[71,4,72,4],[71,5,72,5],[71,6,72,10],[71,11,72,11],[71,12,72,12],[71,13,72,13],[69,3,70,3],[69,4,70,4],[69,5,70,5],[69,6,70,10],[69,11,70,11],[69,12,70,12],[73,13,74,13],[75,3,76,3],[75,4,76,4],[75,5,76,5],[75,6,76,10],[75,11,76,11],[75,12,76,12],[75,13,76,13],[73,3,74,3],[73,4,74,4],[73,5,74,5],[73,6,74,10],[73,11,74,11],[73,12,74,12],[61,13,62,13],[63,3,64,3],[63,4,64,4],[63,5,64,5],[63,6,64,10],[63,11,64,11],[63,12,64,12],[63,13,64,13],[61,3,62,3],[61,4,62,4],[61,5,62,5],[61,6,62,10],[61,11,62,11],[61,12,62,12],[65,13,66,13],[67,3,68,3],[67,4,68,4],[67,5,68,5],[67,6,68,10],[67,11,68,11],[67,12,68,12],[67,13,68,13],[65,3,66,3],[65,4,66,4],[65,5,66,5],[65,6,66,10],[65,11,66,11],[65,12,66,12],[53,1,53,3],[53,9,53,10],[53,11,53,12],[55,3,56,3],[55,4,56,4],[55,6,55,10],[56,6,56,10],[51,5,51,7],[51,9,51,10],[51,11,51,12],[52,5,52,7],[52,9,52,10],[52,11,52,12],[57,13,58,13],[59,3,60,3],[59,4,60,4],[59,5,60,5],[59,6,60,10],[59,11,60,11],[59,12,60,12],[59,13,60,13],[57,3,58,3],[57,4,58,4],[57,5,58,5],[57,6,58,10],[57,11,58,11],[57,12,58,12],[43,12,44,12],[46,4,46,8],[48,11,48,12],[49,9,49,10],[50,1,50,3],[50,9,50,10],[41,7,42,7],[41,8,42,8],[41,9,42,10],[41,11,42,11],[41,12,42,12],[43,7,44,7],[43,8,44,8],[43,9,44,10],[43,11,44,11],[41,0,44,1],[50,11,50,12],[49,11,49,12],[35,3,36,3],[35,4,36,4],[35,5,36,5],[35,6,36,10],[35,11,36,11],[35,12,36,12],[33,3,34,3],[33,4,34,4],[33,5,34,5],[33,6,34,10],[33,11,34,11],[33,12,34,12],[39,3,40,3],[39,4,40,4],[39,5,40,5],[39,6,40,10],[39,11,40,11],[39,12,40,12],[37,3,38,3],[37,4,38,4],[37,5,38,5],[37,6,38,10],[37,11,38,11],[37,12,38,12],[27,3,28,3],[27,4,28,4],[27,5,28,5],[27,6,28,10],[27,11,28,11],[27,12,28,12],[25,3,26,3],[25,4,26,4],[25,5,26,5],[25,6,26,10],[25,11,26,11],[25,12,26,12],[31,3,32,3],[31,4,32,4],[31,5,32,5],[31,6,32,10],[31,11,32,11],[31,12,32,12],[29,3,30,3],[29,4,30,4],[29,5,30,5],[29,6,30,10],[29,11,30,11],[29,12,30,12],[17,3,18,3],[17,4,18,4],[17,5,18,5],[17,6,18,10],[17,11,18,11],[17,12,18,12],[19,3,20,3],[19,4,20,4],[19,5,20,5],[19,6,20,10],[19,11,20,11],[19,12,20,12],[23,3,24,3],[23,4,24,4],[23,5,24,5],[23,6,24,10],[23,11,24,11],[23,12,24,12],[21,3,22,3],[21,4,22,4],[21,5,22,5],[21,6,22,10],[21,11,22,11],[21,12,22,12],[12,19,12,21],[6,5,6,7],[6,9,6,10],[6,11,6,12],[11,3,12,3],[11,4,12,4],[11,5,12,5],[11,6,12,10],[11,11,12,11],[11,12,12,12],[15,3,16,3],[15,4,16,4],[15,5,16,5],[15,6,16,10],[15,11,16,11],[15,12,16,12],[13,3,14,3],[13,4,14,4],[13,5,14,5],[13,6,14,10],[13,11,14,11],[13,12,14,12],[14,16,14,20],[12,17,12,18],[0,4,0,8],[2,11,2,12],[9,19,9,21],[3,9,3,10],[7,1,7,3],[7,9,7,10],[7,11,7,12],[9,3,10,3],[9,4,10,4],[9,6,9,10],[10,6,10,10],[4,1,4,3],[4,9,4,10],[5,5,5,7],[5,9,5,10],[5,11,5,12],[4,11,4,12],[3,11,3,12],[61,20,61,21],[59,15,59,16],[60,15,60,16],[54,15,55,15],[19,19,19,21],[19,17,19,18],[53,16,53,20],[24,19,24,20],[25,19,25,20],[31,15,31,16],[20,15,21,15],[22,15,23,15],[24,15,25,15],[26,15,27,15],[28,15,29,15],[30,15,30,16],[32,15,32,16],[31,17,31,18],[51,17,51,18],[17,15,17,16],[16,17,16,18],[16,19,16,21],[32,17,32,18],[32,19,32,20],[26,19,26,20],[27,19,27,20],[28,19,28,20],[29,19,29,20],[30,19,30,20],[31,19,31,20],[281,5,281,7],[281,9,281,10],[281,11,281,12],[71,19,73,19],[72,16,72,17],[17,19,17,20],[20,19,20,20],[21,19,21,20],[22,19,22,20],[23,19,23,20],[59,19,59,20],[60,19,60,20],[54,16,54,17],[48,19,48,21],[51,19,51,21],[58,15,58,16],[58,17,58,18],[58,19,58,21],[55,16,55,17],[54,18,55,21],[19,15,19,16],[282,9,282,10],[282,11,282,12],[285,6,285,10],[282,5,282,7],[283,1,283,3],[283,9,283,10],[283,11,283,12],[278,11,278,12],[279,9,279,10],[279,11,279,12],[280,9,280,10],[280,11,280,12],[276,4,276,8],[280,1,280,3],[289,3,290,3],[289,4,290,4],[289,5,290,5],[289,6,290,10],[289,11,290,11],[289,12,290,12],[291,3,292,3],[291,4,292,4],[291,5,292,5],[291,6,292,10],[291,11,292,11],[291,12,292,12],[285,3,286,3],[285,4,286,4],[286,6,286,10],[287,3,288,3],[287,4,288,4],[287,5,288,5],[287,6,288,10],[287,11,288,11],[287,12,288,12],[297,3,298,3],[297,4,298,4],[297,5,298,5],[297,6,298,10],[297,11,298,11],[297,12,298,12],[299,3,300,3],[299,4,300,4],[299,5,300,5],[299,6,300,10],[299,11,300,11],[299,12,300,12],[293,3,294,3],[293,4,294,4],[293,5,294,5],[293,6,294,10],[293,11,294,11],[293,12,294,12],[295,3,296,3],[295,4,296,4],[295,5,296,5],[295,6,296,10],[295,11,296,11],[295,12,296,12],[305,3,306,3],[305,4,306,4],[305,5,306,5],[305,6,306,10],[305,11,306,11],[305,12,306,12],[307,3,308,3],[307,4,308,4],[307,5,308,5],[307,6,308,10],[307,11,308,11],[307,12,308,12],[301,3,302,3],[301,4,302,4],[301,5,302,5],[301,6,302,10],[301,11,302,11],[301,12,302,12],[303,3,304,3],[303,4,304,4],[303,5,304,5],[303,6,304,10],[303,11,304,11],[303,12,304,12],[313,3,314,3],[313,4,314,4],[313,5,314,5],[313,6,314,10],[313,11,314,11],[313,12,314,12],[315,3,316,3],[309,3,310,3],[309,4,310,4],[309,5,310,5],[309,6,310,10],[309,11,310,11],[309,12,310,12],[311,3,312,3],[311,4,312,4],[311,5,312,5],[311,6,312,10],[311,11,312,11],[311,12,312,12],[322,4,322,8],[324,11,324,12],[325,9,325,10],[325,11,325,12],[326,1,326,3],[326,9,326,10],[326,11,326,12],[327,5,327,7],[327,9,327,10],[327,11,327,12],[315,4,316,4],[315,5,316,5],[315,6,316,10],[315,11,316,11],[315,12,316,12],[317,0,320,1],[317,7,318,7],[317,8,318,8],[317,9,318,10],[317,11,318,11],[317,12,318,12],[319,7,320,7],[319,8,320,8],[319,9,320,10],[319,11,320,11],[319,12,320,12],[333,3,334,3],[333,4,334,4],[333,5,334,5],[333,6,334,10],[333,11,334,11],[333,12,334,12],[335,3,336,3],[335,4,336,4],[335,5,336,5],[335,6,336,10],[335,11,336,11],[335,12,336,12],[328,5,328,7],[328,9,328,10],[328,11,328,12],[329,1,329,3],[329,9,329,10]],"merged_total":2756,"flags":["merged_cut"]}
[null,null,2020.01,null,"　　　　　　振 込 依 頼 書",null,null,null,null,null,null,null,{"$f":"入力!M1","v":"ページ　1"},null,"端末印字欄"]
[]
[null,null,null,null,null,null,null,null,null,null,"ご依頼日",{"$f":"IF(入力!$L$3=\"\",\"平成　　年　　月　　日\",入力!$L$3)","v":"2020-09-01"}]
[null,null,"福島銀行",null,null,null,null,null,null,"お客様番号",null,{"$f":"IF(入力!$L$4=\"\",\"\",入力!$L$4)","v":""}]
[null,{"$f":"IF(入力!$B$5=0,\"\",入力!$B$5)","v":""},null,null,"御中",null,null,null,null,"依頼人名カナ",null,{"$f":"IF(入力!$L$5=\"\",\"\",入力!$L$5)","v":""}]
[null,null,null,null,null,"振込種類",null,null,null,"依頼人名",null,{"$f":"IF(入力!$L$6=\"\",\"\",入力!$L$6)","v":""}]
[null,null,"振込指定日",null,null,{"$f":"IF(入力!F7=4,\"3シヨウヨ\",IF(入力!F7=3,\"3キウヨ\",IF(入力!F7=2,\"2サキフリ\",\"1フリコミ\")))","v":"1フリコミ"},null,null,null," 担当者名",null,{"$f":"IF(入力!$L$7=\"\",\"\",入力!$L$7)","v":""}]
[null,{"$f":"IF(入力!$B$8=\"\",\"平成　　年　　月　　日\",入力!$B$8)","v":"2020-09-01"},null,null,null,null,null,null,null,"電話番号",null,{"$f":"IF(入力!$L$8=\"\",\"\",入力!$L$8)","v":""}]
[]
[null,null,"金 融 機 関 名","科目","口 座 番 号",null,"受　  　　　取 　　 　　人　　　 　　名",null,null,null,null,"　金　　　　　　　額"," 手数料　円",null,null,"ご依頼人",null,null,null,"お客様　→　銀行"]
[null,null,"支　  　店　　  名","目",null,null,"（　カ　タ　カ　ナ　記　入　）",null,null,null,null,"　　　　　　　　　　円","(消費税含）",null,null,{"$f":"入力!L6&\"  様\"","v":"  様"}]
[1,null,{"$f":"IF(入力!C12=\"\",\"\",+入力!C12)","v":""},{"$f":"IF(入力!D12=\"\",\"\",+入力!D12)","v":""},{"$f":"IF(入力!E12=\"\",\"\",+入力!E12)","v":""},null,{"$f":"IF(入力!G12=\"\",\"\",+入力!G12)","v":""},null,null,null,null,{"$f":"IF(入力!L12=0,\"\",IF(入力!Q12=1,(入力!L12-入力!M12),入力!L12))","v":""},{"$f":"入力!M12","v":0},{"$f":"IF(AND(M12>0,ISNUMBER(L12)=TRUE),IF(ISNUMBER(入力!O12)=FALSE,\"\",INDEX((三万未満code,三万以上code),入力!O12+1,1,IF((L12+M12)<30000,1,2))),0)","v":0}]
[null,null,{"$f":"IF(入力!C13=\"\",\"\",+入力!C13)","v":""},null,null,null,null,null,null,null,null,null,null,null,null,null,null,"ご依頼日",null,{"$f":"IF(入力!$L$3=\"\",\"平成　　年　　月　　日\",入力!$L$3)","v":"2020-09-01"}]
[2,null,{"$f":"IF(入力!C14=\"\",\"\",+入力!C14)","v":""},{"$f":"IF(入力!D14=\"\",\"\",+入力!D14)","v":""},{"$f":"IF(入力!E14=\"\",\"\",+入力!E14)","v":""},null,{"$f":"IF(入力!G14=\"\",\"\",+入力!G14)","v":""},null,null,null,null,{"$f":"IF(入力!L14=0,\"\",IF(入力!Q14=1,(入力!L14-入力!M14),入力!L14))","v":""},{"$f":"入力!M14","v":0},{"$f":"IF(AND(M14>0,ISNUMBER(L14)=TRUE),IF(ISNUMBER(入力!O14)=FALSE,\"\",INDEX((三万未満code,三万以上code),入力!O14+1,1,IF((L14+M14)<30000,1,2))),0)","v":0}]
[null,null,{"$f":"IF(入力!C15=\"\",\"\",+入力!C15)","v":""},null,null,null,null,null,null,null,null,null,null,null,null,null,"振込金額・手数料明細表"]
[3,null,{"$f":"IF(入力!C16=\"\",\"\",+入力!C16)","v":""},{"$f":"IF(入力!D16=\"\",\"\",+入力!D16)","v":""},{"$f":"IF(入力!E16=\"\",\"\",+入力!E16)","v":""},null,{"$f":"IF(入力!G16=\"\",\"\",+入力!G16)","v":""},null,null,null,null,{"$f":"IF(入力!L16=0,\"\",IF(入力!Q16=1,(入力!L16-入力!M16),入力!L16))","v":""},{"$f":"入力!M16","v":0},{"$f":"IF(AND(M16>0,ISNUMBER(L16)=TRUE),IF(ISNUMBER(入力!O16)=FALSE,\"\",INDEX((三万未満code,三万以上code),入力!O16+1,1,IF((L16+M16)<30000,1,2))),0)","v":0}]
[null,null,{"$f":"IF(入力!C17=\"\",\"\",+入力!C17)","v":""},null,null,null,null,null,null,null,null,null,null,null,null,null,null,"件数",null,"金額"]
[4,null,{"$f":"IF(入力!C18=\"\",\"\",+入力!C18)","v":""},{"$f":"IF(入力!D18=\"\",\"\",+入力!D18)","v":""},{"$f":"IF(入力!E18=\"\",\"\",+入力!E18)","v":""},null,{"$f":"IF(入力!G18=\"\",\"\",+入力!G18)","v":""},null,null,null,null,{"$f":"IF(入力!L18=0,\"\",IF(入力!Q18=1,(入力!L18-入力!M18),入力!L18))","v":""},{"$f":"入力!M18","v":0},{"$f":"IF(AND(M18>0,ISNUMBER(L18)=TRUE),IF(ISNUMBER(入力!O18)=FALSE,\"\",INDEX((三万未満code,三万以上code),入力!O18+1,1,IF((L18+M18)<30000,1,2))),0)","v":0},null,"お振込金額合計",null,{"$f":"H918","v":0},"件",{"$f":"L918","v":0},null,"円"]
[null,null,{"$f":"IF(入力!C19=\"\",\"\",+入力!C19)","v":""}]
[5,null,{"$f":"IF(入力!C20=\"\",\"\",+入力!C20)","v":""},{"$f":"IF(入力!D20=\"\",\"\",+入力!D20)","v":""},{"$f":"IF(入力!E20=\"\",\"\",+入力!E20)","v":""},null,{"$f":"IF(入力!G20=\"\",\"\",+入力!G20)","v":""},null,null,null,null,{"$f":"IF(入力!L20=0,\"\",IF(入力!Q20=1,(入力!L20-入力!M20),入力!L20))","v":""},{"$f":"入力!M20","v":0},{"$f":"IF(AND(M20>0,ISNUMBER(L20)=TRUE),IF(ISNUMBER(入力!O20)=FALSE,\"\",INDEX((三万未満code,三万以上code),入力!O20+1,1,IF((L20+M20)<30000,1,2))),0)","v":0},null,"区分",null,"件数",null,"金額"]
[null,null,{"$f":"IF(入力!C21=\"\",\"\",+入力!C21)","v":""},null,null,null,null,null,null,null,null,null,null,null,null,"同一店"," 3万円以上",{"$f":"COUNTIF(N12:N915,\"h\")","v":0},"件",{"$f":"R21*説明!G$5","v":0},null,"円"]
[6,null,{"$f":"IF(入力!C22=\"\",\"\",+入力!C22)","v":""},{"$f":"IF(入力!D22=\"\",\"\",+入力!D22)","v":""},{"$f":"IF(入力!E22=\"\",\"\",+入力!E22)","v":""},null,{"$f":"IF(入力!G22=\"\",\"\",+入力!G22)","v":""},null,null,null,null,{"$f":"IF(入力!L22=0,\"\",IF(入力!Q22=1,(入力!L22-入力!M22),入力!L22))","v":""},{"$f":"入力!M22","v":0},{"$f":"IF(AND(M22>0,ISNUMBER(L22)=TRUE),IF(ISNUMBER(入力!O22)=FALSE,\"\",INDEX((三万未満code,三万以上code),入力!O22+1,1,IF((L22+M22)<30000,1,2))),0)","v":0},null,null," 3万円未満",{"$f":"COUNTIF(N12:N915,\"a\")","v":0},"件",{"$f":"R22*説明!E$5","v":0},null,"円"]
[null,null,{"$f":"IF(入力!C23=\"\",\"\",+入力!C23)","v":""},null,null,null,null,null,null,null,null,null,null,null,null,"本支店"," 3万円以上",{"$f":"COUNTIF(N12:N915,\"i\")","v":0},"件",{"$f":"R23*説明!G$6","v":0},null,"円"]
[7,null,{"$f":"IF(入力!C24=\"\",\"\",+入力!C24)","v":""},{"$f":"IF(入力!D24=\"\",\"\",+入力!D24)","v":""},{"$f":"IF(入力!E24=\"\",\"\",+入力!E24)","v":""},null,{"$f":"IF(入力!G24=\"\",\"\",+入力!G24)","v":""},null,null,null,null,{"$f":"IF(入力!L24=0,\"\",IF(入力!Q24=1,(入力!L24-入力!M24),入力!L24))","v":""},{"$f":"入力!M24","v":0},{"$f":"IF(AND(M24>0,ISNUMBER(L24)=TRUE),IF(ISNUMBER(入力!O24)=FALSE,\"\",INDEX((三万未満code,三万以上code),入力!O24+1,1,IF((L24+M24)<30000,1,2))),0)","v":0},null,null," 3万円未満",{"$f":"COUNTIF(N12:N915,\"b\")","v":0},"件",{"$f":"R24*説明!E$6","v":0},null,"円"]
[null,null,{"$f":"IF(入力!C25=\"\",\"\",+入力!C25)","v":""},null,null,null,null,null,null,null,null,null,null,null,null,"他行"," 3万円以上",{"$f":"COUNTIF(N12:N915,\"j\")","v":0},"件",{"$f":"R25*説明!G$7","v":0},null,"円"]
[8,null,{"$f":"IF(入力!C26=\"\",\"\",+入力!C26)","v":""},{"$f":"IF(入力!D26=\"\",\"\",+入力!D26)","v":""},{"$f":"IF(入力!E26=\"\",\"\",+入力!E26)","v":""},null,{"$f":"IF(入力!G26=\"\",\"\",+入力!G26)","v":""},null,null,null,null,{"$f":"IF(入力!L26=0,\"\",IF(入力!Q26=1,(入力!L26-入力!M26),入力!L26))","v":""},{"$f":"入力!M26","v":0},{"$f":"IF(AND(M26>0,ISNUMBER(L26)=TRUE),IF(ISNUMBER(入力!O26)=FALSE,\"\",INDEX((三万未満code,三万以上code),入力!O26+1,1,IF((L26+M26)<30000,1,2))),0)","v":0},null,null," 3万円未満",{"$f":"COUNTIF(N12:N915,\"c\")","v":0},"件",{"$f":"R26*説明!E$7","v":0},null,"円"]
[null,null,{"$f":"IF(入力!C27=\"\",\"\",+入力!C27)","v":""},null,null,null,null,null,null,null,null,null,null,null,null,"給振"," 当行",{"$f":"COUNTIF(N12:N915,\"k\")+COUNTIF(N12:N915,\"d\")","v":0},"件",{"$f":"R27*説明!E$8","v":0},null,"円"]
[9,null,{"$f":"IF(入力!C28=\"\",\"\",+入力!C28)","v":""},{"$f":"IF(入力!D28=\"\",\"\",+入力!D28)","v":""},{"$f":"IF(入力!E28=\"\",\"\",+入力!E28)","v":""},null,{"$f":"IF(入力!G28=\"\",\"\",+入力!G28)","v":""},null,null,null,null,{"$f":"IF(入力!L28=0,\"\",IF(入力!Q28=1,(入力!L28-入力!M28),入力!L28))","v":""},{"$f":"入力!M28","v":0},{"$f":"IF(AND(M28>0,ISNUMBER(L28)=TRUE),IF(ISNUMBER(入力!O28)=FALSE,\"\",INDEX((三万未満code,三万以上code),入力!O28+1,1,IF((L28+M28)<30000,1,2))),0)","v":0},null,null," 当行以外",{"$f":"COUNTIF(N12:N915,\"e\")+COUNTIF(N12:N915,\"l\")","v":0},"件",{"$f":"R28*説明!E$9","v":0},null,"円"]
[null,null,{"$f":"IF(入力!C29=\"\",\"\",+入力!C29)","v":""},null,null,null,null,null,null,null,null,null,null,null,null,"賞振"," 当行",{"$f":"COUNTIF(N12:N915,\"f\")+COUNTIF(N12:N915,\"m\")","v":0},"件",{"$f":"R29*説明!E$10","v":0},null,"円"]
[10,null,{"$f":"IF(入力!C30=\"\",\"\",+入力!C30)","v":""},{"$f":"IF(入力!D30=\"\",\"\",+入力!D30)","v":""},{"$f":"IF(入力!E30=\"\",\"\",+入力!E30)","v":""},null,{"$f":"IF(入力!G30=\"\",\"\",+入力!G30)","v":""},null,null,null,null,{"$f":"IF(入力!L30=0,\"\",IF(入力!Q30=1,(入力!L30-入力!M30),入力!L30))","v":""},{"$f":"入力!M30","v":0},{"$f":"IF(AND(M30>0,ISNUMBER(L30)=TRUE),IF(ISNUMBER(入力!O30)=FALSE,\"\",INDEX((三万未満code,三万以上code),入力!O30+1,1,IF((L30+M30)<30000,1,2))),0)","v":0},null,null," 当行以外",{"$f":"COUNTIF(N12:N915,\"g\")+COUNTIF(N12:N915,\"n\")","v":0},"件",{"$f":"R30*説明!E$11","v":0},null,"円"]
[null,null,{"$f":"IF(入力!C31=\"\",\"\",+入力!C31)","v":""},null,null,null,null,null,null,null,null,null,null,null,null,"合計",null,{"$f":"SUM(R21:R30)","v":0},"件",{"$f":"SUM(T21:T28)","v":0},null,"円"]
[11,null,{"$f":"IF(入力!C32=\"\",\"\",+入力!C32)","v":""},{"$f":"IF(入力!D32=\"\",\"\",+入力!D32)","v":""},{"$f":"IF(入力!E32=\"\",\"\",+入力!E32)","v":""},null,{"$f":"IF(入力!G32=\"\",\"\",+入力!G32)","v":""},null,null,null,null,{"$f":"IF(入力!L32=0,\"\",IF(入力!Q32=1,(入力!L32-入力!M32),入力!L32))","v":""},{"$f":"入力!M32","v":0},{"$f":"IF(AND(M32>0,ISNUMBER(L32)=TRUE),IF(ISNUMBER(入力!O32)=FALSE,\"\",INDEX((三万未満code,三万以上code),入力!O32+1,1,IF((L32+M32)<30000,1,2))),0)","v":0},null,"（後納の場合）",null,"（税抜金額）",null,{"$f":"T31/1.1","v":0},null,"円"]
[null,null,{"$f":"IF(入力!C33=\"\",\"\",+入力!C33)","v":""},null,null,null,null,null,null,null,null,null,null,null,null,"即納時合計",null,null,null,{"$f":"T18+T31","v":0},null,"円"]
[12,null,{"$f":"IF(入力!C34=\"\",\"\",+入力!C34)","v":""},{"$f":"IF(入力!D34=\"\",\"\",+入力!D34)","v":""},{"$f":"IF(入力!E34=\"\",\"\",+入力!E34)","v":""},null,{"$f":"IF(入力!G34=\"\",\"\",+入力!G34)","v":""},null,null,null,null,{"$f":"IF(入力!L34=0,\"\",IF(入力!Q34=1,(入力!L34-入力!M34),入力!L34))","v":""},{"$f":"入力!M34","v":0},{"$f":"IF(AND(M34>0,ISNUMBER(L34)=TRUE),IF(ISNUMBER(入力!O34)=FALSE,\"\",INDEX((三万未満code,三万以上code),入力!O34+1,1,IF((L34+M34)<30000,1,2))),0)","v":0},null,"※本表を窓口にお持ち願います。",null,null,null,null,null,{"$f":"$M$46","v":2020.01}]
[null,null,{"$f":"IF(入力!C35=\"\",\"\",+入力!C35)","v":""}]
[13,null,{"$f":"IF(入力!C36=\"\",\"\",+入力!C36)","v":""},{"$f":"IF(入力!D36=\"\",\"\",+入力!D36)","v":""},{"$f":"IF(入力!E36=\"\",\"\",+入力!E36)","v":""},null,{"$f":"IF(入力!G36=\"\",\"\",+入力!G36)","v":""},null,null,null,null,{"$f":"IF(入力!L36=0,\"\",IF(入力!Q36=1,(入力!L36-入力!M36),入力!L36))","v":""},{"$f":"入力!M36","v":0},{"$f":"IF(AND(M36>0,ISNUMBER(L36)=TRUE),IF(ISNUMBER(入力!O36)=FALSE,\"\",INDEX((三万未満code,三万以上code),入力!O36+1,1,IF((L36+M36)<30000,1,2))),0)","v":0}]
[null,null,{"$f":"IF(入力!C37=\"\",\"\",+入力!C37)","v":""}]
[14,null,{"$f":"IF(入力!C38=\"\",\"\",+入力!C38)","v":""},{"$f":"IF(入力!D38=\"\",\"\",+入力!D38)","v":""},{"$f":"IF(入力!E38=\"\",\"\",+入力!E38)","v":""},null,{"$f":"IF(入力!G38=\"\",\"\",+入力!G38)","v":""},null,null,null,null,{"$f":"IF(入力!L38=0,\"\",IF(入力!Q38=1,(入力!L38-入力!M38),入力!L38))","v":""},{"$f":"入力!M38","v":0},{"$f":"IF(AND(M38>0,ISNUMBER(L38)=TRUE),IF(ISNUMBER(入力!O38)=FALSE,\"\",INDEX((三万未満code,三万以上code),入力!O38+1,1,IF((L38+M38)<30000,1,2))),0)","v":0}]
[null,null,{"$f":"IF(入力!C39=\"\",\"\",+入力!C39)","v":""}]
[15,null,{"$f":"IF(入力!C40=\"\",\"\",+入力!C40)","v":""},{"$f":"IF(入力!D40=\"\",\"\",+入力!D40)","v":""},{"$f":"IF(入力!E40=\"\",\"\",+入力!E40)","v":""},null,{"$f":"IF(入力!G40=\"\",\"\",+入力!G40)","v":""},null,null,null,null,{"$f":"IF(入力!L40=0,\"\",IF(入力!Q40=1,(入力!L40-入力!M40),入力!L40))","v":""},{"$f":"入力!M40","v":0},{"$f":"IF(AND(M40>0,ISNUMBER(L40)=TRUE),IF(ISNUMBER(入力!O40)=FALSE,\"\",INDEX((三万未満code,三万以上code),入力!O40+1,1,IF((L40+M40)<30000,1,2))),0)","v":0}]
[null,null,{"$f":"IF(入力!C41=\"\",\"\",+入力!C41)","v":""}]
["科目",null,"　普　 通 　預　 金　","フ",null,null,null,{"$f":"COUNTIF(L12:L41,\">=1\")","v":0},"件","小計",null,{"$f":"SUM(L12:L41)","v":0},{"$f":"SUM(M12:M41)","v":0}]
[null,null,"　当 　座　 預　 金","ト"]
[null,null,"　貯　 蓄　 預　 金","チ",null,null,null,{"$f":"H42","v":0},"件","合計",null,{"$f":"L42","v":0},{"$f":"M42","v":0}]
[null,null,"　　そ　　の　　他","ソ"]
[null,null,null,null,null,null,null,null,null,null,null,null,2020.01]
[null,null,{"$f":"C$1","v":2020.01},null,"　　　　　　振 込 依 頼 書",null,null,null,null,null,null,null,{"$f":"入力!M47","v":"ページ　2"}]
[]
[null,null,null,null,null,null,null,null,null,null,"ご依頼日",{"$f":"IF(入力!$L$3=\"\",\"平成　　年　　月　　日\",入力!$L$3)","v":"2020-09-01"},null,null,null,"ご依頼人",null,null,null,"お客様　→　銀行　→　お客様"]
[null,null,{"$f":"+入力!$C50","v":"福島銀行"},null,null,null,null,null,null,"お客様番号",null,{"$f":"IF(入力!$L$4=\"\",\"\",入力!$L$4)","v":""},null,null,null,{"$f":"入力!L52&\"  様\"","v":"  様"}]
[null,{"$f":"IF(入力!$B$5=0,\"\",入力!$B$5)","v":""},null,null,"御中",null,null,null,null,"依頼人名カナ",null,{"$f":"IF(入力!$L$5=\"\",\"\",入力!$L$5)","v":""}]
[null,null,null,null,null,"振込種類",null,null,null,"依頼人名",null,{"$f":"IF(入力!$L$6=\"\",\"\",入力!$L$6)","v":""},null,null,null,null,null,"ご依頼日",null,{"$f":"IF(入力!$L$3=\"\",\"平成　　年　　月　　日\",入力!$L$3)","v":"2020-09-01"}]
[null,null,"振込指定日",null,null,{"$f":"$F$7","v":"1フリコミ"},null,null,null," 担当者名",null,{"$f":"IF(入力!$L$7=\"\",\"\",入力!$L$7)","v":""}]
[null,{"$f":"入力!$B$8","v":"2020-09-01"},null,null,null,null,null,null,null,"電話番号",null,{"$f":"IF(入力!$L$8=\"\",\"\",入力!$L$8)","v":""},null,null,null,"□","　振込金受取書（兼振込手数料領収書）"]
[null,null,null,null,null,null,null,null,null,null,null,null,null,null,null,"□","預金口座払戻請求書",null,"による振込受付書（兼振込手数料領収書）"]
[null,null,"金 融 機 関 名","科目","口 座 番 号",null,"受　  　　　取 　　 　　人　　　 　　名",null,null,null,null,"　金　　　　　　　額"," 手数料　円",null,null,null,"または預金口座振替書"]
[null,null,"支　  　店　　  名","目",null,null,"（　カ　タ　カ　ナ　記　入　）",null,null,null,null,"　　　　　　　　　　円","(消費税含）"]
[1,null,{"$f":"IF(入力!C58=\"\",\"\",+入力!C58)","v":""},{"$f":"IF(入力!D58=\"\",\"\",+入力!D58)","v":""},{"$f":"IF(入力!E58=\"\",\"\",+入力!E58)","v":""},null,{"$f":"IF(入力!G58=\"\",\"\",+入力!G58)","v":""},null,null,null,null,{"$f":"IF(入力!L58=0,\"\",IF(入力!Q58=1,(入力!L58-入力!M58),入力!L58))","v":""},{"$f":"入力!M58","v":0},{"$f":"IF(AND(M58>0,ISNUMBER(L58)=TRUE),IF(ISNUMBER(入力!O58)=FALSE,\"\",INDEX((三万未満code,三万以上code),入力!O58+1,1,IF((L58+M58)<30000,1,2))),0)","v":0}]
[null,null,{"$f":"IF(入力!C59=\"\",\"\",+入力!C59)","v":""},null,null,null,null,null,null,null,null,null,null,null,null,"区分",null,"件数",null,"金額"]
[2,null,{"$f":"IF(入力!C60=\"\",\"\",+入力!C60)","v":""},{"$f":"IF(入力!D60=\"\",\"\",+入力!D60)","v":""},{"$f":"IF(入力!E60=\"\",\"\",+入力!E60)","v":""},null,{"$f":"IF(入力!G60=\"\",\"\",+入力!G60)","v":""},null,null,null,null,{"$f":"IF(入力!L60=0,\"\",IF(入力!Q60=1,(入力!L60-入力!M60),入力!L60))","v":""},{"$f":"入力!M60","v":0},{"$f":"IF(AND(M60>0,ISNUMBER(L60)=TRUE),IF(ISNUMBER(入力!O60)=FALSE,\"\",INDEX((三万未満code,三万以上code),入力!O60+1,1,IF((L60+M60)<30000,1,2))),0)","v":0},null,"お振込金額合計",null,{"$f":"H918","v":0},"件",{"$f":"L918","v":0},null,"円"]
[null,null,{"$f":"IF(入力!C61=\"\",\"\",+入力!C61)","v":""},null,null,null,null,null,null,null,null,null,null,null,null,"お振込手数料合計",null,{"$f":"R31","v":0},"件",{"$f":"M918","v":0},null,"円"]
[3,null,{"$f":"IF(入力!C62=\"\",\"\",+入力!C62)","v":""},{"$f":"IF(入力!D62=\"\",\"\",+入力!D62)","v":""},{"$f":"IF(入力!E62=\"\",\"\",+入力!E62)","v":""},null,{"$f":"IF(入力!G62=\"\",\"\",+入力!G62)","v":""},null,null,null,null,{"$f":"IF(入力!L62=0,\"\",IF(入力!Q62=1,(入力!L62-入力!M62),入力!L62))","v":""},{"$f":"入力!M62","v":0},{"$f":"IF(AND(M62>0,ISNUMBER(L62)=TRUE),IF(ISNUMBER(入力!O62)=FALSE,\"\",INDEX((三万未満code,三万以上code),入力!O62+1,1,IF((L62+M62)<30000,1,2))),0)","v":0},null,null,null,null,null,null,"（ □即納 ・ □後納 ）"]
[null,null,{"$f":"IF(入力!C63=\"\",\"\",+入力!C63)","v":""},null,null,null,null,null,null,null,null,null,null,null,null,"福島銀行をご利用いただきましてありがとうございます。"]
[4,null,{"$f":"IF(入力!C64=\"\",\"\",+入力!C64)","v":""},{"$f":"IF(入力!D64=\"\",\"\",+入力!D64)","v":""},{"$f":"IF(入力!E64=\"\",\"\",+入力!E64)","v":""},null,{"$f":"IF(入力!G64=\"\",\"\",+入力!G64)","v":""},null,null,null,null,{"$f":"IF(入力!L64=0,\"\",IF(入力!Q64=1,(入力!L64-入力!M64),入力!L64))","v":""},{"$f":"入力!M64","v":0},{"$f":"IF(AND(M64>0,ISNUMBER(L64)=TRUE),IF(ISNUMBER(入力!O64)=FALSE,\"\",INDEX((三万未満code,三万以上code),入力!O64+1,1,IF((L64+M64)<30000,1,2))),0)","v":0},null,"○お振込み先には、お受取人名等をカナ文字にて送信いたします。"]
[null,null,{"$f":"IF(入力!C65=\"\",\"\",+入力!C65)","v":""},null,null,null,null,null,null,null,null,null,null,null,null,"○振込依頼書に記載相違等があった場合には、照会等のため振込が遅延"]
[5,null,{"$f":"IF(入力!C66=\"\",\"\",+入力!C66)","v":""},{"$f":"IF(入力!D66=\"\",\"\",+入力!D66)","v":""},{"$f":"IF(入力!E66=\"\",\"\",+入力!E66)","v":""},null,{"$f":"IF(入力!G66=\"\",\"\",+入力!G66)","v":""},null,null,null,null,{"$f":"IF(入力!L66=0,\"\",IF(入力!Q66=1,(入力!L66-入力!M66),入力!L66))","v":""},{"$f":"入力!M66","v":0},{"$f":"IF(AND(M66>0,ISNUMBER(L66)=TRUE),IF(ISNUMBER(入力!O66)=FALSE,\"\",INDEX((三万未満code,三万以上code),入力!O66+1,1,IF((L66+M66)<30000,1,2))),0)","v":0},null,"　または入金できないことがあります。"]
[null,null,{"$f":"IF(入力!C67=\"\",\"\",+入力!C67)","v":""},null,null,null,null,null,null,null,null,null,null,null,null,"○振込受付時間終了間際のお振込は、本日中にお受取人口座に入金されない"]
[6,null,{"$f":"IF(入力!C68=\"\",\"\",+入力!C68)","v":""},{"$f":"IF(入力!D68=\"\",\"\",+入力!D68)","v":""},{"$f":"IF(入力!E68=\"\",\"\",+入力!E68)","v":""},null,{"$f":"IF(入力!G68=\"\",\"\",+入力!G68)","v":""},null,null,null,null,{"$f":"IF(入力!L68=0,\"\",IF(入力!Q68=1,(入力!L68-入力!M68),入力!L68))","v":""},{"$f":"入力!M68","v":0},{"$f":"IF(AND(M68>0,ISNUMBER(L68)=TRUE),IF(ISNUMBER(入力!O68)=FALSE,\"\",INDEX((三万未満code,三万以上code),入力!O68+1,1,IF((L68+M68)<30000,1,2))),0)","v":0},null,"　場合がありますのでご了承ください。"]
[null,null,{"$f":"IF(入力!C69=\"\",\"\",+入力!C69)","v":""},null,null,null,null,null,null,null,null,null,null,null,null,"○通信機器、回線の障害等やむを得ない事由により振込が遅延すること"]
[7,null,{"$f":"IF(入力!C70=\"\",\"\",+入力!C70)","v":""},{"$f":"IF(入力!D70=\"\",\"\",+入力!D70)","v":""},{"$f":"IF(入力!E70=\"\",\"\",+入力!E70)","v":""},null,{"$f":"IF(入力!G70=\"\",\"\",+入力!G70)","v":""},null,null,null,null,{"$f":"IF(入力!L70=0,\"\",IF(入力!Q70=1,(入力!L70-入力!M70),入力!L70))","v":""},{"$f":"入力!M70","v":0},{"$f":"IF(AND(M70>0,ISNUMBER(L70)=TRUE),IF(ISNUMBER(入力!O70)=FALSE,\"\",INDEX((三万未満code,三万以上code),入力!O70+1,1,IF((L70+M70)<30000,1,2))),0)","v":0},null,"　もありますのでご了承ください。"]
[null,null,{"$f":"IF(入力!C71=\"\",\"\",+入力!C71)","v":""}]
[8,null,{"$f":"IF(入力!C72=\"\",\"\",+入力!C72)","v":""},{"$f":"IF(入力!D72=\"\",\"\",+入力!D72)","v":""},{"$f":"IF(入力!E72=\"\",\"\",+入力!E72)","v":""},null,{"$f":"IF(入力!G72=\"\",\"\",+入力!G72)","v":""},null,null,null,null,{"$f":"IF(入力!L72=0,\"\",IF(入力!Q72=1,(入力!L72-入力!M72),入力!L72))","v":""},{"$f":"入力!M72","v":0},{"$f":"IF(AND(M72>0,ISNUMBER(L72)=TRUE),IF(ISNUMBER(入力!O72)=FALSE,\"\",INDEX((三万未満code,三万以上code),入力!O72+1,1,IF((L72+M72)<30000,1,2))),0)","v":0},null,null,"株式会社　福島銀行",null,null,"印　　　紙\n\n１７号文書"]
[null,null,{"$f":"IF(入力!C73=\"\",\"\",+入力!C73)","v":""},null,null,null,null,null,null,null,null,null,null,null,null,null,{"$f":"B51","v":""}]
[9,null,{"$f":"IF(入力!C74=\"\",\"\",+入力!C74)","v":""},{"$f":"IF(入力!D74=\"\",\"\",+入力!D74)","v":""},{"$f":"IF(入力!E74=\"\",\"\",+入力!E74)","v":""},null,{"$f":"IF(入力!G74=\"\",\"\",+入力!G74)","v":""},null,null,null,null,{"$f":"IF(入力!L74=0,\"\",IF(入力!Q74=1,(入力!L74-入力!M74),入力!L74))","v":""},{"$f":"入力!M74","v":0},{"$f":"IF(AND(M74>0,ISNUMBER(L74)=TRUE),IF(ISNUMBER(入力!O74)=FALSE,\"\",INDEX((三万未満code,三万以上code),入力!O74+1,1,IF((L74+M74)<30000,1,2))),0)","v":0}]
[null,null,{"$f":"IF(入力!C75=\"\",\"\",+入力!C75)","v":""},null,null,null,null,null,null,null,null,null,null,null,null,null,"（印紙不要）○振込金受取書（含手数料）５万円未満"]
[10,null,{"$f":"IF(入力!C76=\"\",\"\",+入力!C76)","v":""},{"$f":"IF(入力!D76=\"\",\"\",+入力!D76)","v":""},{"$f":"IF(入力!E76=\"\",\"\",+入力!E76)","v":""},null,{"$f":"IF(入力!G76=\"\",\"\",+入力!G76)","v":""},null,null,null,null,{"$f":"IF(入力!L76=0,\"\",IF(入力!Q76=1,(入力!L76-入力!M76),入力!L76))","v":""},{"$f":"入力!M76","v":0},{"$f":"IF(AND(M76>0,ISNUMBER(L76)=TRUE),IF(ISNUMBER(入力!O76)=FALSE,\"\",INDEX((三万未満code,三万以上code),入力!O76+1,1,IF((L76+M76)<30000,1,2))),0)","v":0},null,null,"　　　　　　　　○振込受付書としての使用"]
[null,null,{"$f":"IF(入力!C77=\"\",\"\",+入力!C77)","v":""}]
[11,null,{"$f":"IF(入力!C78=\"\",\"\",+入力!C78)","v":""},{"$f":"IF(入力!D78=\"\",\"\",+入力!D78)","v":""},{"$f":"IF(入力!E78=\"\",\"\",+入力!E78)","v":""},null,{"$f":"IF(入力!G78=\"\",\"\",+入力!G78)","v":""},null,null,null,null,{"$f":"IF(入力!L78=0,\"\",IF(入力!Q78=1,(入力!L78-入力!M78),入力!L78))","v":""},{"$f":"入力!M78","v":0},{"$f":"IF(AND(M78>0,ISNUMBER(L78)=TRUE),IF(ISNUMBER(入力!O78)=FALSE,\"\",INDEX((三万未満code,三万以上code),入力!O78+1,1,IF((L78+M78)<30000,1,2))),0)","v":0},null,null,null,null,null,null,null,{"$f":"$M$46","v":2020.01}]
[null,null,{"$f":"IF(入力!C79=\"\",\"\",+入力!C79)","v":""}]
[12,null,{"$f":"IF(入力!C80=\"\",\"\",+入力!C80)","v":""},{"$f":"IF(入力!D80=\"\",\"\",+入力!D80)","v":""},{"$f":"IF(入力!E80=\"\",\"\",+入力!E80)","v":""},null,{"$f":"IF(入力!G80=\"\",\"\",+入力!G80)","v":""},null,null,null,null,{"$f":"IF(入力!L80=0,\"\",IF(入力!Q80=1,(入力!L80-入力!M80),入力!L80))","v":""},{"$f":"入力!M80","v":0},{"$f":"IF(AND(M80>0,ISNUMBER(L80)=TRUE),IF(ISNUMBER(入力!O80)=FALSE,\"\",INDEX((三万未満code,三万以上code),入力!O80+1,1,IF((L80+M80)<30000,1,2))),0)","v":0}]
[null,null,{"$f":"IF(入力!C81=\"\",\"\",+入力!C81)","v":""}]
[13,null,{"$f":"IF(入力!C82=\"\",\"\",+入力!C82)","v":""},{"$f":"IF(入力!D82=\"\",\"\",+入力!D82)","v":""},{"$f":"IF(入力!E82=\"\",\"\",+入力!E82)","v":""},null,{"$f":"IF(入力!G82=\"\",\"\",+入力!G82)","v":""},null,null,null,null,{"$f":"IF(入力!L82=0,\"\",IF(入力!Q82=1,(入力!L82-入力!M82),入力!L82))","v":""},{"$f":"入力!M82","v":0},{"$f":"IF(AND(M82>0,ISNUMBER(L82)=TRUE),IF(ISNUMBER(入力!O82)=FALSE,\"\",INDEX((三万未満code,三万以上code),入力!O82+1,1,IF((L82+M82)<30000,1,2))),0)","v":0}]
[null,null,{"$f":"IF(入力!C83=\"\",\"\",+入力!C83)","v":""}]
[14,null,{"$f":"IF(入力!C84=\"\",\"\",+入力!C84)","v":""},{"$f":"IF(入力!D84=\"\",\"\",+入力!D84)","v":""},{"$f":"IF(入力!E84=\"\",\"\",+入力!E84)","v":""},null,{"$f":"IF(入力!G84=\"\",\"\",+入力!G84)","v":""},null,null,null,null,{"$f":"IF(入力!L84=0,\"\",IF(入力!Q84=1,(入力!L84-入力!M84),入力!L84))","v":""},{"$f":"入力!M84","v":0},{"$f":"IF(AND(M84>0,ISNUMBER(L84)=TRUE),IF(ISNUMBER(入力!O84)=FALSE,\"\",INDEX((三万未満code,三万以上code),入力!O84+1,1,IF((L84+M84)<30000,1,2))),0)","v":0}]
[null,null,{"$f":"IF(入力!C85=\"\",\"\",+入力!C85)","v":""}]
[15,null,{"$f":"IF(入力!C86=\"\",\"\",+入力!C86)","v":""},{"$f":"IF(入力!D86=\"\",\"\",+入力!D86)","v":""},{"$f":"IF(入力!E86=\"\",\"\",+入力!E86)","v":""},null,{"$f":"IF(入力!G86=\"\",\"\",+入力!G86)","v":""},null,null,null,null,{"$f":"IF(入力!L86=0,\"\",IF(入力!Q86=1,(入力!L86-入力!M86),入力!L86))","v":""},{"$f":"入力!M86","v":0},{"$f":"IF(AND(M86>0,ISNUMBER(L86)=TRUE),IF(ISNUMBER(入力!O86)=FALSE,\"\",INDEX((三万未満code,三万以上code),入力!O86+1,1,IF((L86+M86)<30000,1,2))),0)","v":0}]
[null,null,{"$f":"IF(入力!C87=\"\",\"\",+入力!C87)","v":""}]
["科目",null,"　普　 通 　預　 金　","フ",null,null,null,{"$f":"COUNTIF(L58:L87,\">=1\")","v":0},"件","小計",null,{"$f":"SUM(L58:L87)","v":0},{"$f":"SUM(M58:M87)","v":0}]
[null,null,"　当 　座　 預　 金","ト"]
[null,null,"　貯　 蓄　 預　 金","チ",null,null,null,{"$f":"H44+H88","v":0},"件","合計",null,{"$f":"L88+L44","v":0},{"$f":"M88+M44","v":0}]
[null,null,"　　そ　　の　　他","ソ"]
[null,null,null,null,null,null,null,null,null,null,null,null,{"$f":"$M$46","v":2020.01}]
[null,null,{"$f":"C$1","v":2020.01},null,"　　　　　　振 込 依 頼 書",null,null,null,null,null,null,null,{"$f":"入力!M93","v":"ページ　3"}]
[]
[null,null,null,null,null,null,null,null,null,null,"ご依頼日",{"$f":"IF(入力!$L$3=\"\",\"平成　　年　　月　　日\",入力!$L$3)","v":"2020-09-01"}]
[null,null,{"$f":"+入力!$C96","v":"福島銀行"},null,null,null,null,null,null,"お客様番号",null,{"$f":"IF(入力!$L$4=\"\",\"\",入力!$L$4)","v":""}]
[null,{"$f":"IF(入力!$B$5=0,\"\",入力!$B$5)","v":""},null,null,"御中",null,null,null,null,"依頼人名カナ",null,{"$f":"IF(入力!$L$5=\"\",\"\",入力!$L$5)","v":""}]
[null,null,null,null,null,"振込種類",null,null,null,"会社名",null,{"$f":"IF(入力!$L$6=\"\",\"\",入力!$L$6)","v":""}]
[null,null,"振込指定日",null,null,{"$f":"$F$7","v":"1フリコミ"},null,null,null," 担当者名",null,{"$f":"IF(入力!$L$7=\"\",\"\",入力!$L$7)","v":""}]
[null,{"$f":"入力!$B$8","v":"2020-09-01"},null,null,null,null,null,null,null,"電話番号",null,{"$f":"IF(入力!$L$8=\"\",\"\",入力!$L$8)","v":""}]
[]
[null,null,"金 融 機 関 名","科目","口 座 番 号",null,"受　  　　　取 　　 　　人　　　 　　名",null,null,null,null,"　金　　　　　　　額"," 手数料　円"]
[null,null,"支　  　店　　  名","目",null,null,"（　カ　タ　カ　ナ　記　入　）",null,null,null,null,"　　　　　　　　　　円","(消費税含）"]
[1,null,{"$f":"IF(入力!C104=\"\",\"\",+入力!C104)","v":""},{"$f":"IF(入力!D104=\"\",\"\",+入力!D104)","v":""},{"$f":"IF(入力!E104=\"\",\"\",+入力!E104)","v":""},null,{"$f":"IF(入力!G104=\"\",\"\",+入力!G104)","v":""},null,null,null,null,{"$f":"IF(入力!L104=0,\"\",IF(入力!Q104=1,(入力!L104-入力!M104),入力!L104))","v":""},{"$f":"入力!M104","v":0},{"$f":"IF(AND(M104>0,ISNUMBER(L104)=TRUE),IF(ISNUMBER(入力!O104)=FALSE,\"\",INDEX((三万未満code,三万以上code),入力!O104+1,1,IF((L104+M104)<30000,1,2))),0)","v":0}]
[null,null,{"$f":"IF(入力!C105=\"\",\"\",+入力!C105)","v":""}]
[2,null,{"$f":"IF(入力!C106=\"\",\"\",+入力!C106)","v":""},{"$f":"IF(入力!D106=\"\",\"\",+入力!D106)","v":""},{"$f":"IF(入力!E106=\"\",\"\",+入力!E106)","v":""},null,{"$f":"IF(入力!G106=\"\",\"\",+入力!G106)","v":""},null,null,null,null,{"$f":"IF(入力!L106=0,\"\",IF(入力!Q106=1,(入力!L106-入力!M106),入力!L106))","v":""},{"$f":"入力!M106","v":0},{"$f":"IF(AND(M106>0,ISNUMBER(L106)=TRUE),IF(ISNUMBER(入力!O106)=FALSE,\"\",INDEX((三万未満code,三万以上code),入力!O106+1,1,IF((L106+M106)<30000,1,2))),0)","v":0}]
[null,null,{"$f":"IF(入力!C107=\"\",\"\",+入力!C107)","v":""}]
[3,null,{"$f":"IF(入力!C108=\"\",\"\",+入力!C108)","v":""},{"$f":"IF(入力!D108=\"\",\"\",+入力!D108)","v":""},{"$f":"IF(入力!E108=\"\",\"\",+入力!E108)","v":""},null,{"$f":"IF(入力!G108=\"\",\"\",+入力!G108)","v":""},null,null,null,null,{"$f":"IF(入力!L108=0,\"\",IF(入力!Q108=1,(入力!L108-入力!M108),入力!L108))","v":""},{"$f":"入力!M108","v":0},{"$f":"IF(AND(M108>0,ISNUMBER(L108)=TRUE),IF(ISNUMBER(入力!O108)=FALSE,\"\",INDEX((三万未満code,三万以上code),入力!O108+1,1,IF((L108+M108)<30000,1,2))),0)","v":0}]
[null,null,{"$f":"IF(入力!C109=\"\",\"\",+入力!C109)","v":""}]
[4,null,{"$f":"IF(入力!C110=\"\",\"\",+入力!C110)","v":""},{"$f":"IF(入力!D110=\"\",\"\",+入力!D110)","v":""},{"$f":"IF(入力!E110=\"\",\"\",+入力!E110)","v":""},null,{"$f":"IF(入力!G110=\"\",\"\",+入力!G110)","v":""},null,null,null,null,{"$f":"IF(入力!L110=0,\"\",IF(入力!Q110=1,(入力!L110-入力!M110),入力!L110))","v":""},{"$f":"入力!M110","v":0},{"$f":"IF(AND(M110>0,ISNUMBER(L110)=TRUE),IF(ISNUMBER(入力!O110)=FALSE,\"\",INDEX((三万未満code,三万以上code),入力!O110+1,1,IF((L110+M110)<30000,1,2))),0)","v":0}]
[null,null,{"$f":"IF(入力!C111=\"\",\"\",+入力!C111)","v":""}]
[5,null,{"$f":"IF(入力!C112=\"\",\"\",+入力!C112)","v":""},{"$f":"IF(入力!D112=\"\",\"\",+入力!D112)","v":""},{"$f":"IF(入力!E112=\"\",\"\",+入力!E112)","v":""},null,{"$f":"IF(入力!G112=\"\",\"\",+入力!G112)","v":""},null,null,null,null,{"$f":"IF(入力!L112=0,\"\",IF(入力!Q112=1,(入力!L112-入力!M112),入力!L112))","v":""},{"$f":"入力!M112","v":0},{"$f":"IF(AND(M112>0,ISNUMBER(L112)=TRUE),IF(ISNUMBER(入力!O112)=FALSE,\"\",INDEX((三万未満code,三万以上code),入力!O112+1,1,IF((L112+M112)<30000,1,2))),0)","v":0}]
[null,null,{"$f":"IF(入力!C113=\"\",\"\",+入力!C113)","v":""}]
[6,null,{"$f":"IF(入力!C114=\"\",\"\",+入力!C114)","v":""},{"$f":"IF(入力!D114=\"\",\"\",+入力!D114)","v":""},{"$f":"IF(入力!E114=\"\",\"\",+入力!E114)","v":""},null,{"$f":"IF(入力!G114=\"\",\"\",+入力!G114)","v":""},null,null,null,null,{"$f":"IF(入力!L114=0,\"\",IF(入力!Q114=1,(入力!L114-入力!M114),入力!L114))","v":""},{"$f":"入力!M114","v":0},{"$f":"IF(AND(M114>0,ISNUMBER(L114)=TRUE),IF(ISNUMBER(入力!O114)=FALSE,\"\",INDEX((三万未満code,三万以上code),入力!O114+1,1,IF((L114+M114)<30000,1,2))),0)","v":0}]
[null,null,{"$f":"IF(入力!C115=\"\",\"\",+入力!C115)","v":""}]
[7,null,{"$f":"IF(入力!C116=\"\",\"\",+入力!C116)","v":""},{"$f":"IF(入力!D116=\"\",\"\",+入力!D116)","v":""},{"$f":"IF(入力!E116=\"\",\"\",+入力!E116)","v":""},null,{"$f":"IF(入力!G116=\"\",\"\",+入力!G116)","v":""},null,null,null,null,{"$f":"IF(入力!L116=0,\"\",IF(入力!Q116=1,(入力!L116-入力!M116),入力!L116))","v":""},{"$f":"入力!M116","v":0},{"$f":"IF(AND(M116>0,ISNUMBER(L116)=TRUE),IF(ISNUMBER(入力!O116)=FALSE,\"\",INDEX((三万未満code,三万以上code),入力!O116+1,1,IF((L116+M116)<30000,1,2))),0)","v":0}]
[null,null,{"$f":"IF(入力!C117=\"\",\"\",+入力!C117)","v":""}]
[8,null,{"$f":"IF(入力!C118=\"\",\"\",+入力!C118)","v":""},{"$f":"IF(入力!D118=\"\",\"\",+入力!D118)","v":""},{"$f":"IF(入力!E118=\"\",\"\",+入力!E118)","v":""},null,{"$f":"IF(入力!G118=\"\",\"\",+入力!G118)","v":""},null,null,null,null,{"$f":"IF(入力!L118=0,\"\",IF(入力!Q118=1,(入力!L118-入力!M118),入力!L118))","v":""},{"$f":"入力!M118","v":0},{"$f":"IF(AND(M118>0,ISNUMBER(L118)=TRUE),IF(ISNUMBER(入力!O118)=FALSE,\"\",INDEX((三万未満code,三万以上code),入力!O118+1,1,IF((L118+M118)<30000,1,2))),0)","v":0}]
[null,null,{"$f":"IF(入力!C119=\"\",\"\",+入力!C119)","v":""}]
[9,null,{"$f":"IF(入力!C120=\"\",\"\",+入力!C120)","v":""},{"$f":"IF(入力!D120=\"\",\"\",+入力!D120)","v":""},{"$f":"IF(入力!E120=\"\",\"\",+入力!E120)","v":""},null,{"$f":"IF(入力!G120=\"\",\"\",+入力!G120)","v":""},null,null,null,null,{"$f":"IF(入力!L120=0,\"\",IF(入力!Q120=1,(入力!L120-入力!M120),入力!L120))","v":""},{"$f":"入力!M120","v":0},{"$f":"IF(AND(M120>0,ISNUMBER(L120)=TRUE),IF(ISNUMBER(入力!O120)=FALSE,\"\",INDEX((三万未満code,三万以上code),入力!O120+1,1,IF((L120+M120)<30000,1,2))),0)","v":0}]
[null,null,{"$f":"IF(入力!C121=\"\",\"\",+入力!C121)","v":""}]
[10,null,{"$f":"IF(入力!C122=\"\",\"\",+入力!C122)","v":""},{"$f":"IF(入力!D122=\"\",\"\",+入力!D122)","v":""},{"$f":"IF(入力!E122=\"\",\"\",+入力!E122)","v":""},null,{"$f":"IF(入力!G122=\"\",\"\",+入力!G122)","v":""},null,null,null,null,{"$f":"IF(入力!L122=0,\"\",IF(入力!Q122=1,(入力!L122-入力!M122),入力!L122))","v":""},{"$f":"入力!M122","v":0},{"$f":"IF(AND(M122>0,ISNUMBER(L122)=TRUE),IF(ISNUMBER(入力!O122)=FALSE,\"\",INDEX((三万未満code,三万以上code),入力!O122+1,1,IF((L122+M122)<30000,1,2))),0)","v":0}]
[null,null,{"$f":"IF(入力!C123=\"\",\"\",+入力!C123)","v":""}]
[11,null,{"$f":"IF(入力!C124=\"\",\"\",+入力!C124)","v":""},{"$f":"IF(入力!D124=\"\",\"\",+入力!D124)","v":""},{"$f":"IF(入力!E124=\"\",\"\",+入力!E124)","v":""},null,{"$f":"IF(入力!G124=\"\",\"\",+入力!G124)","v":""},null,null,null,null,{"$f":"IF(入力!L124=0,\"\",IF(入力!Q124=1,(入力!L124-入力!M124),入力!L124))","v":""},{"$f":"入力!M124","v":0},{"$f":"IF(AND(M124>0,ISNUMBER(L124)=TRUE),IF(ISNUMBER(入力!O124)=FALSE,\"\",INDEX((三万未満code,三万以上code),入力!O124+1,1,IF((L124+M124)<30000,1,2))),0)","v":0}]
[null,null,{"$f":"IF(入力!C125=\"\",\"\",+入力!C125)","v":""}]
[12,null,{"$f":"IF(入力!C126=\"\",\"\",+入力!C126)","v":""},{"$f":"IF(入力!D126=\"\",\"\",+入力!D126)","v":""},{"$f":"IF(入力!E126=\"\",\"\",+入力!E126)","v":""},null,{"$f":"IF(入力!G126=\"\",\"\",+入力!G126)","v":""},null,null,null,null,{"$f":"IF(入力!L126=0,\"\",IF(入力!Q126=1,(入力!L126-入力!M126),入力!L126))","v":""},{"$f":"入力!M126","v":0},{"$f":"IF(AND(M126>0,ISNUMBER(L126)=TRUE),IF(ISNUMBER(入力!O126)=FALSE,\"\",INDEX((三万未満code,三万以上code),入力!O126+1,1,IF((L126+M126)<30000,1,2))),0)","v":0}]
[null,null,{"$f":"IF(入力!C127=\"\",\"\",+入力!C127)","v":""}]
[13,null,{"$f":"IF(入力!C128=\"\",\"\",+入力!C128)","v":""},{"$f":"IF(入力!D128=\"\",\"\",+入力!D128)","v":""},{"$f":"IF(入力!E128=\"\",\"\",+入力!E128)","v":""},null,{"$f":"IF(入力!G128=\"\",\"\",+入力!G128)","v":""},null,null,null,null,{"$f":"IF(入力!L128=0,\"\",IF(入力!Q128=1,(入力!L128-入力!M128),入力!L128))","v":""},{"$f":"入力!M128","v":0},{"$f":"IF(AND(M128>0,ISNUMBER(L128)=TRUE),IF(ISNUMBER(入力!O128)=FALSE,\"\",INDEX((三万未満code,三万以上code),入力!O128+1,1,IF((L128+M128)<30000,1,2))),0)","v":0}]
[null,null,{"$f":"IF(入力!C129=\"\",\"\",+入力!C129)","v":""}]
[14,null,{"$f":"IF(入力!C130=\"\",\"\",+入力!C130)","v":""},{"$f":"IF(入力!D130=\"\",\"\",+入力!D130)","v":""},{"$f":"IF(入力!E130=\"\",\"\",+入力!E130)","v":""},null,{"$f":"IF(入力!G130=\"\",\"\",+入力!G130)","v":""},null,null,null,null,{"$f":"IF(入力!L130=0,\"\",IF(入力!Q130=1,(入力!L130-入力!M130),入力!L130))","v":""},{"$f":"入力!M130","v":0},{"$f":"IF(AND(M130>0,ISNUMBER(L130)=TRUE),IF(ISNUMBER(入力!O130)=FALSE,\"\",INDEX((三万未満code,三万以上code),入力!O130+1,1,IF((L130+M130)<30000,1,2))),0)","v":0}]
[null,null,{"$f":"IF(入力!C131=\"\",\"\",+入力!C131)","v":""}]
[15,null,{"$f":"IF(入力!C132=\"\",\"\",+入力!C132)","v":""},{"$f":"IF(入力!D132=\"\",\"\",+入力!D132)","v":""},{"$f":"IF(入力!E132=\"\",\"\",+入力!E132)","v":""},null,{"$f":"IF(入力!G132=\"\",\"\",+入力!G132)","v":""},null,null,null,null,{"$f":"IF(入力!L132=0,\"\",IF(入力!Q132=1,(入力!L132-入力!M132),入力!L132))","v":""},{"$f":"入力!M132","v":0},{"$f":"IF(AND(M132>0,ISNUMBER(L132)=TRUE),IF(ISNUMBER(入力!O132)=FALSE,\"\",INDEX((三万未満code,三万以上code),入力!O132+1,1,IF((L132+M132)<30000,1,2))),0)","v":0}]
[null,null,{"$f":"IF(入力!C133=\"\",\"\",+入力!C133)","v":""}]
["科目",null,"　普　 通 　預　 金　","フ",null,null,null,{"$f":"COUNTIF(L104:L133,\">=1\")","v":0},"件","小計",null,{"$f":"SUM(L104:L133)","v":0},{"$f":"SUM(M104:M133)","v":0}]
[null,null,"　当 　座　 預　 金","ト"]
[null,null,"　貯　 蓄　 預　 金","チ",null,null,null,{"$f":"H90+H134","v":0},"件","合計",null,{"$f":"L134+L90","v":0},{"$f":"M134+M90","v":0}]
[null,null,"　　そ　　の　　他","ソ"]
[null,null,null,null,null,null,null,null,null,null,null,null,{"$f":"$M$46","v":2020.01}]
[null,null,{"$f":"C$1","v":2020.01},null,"　　　　　　振 込 依 頼 書",null,null,null,null,null,null,null,{"$f":"入力!M139","v":"ページ　4"}]
[]
[null,null,null,null,null,null,null,null,null,null,"ご依頼日",{"$f":"IF(入力!$L$3=\"\",\"平成　　年　　月　　日\",入力!$L$3)","v":"2020-09-01"}]
[null,null,{"$f":"+入力!$C142","v":"福島銀行"},null,null,null,null,null,null,"お客様番号",null,{"$f":"IF(入力!$L$4=\"\",\"\",入力!$L$4)","v":""}]
[null,{"$f":"IF(入力!$B$5=0,\"\",入力!$B$5)","v":""},null,null,"御中",null,null,null,null,"依頼人名カナ",null,{"$f":"IF(入力!$L$5=\"\",\"\",入力!$L$5)","v":""}]
[null,null,null,null,null,"振込種類",null,null,null,"会社名",null,{"$f":"IF(入力!$L$6=\"\",\"\",入力!$L$6)","v":""}]
[null,null,"振込指定日",null,null,{"$f":"$F$7","v":"1フリコミ"},null,null,null," 担当者名",null,{"$f":"IF(入力!$L$7=\"\",\"\",入力!$L$7)","v":""}]
[null,{"$f":"入力!$B$8","v":"2020-09-01"},null,null,null,null,null,null,null,"電話番号",null,{"$f":"IF(入力!$L$8=\"\",\"\",入力!$L$8)","v":""}]
[]
[null,null,"金 融 機 関 名","科目","口 座 番 号",null,"受　  　　　取 　　 　　人　　　 　　名",null,null,null,null,"　金　　　　　　　額"," 手数料　円"]
[null,null,"支　  　店　　  名","目",null,null,"（　カ　タ　カ　ナ　記　入　）",null,null,null,null,"　　　　　　　　　　円","(消費税含）"]
[1,null,{"$f":"IF(入力!C150=\"\",\"\",+入力!C150)","v":""},{"$f":"IF(入力!D150=\"\",\"\",+入力!D150)","v":""},{"$f":"IF(入力!E150=\"\",\"\",+入力!E150)","v":""},null,{"$f":"IF(入力!G150=\"\",\"\",+入力!G150)","v":""},null,null,null,null,{"$f":"IF(入力!L150=0,\"\",IF(入力!Q150=1,(入力!L150-入力!M150),入力!L150))","v":""},{"$f":"入力!M150","v":0},{"$f":"IF(AND(M150>0,ISNUMBER(L150)=TRUE),IF(ISNUMBER(入力!O150)=FALSE,\"\",INDEX((三万未満code,三万以上code),入力!O150+1,1,IF((L150+M150)<30000,1,2))),0)","v":0}]
[null,null,{"$f":"IF(入力!C151=\"\",\"\",+入力!C151)","v":""}]
[2,null,{"$f":"IF(入力!C152=\"\",\"\",+入力!C152)","v":""},{"$f":"IF(入力!D152=\"\",\"\",+入力!D152)","v":""},{"$f":"IF(入力!E152=\"\",\"\",+入力!E152)","v":""},null,{"$f":"IF(入力!G152=\"\",\"\",+入力!G152)","v":""},null,null,null,null,{"$f":"IF(入力!L152=0,\"\",IF(入力!Q152=1,(入力!L152-入力!M152),入力!L152))","v":""},{"$f":"入力!M152","v":0},{"$f":"IF(AND(M152>0,ISNUMBER(L152)=TRUE),IF(ISNUMBER(入力!O152)=FALSE,\"\",INDEX((三万未満code,三万以上code),入力!O152+1,1,IF((L152+M152)<30000,1,2))),0)","v":0}]
[null,null,{"$f":"IF(入力!C153=\"\",\"\",+入力!C153)","v":""}]
[3,null,{"$f":"IF(入力!C154=\"\",\"\",+入力!C154)","v":""},{"$f":"IF(入力!D154=\"\",\"\",+入力!D154)","v":""},{"$f":"IF(入力!E154=\"\",\"\",+入力!E154)","v":""},null,{"$f":"IF(入力!G154=\"\",\"\",+入力!G154)","v":""},null,null,null,null,{"$f":"IF(入力!L154=0,\"\",IF(入力!Q154=1,(入力!L154-入力!M154),入力!L154))","v":""},{"$f":"入力!M154","v":0},{"$f":"IF(AND(M154>0,ISNUMBER(L154)=TRUE),IF(ISNUMBER(入力!O154)=FALSE,\"\",INDEX((三万未満code,三万以上code),入力!O154+1,1,IF((L154+M154)<30000,1,2))),0)","v":0}]
[null,null,{"$f":"IF(入力!C155=\"\",\"\",+入力!C155)","v":""}]
[4,null,{"$f":"IF(入力!C156=\"\",\"\",+入力!C156)","v":""},{"$f":"IF(入力!D156=\"\",\"\",+入力!D156)","v":""},{"$f":"IF(入力!E156=\"\",\"\",+入力!E156)","v":""},null,{"$f":"IF(入力!G156=\"\",\"\",+入力!G156)","v":""},null,null,null,null,{"$f":"IF(入力!L156=0,\"\",IF(入力!Q156=1,(入力!L156-入力!M156),入力!L156))","v":""},{"$f":"入力!M156","v":0},{"$f":"IF(AND(M156>0,ISNUMBER(L156)=TRUE),IF(ISNUMBER(入力!O156)=FALSE,\"\",INDEX((三万未満code,三万以上code),入力!O156+1,1,IF((L156+M156)<30000,1,2))),0)","v":0}]
[null,null,{"$f":"IF(入力!C157=\"\",\"\",+入力!C157)","v":""}]
[5,null,{"$f":"IF(入力!C158=\"\",\"\",+入力!C158)","v":""},{"$f":"IF(入力!D158=\"\",\"\",+入力!D158)","v":""},{"$f":"IF(入力!E158=\"\",\"\",+入力!E158)","v":""},null,{"$f":"IF(入力!G158=\"\",\"\",+入力!G158)","v":""},null,null,null,null,{"$f":"IF(入力!L158=0,\"\",IF(入力!Q158=1,(入力!L158-入力!M158),入力!L158))","v":""},{"$f":"入力!M158","v":0},{"$f":"IF(AND(M158>0,ISNUMBER(L158)=TRUE),IF(ISNUMBER(入力!O158)=FALSE,\"\",INDEX((三万未満code,三万以上code),入力!O158+1,1,IF((L158+M158)<30000,1,2))),0)","v":0}]
[null,null,{"$f":"IF(入力!C159=\"\",\"\",+入力!C159)","v":""}]
[6,null,{"$f":"IF(入力!C160=\"\",\"\",+入力!C160)","v":""},{"$f":"IF(入力!D160=\"\",\"\",+入力!D160)","v":""},{"$f":"IF(入力!E160=\"\",\"\",+入力!E160)","v":""},null,{"$f":"IF(入力!G160=\"\",\"\",+入力!G160)","v":""},null,null,null,null,{"$f":"IF(入力!L160=0,\"\",IF(入力!Q160=1,(入力!L160-入力!M160),入力!L160))","v":""},{"$f":"入力!M160","v":0},{"$f":"IF(AND(M160>0,ISNUMBER(L160)=TRUE),IF(ISNUMBER(入力!O160)=FALSE,\"\",INDEX((三万未満code,三万以上code),入力!O160+1,1,IF((L160+M160)<30000,1,2))),0)","v":0}]
[null,null,{"$f":"IF(入力!C161=\"\",\"\",+入力!C161)","v":""}]
[7,null,{"$f":"IF(入力!C162=\"\",\"\",+入力!C162)","v":""},{"$f":"IF(入力!D162=\"\",\"\",+入力!D162)","v":""},{"$f":"IF(入力!E162=\"\",\"\",+入力!E162)","v":""},null,{"$f":"IF(入力!G162=\"\",\"\",+入力!G162)","v":""},null,null,null,null,{"$f":"IF(入力!L162=0,\"\",IF(入力!Q162=1,(入力!L162-入力!M162),入力!L162))","v":""},{"$f":"入力!M162","v":0},{"$f":"IF(AND(M162>0,ISNUMBER(L162)=TRUE),IF(ISNUMBER(入力!O162)=FALSE,\"\",INDEX((三万未満code,三万以上code),入力!O162+1,1,IF((L162+M162)<30000,1,2))),0)","v":0}]
[null,null,{"$f":"IF(入力!C163=\"\",\"\",+入力!C163)","v":""}]
[8,null,{"$f":"IF(入力!C164=\"\",\"\",+入力!C164)","v":""},{"$f":"IF(入力!D164=\"\",\"\",+入力!D164)","v":""},{"$f":"IF(入力!E164=\"\",\"\",+入力!E164)","v":""},null,{"$f":"IF(入力!G164=\"\",\"\",+入力!G164)","v":""},null,null,null,null,{"$f":"IF(入力!L164=0,\"\",IF(入力!Q164=1,(入力!L164-入力!M164),入力!L164))","v":""},{"$f":"入力!M164","v":0},{"$f":"IF(AND(M164>0,ISNUMBER(L164)=TRUE),IF(ISNUMBER(入力!O164)=FALSE,\"\",INDEX((三万未満code,三万以上code),入力!O164+1,1,IF((L164+M164)<30000,1,2))),0)","v":0}]
[null,null,{"$f":"IF(入力!C165=\"\",\"\",+入力!C165)","v":""}]
[9,null,{"$f":"IF(入力!C166=\"\",\"\",+入力!C166)","v":""},{"$f":"IF(入力!D166=\"\",\"\",+入力!D166)","v":""},{"$f":"IF(入力!E166=\"\",\"\",+入力!E166)","v":""},null,{"$f":"IF(入力!G166=\"\",\"\",+入力!G166)","v":""},null,null,null,null,{"$f":"IF(入力!L166=0,\"\",IF(入力!Q166=1,(入力!L166-入力!M166),入力!L166))","v":""},{"$f":"入力!M166","v":0},{"$f":"IF(AND(M166>0,ISNUMBER(L166)=TRUE),IF(ISNUMBER(入力!O166)=FALSE,\"\",INDEX((三万未満code,三万以上code),入力!O166+1,1,IF((L166+M166)<30000,1,2))),0)","v":0}]
[null,null,{"$f":"IF(入力!C167=\"\",\"\",+入力!C167)","v":""}]
[10,null,{"$f":"IF(入力!C168=\"\",\"\",+入力!C168)","v":""},{"$f":"IF(入力!D168=\"\",\"\",+入力!D168)","v":""},{"$f":"IF(入力!E168=\"\",\"\",+入力!E168)","v":""},null,{"$f":"IF(入力!G168=\"\",\"\",+入力!G168)","v":""},null,null,null,null,{"$f":"IF(入力!L168=0,\"\",IF(入力!Q168=1,(入力!L168-入力!M168),入力!L168))","v":""},{"$f":"入力!M168","v":0},{"$f":"IF(AND(M168>0,ISNUMBER(L168)=TRUE),IF(ISNUMBER(入力!O168)=FALSE,\"\",INDEX((三万未満code,三万以上code),入力!O168+1,1,IF((L168+M168)<30000,1,2))),0)","v":0}]
[null,null,{"$f":"IF(入力!C169=\"\",\"\",+入力!C169)","v":""}]
[11,null,{"$f":"IF(入力!C170=\"\",\"\",+入力!C170)","v":""},{"$f":"IF(入力!D170=\"\",\"\",+入力!D170)","v":""},{"$f":"IF(入力!E170=\"\",\"\",+入力!E170)","v":""},null,{"$f":"IF(入力!G170=\"\",\"\",+入力!G170)","v":""},null,null,null,null,{"$f":"IF(入力!L170=0,\"\",IF(入力!Q170=1,(入力!L170-入力!M170),入力!L170))","v":""},{"$f":"入力!M170","v":0},{"$f":"IF(AND(M170>0,ISNUMBER(L170)=TRUE),IF(ISNUMBER(入力!O170)=FALSE,\"\",INDEX((三万未満code,三万以上code),入力!O170+1,1,IF((L170+M170)<30000,1,2))),0)","v":0}]
[null,null,{"$f":"IF(入力!C171=\"\",\"\",+入力!C171)","v":""}]
[12,null,{"$f":"IF(入力!C172=\"\",\"\",+入力!C172)","v":""},{"$f":"IF(入力!D172=\"\",\"\",+入力!D172)","v":""},{"$f":"IF(入力!E172=\"\",\"\",+入力!E172)","v":""},null,{"$f":"IF(入力!G172=\"\",\"\",+入力!G172)","v":""},null,null,null,null,{"$f":"IF(入力!L172=0,\"\",IF(入力!Q172=1,(入力!L172-入力!M172),入力!L172))","v":""},{"$f":"入力!M172","v":0},{"$f":"IF(AND(M172>0,ISNUMBER(L172)=TRUE),IF(ISNUMBER(入力!O172)=FALSE,\"\",INDEX((三万未満code,三万以上code),入力!O172+1,1,IF((L172+M172)<30000,1,2))),0)","v":0}]
[null,null,{"$f":"IF(入力!C173=\"\",\"\",+入力!C173)","v":""}]
[13,null,{"$f":"IF(入力!C174=\"\",\"\",+入力!C174)","v":""},{"$f":"IF(入力!D174=\"\",\"\",+入力!D174)","v":""},{"$f":"IF(入力!E174=\"\",\"\",+入力!E174)","v":""},null,{"$f":"IF(入力!G174=\"\",\"\",+入力!G174)","v":""},null,null,null,null,{"$f":"IF(入力!L174=0,\"\",IF(入力!Q174=1,(入力!L174-入力!M174),入力!L174))","v":""},{"$f":"入力!M174","v":0},{"$f":"IF(AND(M174>0,ISNUMBER(L174)=TRUE),IF(ISNUMBER(入力!O174)=FALSE,\"\",INDEX((三万未満code,三万以上code),入力!O174+1,1,IF((L174+M174)<30000,1,2))),0)","v":0}]
[null,null,{"$f":"IF(入力!C175=\"\",\"\",+入力!C175)","v":""}]
[14,null,{"$f":"IF(入力!C176=\"\",\"\",+入力!C176)","v":""},{"$f":"IF(入力!D176=\"\",\"\",+入力!D176)","v":""},{"$f":"IF(入力!E176=\"\",\"\",+入力!E176)","v":""},null,{"$f":"IF(入力!G176=\"\",\"\",+入力!G176)","v":""},null,null,null,null,{"$f":"IF(入力!L176=0,\"\",IF(入力!Q176=1,(入力!L176-入力!M176),入力!L176))","v":""},{"$f":"入力!M176","v":0},{"$f":"IF(AND(M176>0,ISNUMBER(L176)=TRUE),IF(ISNUMBER(入力!O176)=FALSE,\"\",INDEX((三万未満code,三万以上code),入力!O176+1,1,IF((L176+M176)<30000,1,2))),0)","v":0}]
[null,null,{"$f":"IF(入力!C177=\"\",\"\",+入力!C177)","v":""}]
[15,null,{"$f":"IF(入力!C178=\"\",\"\",+入力!C178)","v":""},{"$f":"IF(入力!D178=\"\",\"\",+入力!D178)","v":""},{"$f":"IF(入力!E178=\"\",\"\",+入力!E178)","v":""},null,{"$f":"IF(入力!G178=\"\",\"\",+入力!G178)","v":""},null,null,null,null,{"$f":"IF(入力!L178=0,\"\",IF(入力!Q178=1,(入力!L178-入力!M178),入力!L178))","v":""},{"$f":"入力!M178","v":0},{"$f":"IF(AND(M178>0,ISNUMBER(L178)=TRUE),IF(ISNUMBER(入力!O178)=FALSE,\"\",INDEX((三万未満code,三万以上code),入力!O178+1,1,IF((L178+M178)<30000,1,2))),0)","v":0}]
[null,null,{"$f":"IF(入力!C179=\"\",\"\",+入力!C179)","v":""}]
["科目",null,"　普　 通 　預　 金　","フ",null,null,null,{"$f":"COUNTIF(L150:L179,\">=1\")","v":0},"件","小計",null,{"$f":"SUM(L150:L179)","v":0},{"$f":"SUM(M150:M179)","v":0}]
[null,null,"　当 　座　 預　 金","ト"]
[null,null,"　貯　 蓄　 預　 金","チ",null,null,null,{"$f":"H136+H180","v":0},"件","合計",null,{"$f":"L180+L136","v":0},{"$f":"M180+M136","v":0}]
[null,null,"　　そ　　の　　他","ソ"]
[null,null,null,null,null,null,null,null,null,null,null,null,{"$f":"$M$46","v":2020.01}]
[null,null,{"$f":"C$1","v":2020.01},null,"　　　　　　振 込 依 頼 書",null,null,null,null,null,null,null,{"$f":"入力!M185","v":"ページ　5"}]
[]
[null,null,null,null,null,null,null,null,null,null,"ご依頼日",{"$f":"IF(入力!$L$3=\"\",\"平成　　年　　月　　日\",入力!$L$3)","v":"2020-09-01"}]
[null,null,{"$f":"+入力!$C188","v":"福島銀行"},null,null,null,null,null,null,"お客様番号",null,{"$f":"IF(入力!$L$4=\"\",\"\",入力!$L$4)","v":""}]
[null,{"$f":"IF(入力!$B$5=0,\"\",入力!$B$5)","v":""},null,null,"御中",null,null,null,null,"依頼人名カナ",null,{"$f":"IF(入力!$L$5=\"\",\"\",入力!$L$5)","v":""}]
[null,null,null,null,null,"振込種類",null,null,null,"会社名",null,{"$f":"IF(入力!$L$6=\"\",\"\",入力!$L$6)","v":""}]
[null,null,"振込指定日",null,null,{"$f":"$F$7","v":"1フリコミ"},null,null,null," 担当者名",null,{"$f":"IF(入力!$L$7=\"\",\"\",入力!$L$7)","v":""}]
[null,{"$f":"入力!$B$8","v":"2020-09-01"},null,null,null,null,null,null,null,"電話番号",null,{"$f":"IF(入力!$L$8=\"\",\"\",入力!$L$8)","v":""}]
[]
[null,null,"金 融 機 関 名","科目","口 座 番 号",null,"受　  　　　取 　　 　　人　　　 　　名",null,null,null,null,"　金　　　　　　　額"," 手数料　円"]
[null,null,"支　  　店　　  名","目",null,null,"（　カ　タ　カ　ナ　記　入　）",null,null,null,null,"　　　　　　　　　　円","(消費税含）"]
[1,null,{"$f":"IF(入力!C196=\"\",\"\",+入力!C196)","v":""},{"$f":"IF(入力!D196=\"\",\"\",+入力!D196)","v":""},{"$f":"IF(入力!E196=\"\",\"\",+入力!E196)","v":""},null,{"$f":"IF(入力!G196=\"\",\"\",+入力!G196)","v":""},null,null,null,null,{"$f":"IF(入力!L196=0,\"\",IF(入力!Q196=1,(入力!L196-入力!M196),入力!L196))","v":""},{"$f":"入力!M196","v":0},{"$f":"IF(AND(M196>0,ISNUMBER(L196)=TRUE),IF(ISNUMBER(入力!O196)=FALSE,\"\",INDEX((三万未満code,三万以上code),入力!O196+1,1,IF((L196+M196)<30000,1,2))),0)","v":0}]
[null,null,{"$f":"IF(入力!C197=\"\",\"\",+入力!C197)","v":""}]
[2,null,{"$f":"IF(入力!C198=\"\",\"\",+入力!C198)","v":""},{"$f":"IF(入力!D198=\"\",\"\",+入力!D198)","v":""},{"$f":"IF(入力!E198=\"\",\"\",+入力!E198)","v":""},null,{"$f":"IF(入力!G198=\"\",\"\",+入力!G198)","v":""},null,null,null,null,{"$f":"IF(入力!L198=0,\"\",IF(入力!Q198=1,(入力!L198-入力!M198),入力!L198))","v":""},{"$f":"入力!M198","v":0},{"$f":"IF(AND(M198>0,ISNUMBER(L198)=TRUE),IF(ISNUMBER(入力!O198)=FALSE,\"\",INDEX((三万未満code,三万以上code),入力!O198+1,1,IF((L198+M198)<30000,1,2))),0)","v":0}]
[null,null,{"$f":"IF(入力!C199=\"\",\"\",+入力!C199)","v":""}]
[3,null,{"$f":"IF(入力!C200=\"\",\"\",+入力!C200)","v":""},{"$f":"IF(入力!D200=\"\",\"\",+入力!D200)","v":""},{"$f":"IF(入力!E200=\"\",\"\",+入力!E200)","v":""},null,{"$f":"IF(入力!G200=\"\",\"\",+入力!G200)","v":""},null,null,null,null,{"$f":"IF(入力!L200=0,\"\",IF(入力!Q200=1,(入力!L200-入力!M200),入力!L200))","v":""},{"$f":"入力!M200","v":0},{"$f":"IF(AND(M200>0,ISNUMBER(L200)=TRUE),IF(ISNUMBER(入力!O200)=FALSE,\"\",INDEX((三万未満code,三万以上code),入力!O200+1,1,IF((L200+M200)<30000,1,2))),0)","v":0}]
[null,null,{"$f":"IF(入力!C201=\"\",\"\",+入力!C201)","v":""}]
[4,null,{"$f":"IF(入力!C202=\"\",\"\",+入力!C202)","v":""},{"$f":"IF(入力!D202=\"\",\"\",+入力!D202)","v":""},{"$f":"IF(入力!E202=\"\",\"\",+入力!E202)","v":""},null,{"$f":"IF(入力!G202=\"\",\"\",+入力!G202)","v":""},null,null,null,null,{"$f":"IF(入力!L202=0,\"\",IF(入力!Q202=1,(入力!L202-入力!M202),入力!L202))","v":""},{"$f":"入力!M202","v":0},{"$f":"IF(AND(M202>0,ISNUMBER(L202)=TRUE),IF(ISNUMBER(入力!O202)=FALSE,\"\",INDEX((三万未満code,三万以上code),入力!O202+1,1,IF((L202+M202)<30000,1,2))),0)","v":0}]
[null,null,{"$f":"IF(入力!C203=\"\",\"\",+入力!C203)","v":""}]
[5,null,{"$f":"IF(入力!C204=\"\",\"\",+入力!C204)","v":""},{"$f":"IF(入力!D204=\"\",\"\",+入力!D204)","v":""},{"$f":"IF(入力!E204=\"\",\"\",+入力!E204)","v":""},null,{"$f":"IF(入力!G204=\"\",\"\",+入力!G204)","v":""},null,null,null,null,{"$f":"IF(入力!L204=0,\"\",IF(入力!Q204=1,(入力!L204-入力!M204),入力!L204))","v":""},{"$f":"入力!M204","v":0},{"$f":"IF(AND(M204>0,ISNUMBER(L204)=TRUE),IF(ISNUMBER(入力!O204)=FALSE,\"\",INDEX((三万未満code,三万以上code),入力!O204+1,1,IF((L204+M204)<30000,1,2))),0)","v":0}]
[null,null,{"$f":"IF(入力!C205=\"\",\"\",+入力!C205)","v":""}]
[6,null,{"$f":"IF(入力!C206=\"\",\"\",+入力!C206)","v":""},{"$f":"IF(入力!D206=\"\",\"\",+入力!D206)","v":""},{"$f":"IF(入力!E206=\"\",\"\",+入力!E206)","v":""},null,{"$f":"IF(入力!G206=\"\",\"\",+入力!G206)","v":""},null,null,null,null,{"$f":"IF(入力!L206=0,\"\",IF(入力!Q206=1,(入力!L206-入力!M206),入力!L206))","v":""},{"$f":"入力!M206","v":0},{"$f":"IF(AND(M206>0,ISNUMBER(L206)=TRUE),IF(ISNUMBER(入力!O206)=FALSE,\"\",INDEX((三万未満code,三万以上code),入力!O206+1,1,IF((L206+M206)<30000,1,2))),0)","v":0}]
[null,null,{"$f":"IF(入力!C207=\"\",\"\",+入力!C207)","v":""}]
[7,null,{"$f":"IF(入力!C208=\"\",\"\",+入力!C208)","v":""},{"$f":"IF(入力!D208=\"\",\"\",+入力!D208)","v":""},{"$f":"IF(入力!E208=\"\",\"\",+入力!E208)","v":""},null,{"$f":"IF(入力!G208=\"\",\"\",+入力!G208)","v":""},null,null,null,null,{"$f":"IF(入力!L208=0,\"\",IF(入力!Q208=1,(入力!L208-入力!M208),入力!L208))","v":""},{"$f":"入力!M208","v":0},{"$f":"IF(AND(M208>0,ISNUMBER(L208)=TRUE),IF(ISNUMBER(入力!O208)=FALSE,\"\",INDEX((三万未満code,三万以上code),入力!O208+1,1,IF((L208+M208)<30000,1,2))),0)","v":0}]
[null,null,{"$f":"IF(入力!C209=\"\",\"\",+入力!C209)","v":""}]
[8,null,{"$f":"IF(入力!C210=\"\",\"\",+入力!C210)","v":""},{"$f":"IF(入力!D210=\"\",\"\",+入力!D210)","v":""},{"$f":"IF(入力!E210=\"\",\"\",+入力!E210)","v":""},null,{"$f":"IF(入力!G210=\"\",\"\",+入力!G210)","v":""},null,null,null,null,{"$f":"IF(入力!L210=0,\"\",IF(入力!Q210=1,(入力!L210-入力!M210),入力!L210))","v":""},{"$f":"入力!M210","v":0},{"$f":"IF(AND(M210>0,ISNUMBER(L210)=TRUE),IF(ISNUMBER(入力!O210)=FALSE,\"\",INDEX((三万未満code,三万以上code),入力!O210+1,1,IF((L210+M210)<30000,1,2))),0)","v":0}]
[null,null,{"$f":"IF(入力!C211=\"\",\"\",+入力!C211)","v":""}]
[9,null,{"$f":"IF(入力!C212=\"\",\"\",+入力!C212)","v":""},{"$f":"IF(入力!D212=\"\",\"\",+入力!D212)","v":""},{"$f":"IF(入力!E212=\"\",\"\",+入力!E212)","v":""},null,{"$f":"IF(入力!G212=\"\",\"\",+入力!G212)","v":""},null,null,null,null,{"$f":"IF(入力!L212=0,\"\",IF(入力!Q212=1,(入力!L212-入力!M212),入力!L212))","v":""},{"$f":"入力!M212","v":0},{"$f":"IF(AND(M212>0,ISNUMBER(L212)=TRUE),IF(ISNUMBER(入力!O212)=FALSE,\"\",INDEX((三万未満code,三万以上code),入力!O212+1,1,IF((L212+M212)<30000,1,2))),0)","v":0}]
[null,null,{"$f":"IF(入力!C213=\"\",\"\",+入力!C213)","v":""}]
[10,null,{"$f":"IF(入力!C214=\"\",\"\",+入力!C214)","v":""},{"$f":"IF(入力!D214=\"\",\"\",+入力!D214)","v":""},{"$f":"IF(入力!E214=\"\",\"\",+入力!E214)","v":""},null,{"$f":"IF(入力!G214=\"\",\"\",+入力!G214)","v":""},null,null,null,null,{"$f":"IF(入力!L214=0,\"\",IF(入力!Q214=1,(入力!L214-入力!M214),入力!L214))","v":""},{"$f":"入力!M214","v":0},{"$f":"IF(AND(M214>0,ISNUMBER(L214)=TRUE),IF(ISNUMBER(入力!O214)=FALSE,\"\",INDEX((三万未満code,三万以上code),入力!O214+1,1,IF((L214+M214)<30000,1,2))),0)","v":0}]
[null,null,{"$f":"IF(入力!C215=\"\",\"\",+入力!C215)","v":""}]
[11,null,{"$f":"IF(入力!C216=\"\",\"\",+入力!C216)","v":""},{"$f":"IF(入力!D216=\"\",\"\",+入力!D216)","v":""},{"$f":"IF(入力!E216=\"\",\"\",+入力!E216)","v":""},null,{"$f":"IF(入力!G216=\"\",\"\",+入力!G216)","v":""},null,null,null,null,{"$f":"IF(入力!L216=0,\"\",IF(入力!Q216=1,(入力!L216-入力!M216),入力!L216))","v":""},{"$f":"入力!M216","v":0},{"$f":"IF(AND(M216>0,ISNUMBER(L216)=TRUE),IF(ISNUMBER(入力!O216)=FALSE,\"\",INDEX((三万未満code,三万以上code),入力!O216+1,1,IF((L216+M216)<30000,1,2))),0)","v":0}]
[null,null,{"$f":"IF(入力!C217=\"\",\"\",+入力!C217)","v":""}]
[12,null,{"$f":"IF(入力!C218=\"\",\"\",+入力!C218)","v":""},{"$f":"IF(入力!D218=\"\",\"\",+入力!D218)","v":""},{"$f":"IF(入力!E218=\"\",\"\",+入力!E218)","v":""},null,{"$f":"IF(入力!G218=\"\",\"\",+入力!G218)","v":""},null,null,null,null,{"$f":"IF(入力!L218=0,\"\",IF(入力!Q218=1,(入力!L218-入力!M218),入力!L218))","v":""},{"$f":"入力!M218","v":0},{"$f":"IF(AND(M218>0,ISNUMBER(L218)=TRUE),IF(ISNUMBER(入力!O218)=FALSE,\"\",INDEX((三万未満code,三万以上code),入力!O218+1,1,IF((L218+M218)<30000,1,2))),0)","v":0}]
[null,null,{"$f":"IF(入力!C219=\"\",\"\",+入力!C219)","v":""}]
[13,null,{"$f":"IF(入力!C220=\"\",\"\",+入力!C220)","v":""},{"$f":"IF(入力!D220=\"\",\"\",+入力!D220)","v":""},{"$f":"IF(入力!E220=\"\",\"\",+入力!E220)","v":""},null,{"$f":"IF(入力!G220=\"\",\"\",+入力!G220)","v":""},null,null,null,null,{"$f":"IF(入力!L220=0,\"\",IF(入力!Q220=1,(入力!L220-入力!M220),入力!L220))","v":""},{"$f":"入力!M220","v":0},{"$f":"IF(AND(M220>0,ISNUMBER(L220)=TRUE),IF(ISNUMBER(入力!O220)=FALSE,\"\",INDEX((三万未満code,三万以上code),入力!O220+1,1,IF((L220+M220)<30000,1,2))),0)","v":0}]
[null,null,{"$f":"IF(入力!C221=\"\",\"\",+入力!C221)","v":""}]
[14,null,{"$f":"IF(入力!C222=\"\",\"\",+入力!C222)","v":""},{"$f":"IF(入力!D222=\"\",\"\",+入力!D222)","v":""},{"$f":"IF(入力!E222=\"\",\"\",+入力!E222)","v":""},null,{"$f":"IF(入力!G222=\"\",\"\",+入力!G222)","v":""},null,null,null,null,{"$f":"IF(入力!L222=0,\"\",IF(入力!Q222=1,(入力!L222-入力!M222),入力!L222))","v":""},{"$f":"入力!M222","v":0},{"$f":"IF(AND(M222>0,ISNUMBER(L222)=TRUE),IF(ISNUMBER(入力!O222)=FALSE,\"\",INDEX((三万未満code,三万以上code),入力!O222+1,1,IF((L222+M222)<30000,1,2))),0)","v":0}]
[null,null,{"$f":"IF(入力!C223=\"\",\"\",+入力!C223)","v":""}]
[15,null,{"$f":"IF(入力!C224=\"\",\"\",+入力!C224)","v":""},{"$f":"IF(入力!D224=\"\",\"\",+入力!D224)","v":""},{"$f":"IF(入力!E224=\"\",\"\",+入力!E224)","v":""},null,{"$f":"IF(入力!G224=\"\",\"\",+入力!G224)","v":""},null,null,null,null,{"$f":"IF(入力!L224=0,\"\",IF(入力!Q224=1,(入力!L224-入力!M224),入力!L224))","v":""},{"$f":"入力!M224","v":0},{"$f":"IF(AND(M224>0,ISNUMBER(L224)=TRUE),IF(ISNUMBER(入力!O224)=FALSE,\"\",INDEX((三万未満code,三万以上code),入力!O224+1,1,IF((L224+M224)<30000,1,2))),0)","v":0}]
[null,null,{"$f":"IF(入力!C225=\"\",\"\",+入力!C225)","v":""}]
["科目",null,"　普　 通 　預　 金　","フ",null,null,null,{"$f":"COUNTIF(L196:L225,\">=1\")","v":0},"件","小計",null,{"$f":"SUM(L196:L225)","v":0},{"$f":"SUM(M196:M225)","v":0}]
[null,null,"　当 　座　 預　 金","ト"]
[null,null,"　貯　 蓄　 預　 金","チ",null,null,null,{"$f":"H182+H226","v":0},"件","合計",null,{"$f":"L226+L182","v":0},{"$f":"M226+M182","v":0}]
[null,null,"　　そ　　の　　他","ソ"]
[null,null,null,null,null,null,null,null,null,null,null,null,{"$f":"$M$46","v":2020.01}]
[null,null,{"$f":"C$1","v":2020.01},null,"　　　　　　振 込 依 頼 書",null,null,null,null,null,null,null,{"$f":"入力!M231","v":"ページ　6"}]
[]
[null,null,null,null,null,null,null,null,null,null,"ご依頼日",{"$f":"IF(入力!$L$3=\"\",\"平成　　年　　月　　日\",入力!$L$3)","v":"2020-09-01"}]
[null,null,{"$f":"+入力!$C234","v":"福島銀行"},null,null,null,null,null,null,"お客様番号",null,{"$f":"IF(入力!$L$4=\"\",\"\",入力!$L$4)","v":""}]
[null,{"$f":"IF(入力!$B$5=0,\"\",入力!$B$5)","v":""},null,null,"御中",null,null,null,null,"依頼人名カナ",null,{"$f":"IF(入力!$L$5=\"\",\"\",入力!$L$5)","v":""}]
[null,null,null,null,null,"振込種類",null,null,null,"会社名",null,{"$f":"IF(入力!$L$6=\"\",\"\",入力!$L$6)","v":""}]
[null,null,"振込指定日",null,null,{"$f":"$F$7","v":"1フリコミ"},null,null,null," 担当者名",null,{"$f":"IF(入力!$L$7=\"\",\"\",入力!$L$7)","v":""}]
[null,{"$f":"入力!$B$8","v":"2020-09-01"},null,null,null,null,null,null,null,"電話番号",null,{"$f":"IF(入力!$L$8=\"\",\"\",入力!$L$8)","v":""}]
[]
[null,null,"金 融 機 関 名","科目","口 座 番 号",null,"受　  　　　取 　　 　　人　　　 　　名",null,null,null,null,"　金　　　　　　　額"," 手数料　円"]
[null,null,"支　  　店　　  名","目",null,null,"（　カ　タ　カ　ナ　記　入　）",null,null,null,null,"　　　　　　　　　　円","(消費税含）"]
[1,null,{"$f":"IF(入力!C242=\"\",\"\",+入力!C242)","v":""},{"$f":"IF(入力!D242=\"\",\"\",+入力!D242)","v":""},{"$f":"IF(入力!E242=\"\",\"\",+入力!E242)","v":""},null,{"$f":"IF(入力!G242=\"\",\"\",+入力!G242)","v":""},null,null,null,null,{"$f":"IF(入力!L242=0,\"\",IF(入力!Q242=1,(入力!L242-入力!M242),入力!L242))","v":""},{"$f":"入力!M242","v":0},{"$f":"IF(AND(M242>0,ISNUMBER(L242)=TRUE),IF(ISNUMBER(入力!O242)=FALSE,\"\",INDEX((三万未満code,三万以上code),入力!O242+1,1,IF((L242+M242)<30000,1,2))),0)","v":0}]
[null,null,{"$f":"IF(入力!C243=\"\",\"\",+入力!C243)","v":""}]
[2,null,{"$f":"IF(入力!C244=\"\",\"\",+入力!C244)","v":""},{"$f":"IF(入力!D244=\"\",\"\",+入力!D244)","v":""},{"$f":"IF(入力!E244=\"\",\"\",+入力!E244)","v":""},null,{"$f":"IF(入力!G244=\"\",\"\",+入力!G244)","v":""},null,null,null,null,{"$f":"IF(入力!L244=0,\"\",IF(入力!Q244=1,(入力!L244-入力!M244),入力!L244))","v":""},{"$f":"入力!M244","v":0},{"$f":"IF(AND(M244>0,ISNUMBER(L244)=TRUE),IF(ISNUMBER(入力!O244)=FALSE,\"\",INDEX((三万未満code,三万以上code),入力!O244+1,1,IF((L244+M244)<30000,1,2))),0)","v":0}]
[null,null,{"$f":"IF(入力!C245=\"\",\"\",+入力!C245)","v":""}]
[3,null,{"$f":"IF(入力!C246=\"\",\"\",+入力!C246)","v":""},{"$f":"IF(入力!D246=\"\",\"\",+入力!D246)","v":""},{"$f":"IF(入力!E246=\"\",\"\",+入力!E246)","v":""},null,{"$f":"IF(入力!G246=\"\",\"\",+入力!G246)","v":""},null,null,null,null,{"$f":"IF(入力!L246=0,\"\",IF(入力!Q246=1,(入力!L246-入力!M246),入力!L246))","v":""},{"$f":"入力!M246","v":0},{"$f":"IF(AND(M246>0,ISNUMBER(L246)=TRUE),IF(ISNUMBER(入力!O246)=FALSE,\"\",INDEX((三万未満code,三万以上code),入力!O246+1,1,IF((L246+M246)<30000,1,2))),0)","v":0}]
[null,null,{"$f":"IF(入力!C247=\"\",\"\",+入力!C247)","v":""}]
[4,null,{"$f":"IF(入力!C248=\"\",\"\",+入力!C248)","v":""},{"$f":"IF(入力!D248=\"\",\"\",+入力!D248)","v":""},{"$f":"IF(入力!E248=\"\",\"\",+入力!E248)","v":""},null,{"$f":"IF(入力!G248=\"\",\"\",+入力!G248)","v":""},null,null,null,null,{"$f":"IF(入力!L248=0,\"\",IF(入力!Q248=1,(入力!L248-入力!M248),入力!L248))","v":""},{"$f":"入力!M248","v":0},{"$f":"IF(AND(M248>0,ISNUMBER(L248)=TRUE),IF(ISNUMBER(入力!O248)=FALSE,\"\",INDEX((三万未満code,三万以上code),入力!O248+1,1,IF((L248+M248)<30000,1,2))),0)","v":0}]
[null,null,{"$f":"IF(入力!C249=\"\",\"\",+入力!C249)","v":""}]
[5,null,{"$f":"IF(入力!C250=\"\",\"\",+入力!C250)","v":""},{"$f":"IF(入力!D250=\"\",\"\",+入力!D250)","v":""},{"$f":"IF(入力!E250=\"\",\"\",+入力!E250)","v":""},null,{"$f":"IF(入力!G250=\"\",\"\",+入力!G250)","v":""},null,null,null,null,{"$f":"IF(入力!L250=0,\"\",IF(入力!Q250=1,(入力!L250-入力!M250),入力!L250))","v":""},{"$f":"入力!M250","v":0},{"$f":"IF(AND(M250>0,ISNUMBER(L250)=TRUE),IF(ISNUMBER(入力!O250)=FALSE,\"\",INDEX((三万未満code,三万以上code),入力!O250+1,1,IF((L250+M250)<30000,1,2))),0)","v":0}]
[null,null,{"$f":"IF(入力!C251=\"\",\"\",+入力!C251)","v":""}]
[6,null,{"$f":"IF(入力!C252=\"\",\"\",+入力!C252)","v":""},{"$f":"IF(入力!D252=\"\",\"\",+入力!D252)","v":""},{"$f":"IF(入力!E252=\"\",\"\",+入力!E252)","v":""},null,{"$f":"IF(入力!G252=\"\",\"\",+入力!G252)","v":""},null,null,null,null,{"$f":"IF(入力!L252=0,\"\",IF(入力!Q252=1,(入力!L252-入力!M252),入力!L252))","v":""},{"$f":"入力!M252","v":0},{"$f":"IF(AND(M252>0,ISNUMBER(L252)=TRUE),IF(ISNUMBER(入力!O252)=FALSE,\"\",INDEX((三万未満code,三万以上code),入力!O252+1,1,IF((L252+M252)<30000,1,2))),0)","v":0}]
[null,null,{"$f":"IF(入力!C253=\"\",\"\",+入力!C253)","v":""}]
[7,null,{"$f":"IF(入力!C254=\"\",\"\",+入力!C254)","v":""},{"$f":"IF(入力!D254=\"\",\"\",+入力!D254)","v":""},{"$f":"IF(入力!E254=\"\",\"\",+入力!E254)","v":""},null,{"$f":"IF(入力!G254=\"\",\"\",+入力!G254)","v":""},null,null,null,null,{"$f":"IF(入力!L254=0,\"\",IF(入力!Q254=1,(入力!L254-入力!M254),入力!L254))","v":""},{"$f":"入力!M254","v":0},{"$f":"IF(AND(M254>0,ISNUMBER(L254)=TRUE),IF(ISNUMBER(入力!O254)=FALSE,\"\",INDEX((三万未満code,三万以上code),入力!O254+1,1,IF((L254+M254)<30000,1,2))),0)","v":0}]
[null,null,{"$f":"IF(入力!C255=\"\",\"\",+入力!C255)","v":""}]
[8,null,{"$f":"IF(入力!C256=\"\",\"\",+入力!C256)","v":""},{"$f":"IF(入力!D256=\"\",\"\",+入力!D256)","v":""},{"$f":"IF(入力!E256=\"\",\"\",+入力!E256)","v":""},null,{"$f":"IF(入力!G256=\"\",\"\",+入力!G256)","v":""},null,null,null,null,{"$f":"IF(入力!L256=0,\"\",IF(入力!Q256=1,(入力!L256-入力!M256),入力!L256))","v":""},{"$f":"入力!M256","v":0},{"$f":"IF(AND(M256>0,ISNUMBER(L256)=TRUE),IF(ISNUMBER(入力!O256)=FALSE,\"\",INDEX((三万未満code,三万以上code),入力!O256+1,1,IF((L256+M256)<30000,1,2))),0)","v":0}]
[null,null,{"$f":"IF(入力!C257=\"\",\"\",+入力!C257)","v":""}]
[9,null,{"$f":"IF(入力!C258=\"\",\"\",+入力!C258)","v":""},{"$f":"IF(入力!D258=\"\",\"\",+入力!D258)","v":""},{"$f":"IF(入力!E258=\"\",\"\",+入力!E258)","v":""},null,{"$f":"IF(入力!G258=\"\",\"\",+入力!G258)","v":""},null,null,null,null,{"$f":"IF(入力!L258=0,\"\",IF(入力!Q258=1,(入力!L258-入力!M258),入力!L258))","v":""},{"$f":"入力!M258","v":0},{"$f":"IF(AND(M258>0,ISNUMBER(L258)=TRUE),IF(ISNUMBER(入力!O258)=FALSE,\"\",INDEX((三万未満code,三万以上code),入力!O258+1,1,IF((L258+M258)<30000,1,2))),0)","v":0}]
[null,null,{"$f":"IF(入力!C259=\"\",\"\",+入力!C259)","v":""}]
[10,null,{"$f":"IF(入力!C260=\"\",\"\",+入力!C260)","v":""},{"$f":"IF(入力!D260=\"\",\"\",+入力!D260)","v":""},{"$f":"IF(入力!E260=\"\",\"\",+入力!E260)","v":""},null,{"$f":"IF(入力!G260=\"\",\"\",+入力!G260)","v":""},null,null,null,null,{"$f":"IF(入力!L260=0,\"\",IF(入力!Q260=1,(入力!L260-入力!M260),入力!L260))","v":""},{"$f":"入力!M260","v":0},{"$f":"IF(AND(M260>0,ISNUMBER(L260)=TRUE),IF(ISNUMBER(入力!O260)=FALSE,\"\",INDEX((三万未満code,三万以上code),入力!O260+1,1,IF((L260+M260)<30000,1,2))),0)","v":0}]
[null,null,{"$f":"IF(入力!C261=\"\",\"\",+入力!C261)","v":""}]
[11,null,{"$f":"IF(入力!C262=\"\",\"\",+入力!C262)","v":""},{"$f":"IF(入力!D262=\"\",\"\",+入力!D262)","v":""},{"$f":"IF(入力!E262=\"\",\"\",+入力!E262)","v":""},null,{"$f":"IF(入力!G262=\"\",\"\",+入力!G262)","v":""},null,null,null,null,{"$f":"IF(入力!L262=0,\"\",IF(入力!Q262=1,(入力!L262-入力!M262),入力!L262))","v":""},{"$f":"入力!M262","v":0},{"$f":"IF(AND(M262>0,ISNUMBER(L262)=TRUE),IF(ISNUMBER(入力!O262)=FALSE,\"\",INDEX((三万未満code,三万以上code),入力!O262+1,1,IF((L262+M262)<30000,1,2))),0)","v":0}]
[null,null,{"$f":"IF(入力!C263=\"\",\"\",+入力!C263)","v":""}]
[12,null,{"$f":"IF(入力!C264=\"\",\"\",+入力!C264)","v":""},{"$f":"IF(入力!D264=\"\",\"\",+入力!D264)","v":""},{"$f":"IF(入力!E264=\"\",\"\",+入力!E264)","v":""},null,{"$f":"IF(入力!G264=\"\",\"\",+入力!G264)","v":""},null,null,null,null,{"$f":"IF(入力!L264=0,\"\",IF(入力!Q264=1,(入力!L264-入力!M264),入力!L264))","v":""},{"$f":"入力!M264","v":0},{"$f":"IF(AND(M264>0,ISNUMBER(L264)=TRUE),IF(ISNUMBER(入力!O264)=FALSE,\"\",INDEX((三万未満code,三万以上code),入力!O264+1,1,IF((L264+M264)<30000,1,2))),0)","v":0}]
[null,null,{"$f":"IF(入力!C265=\"\",\"\",+入力!C265)","v":""}]
[13,null,{"$f":"IF(入力!C266=\"\",\"\",+入力!C266)","v":""},{"$f":"IF(入力!D266=\"\",\"\",+入力!D266)","v":""},{"$f":"IF(入力!E266=\"\",\"\",+入力!E266)","v":""},null,{"$f":"IF(入力!G266=\"\",\"\",+入力!G266)","v":""},null,null,null,null,{"$f":"IF(入力!L266=0,\"\",IF(入力!Q266=1,(入力!L266-入力!M266),入力!L266))","v":""},{"$f":"入力!M266","v":0},{"$f":"IF(AND(M266>0,ISNUMBER(L266)=TRUE),IF(ISNUMBER(入力!O266)=FALSE,\"\",INDEX((三万未満code,三万以上code),入力!O266+1,1,IF((L266+M266)<30000,1,2))),0)","v":0}]
[null,null,{"$f":"IF(入力!C267=\"\",\"\",+入力!C267)","v":""}]
[14,null,{"$f":"IF(入力!C268=\"\",\"\",+入力!C268)","v":""},{"$f":"IF(入力!D268=\"\",\"\",+入力!D268)","v":""},{"$f":"IF(入力!E268=\"\",\"\",+入力!E268)","v":""},null,{"$f":"IF(入力!G268=\"\",\"\",+入力!G268)","v":""},null,null,null,null,{"$f":"IF(入力!L268=0,\"\",IF(入力!Q268=1,(入力!L268-入力!M268),入力!L268))","v":""},{"$f":"入力!M268","v":0},{"$f":"IF(AND(M268>0,ISNUMBER(L268)=TRUE),IF(ISNUMBER(入力!O268)=FALSE,\"\",INDEX((三万未満code,三万以上code),入力!O268+1,1,IF((L268+M268)<30000,1,2))),0)","v":0}]
[null,null,{"$f":"IF(入力!C269=\"\",\"\",+入力!C269)","v":""}]
[15,null,{"$f":"IF(入力!C270=\"\",\"\",+入力!C270)","v":""},{"$f":"IF(入力!D270=\"\",\"\",+入力!D270)","v":""},{"$f":"IF(入力!E270=\"\",\"\",+入力!E270)","v":""},null,{"$f":"IF(入力!G270=\"\",\"\",+入力!G270)","v":""},null,null,null,null,{"$f":"IF(入力!L270=0,\"\",IF(入力!Q270=1,(入力!L270-入力!M270),入力!L270))","v":""},{"$f":"入力!M270","v":0},{"$f":"IF(AND(M270>0,ISNUMBER(L270)=TRUE),IF(ISNUMBER(入力!O270)=FALSE,\"\",INDEX((三万未満code,三万以上code),入力!O270+1,1,IF((L270+M270)<30000,1,2))),0)","v":0}]
[null,null,{"$f":"IF(入力!C271=\"\",\"\",+入力!C271)","v":""}]
["科目",null,"　普　 通 　預　 金　","フ",null,null,null,{"$f":"COUNTIF(L242:L271,\">=1\")","v":0},"件","小計",null,{"$f":"SUM(L242:L271)","v":0},{"$f":"SUM(M242:M271)","v":0}]
[null,null,"　当 　座　 預　 金","ト"]
[null,null,"　貯　 蓄　 預　 金","チ",null,null,null,{"$f":"H228+H272","v":0},"件","合計",null,{"$f":"L272+L228","v":0},{"$f":"M272+M228","v":0}]
[null,null,"　　そ　　の　　他","ソ"]
[null,null,null,null,null,null,null,null,null,null,null,null,{"$f":"$M$46","v":2020.01}]
[null,null,{"$f":"C$1","v":2020.01},null,"　　　　　　振 込 依 頼 書",null,null,null,null,null,null,null,{"$f":"入力!M277","v":"ページ　7"}]
[]
[null,null,null,null,null,null,null,null,null,null,"ご依頼日",{"$f":"IF(入力!$L$3=\"\",\"平成　　年　　月　　日\",入力!$L$3)","v":"2020-09-01"}]
[null,null,{"$f":"+入力!$C280","v":"福島銀行"},null,null,null,null,null,null,"お客様番号",null,{"$f":"IF(入力!$L$4=\"\",\"\",入力!$L$4)","v":""}]
[null,{"$f":"IF(入力!$B$5=0,\"\",入力!$B$5)","v":""},null,null,"御中",null,null,null,null,"依頼人名カナ",null,{"$f":"IF(入力!$L$5=\"\",\"\",入力!$L$5)","v":""}]
[null,null,null,null,null,"振込種類",null,null,null,"会社名",null,{"$f":"IF(入力!$L$6=\"\",\"\",入力!$L$6)","v":""}]
[null,null,"振込指定日",null,null,{"$f":"$F$7","v":"1フリコミ"},null,null,null," 担当者名",null,{"$f":"IF(入力!$L$7=\"\",\"\",入力!$L$7)","v":""}]
[null,{"$f":"入力!$B$8","v":"2020-09-01"},null,null,null,null,null,null,null,"電話番号",null,{"$f":"IF(入力!$L$8=\"\",\"\",入力!$L$8)","v":""}]
[]
[null,null,"金 融 機 関 名","科目","口 座 番 号",null,"受　  　　　取 　　 　　人　　　 　　名",null,null,null,null,"　金　　　　　　　額"," 手数料　円"]
[null,null,"支　  　店　　  名","目",null,null,"（　カ　タ　カ　ナ　記　入　）",null,null,null,null,"　　　　　　　　　　円","(消費税含）"]
[1,null,{"$f":"IF(入力!C288=\"\",\"\",+入力!C288)","v":""},{"$f":"IF(入力!D288=\"\",\"\",+入力!D288)","v":""},{"$f":"IF(入力!E288=\"\",\"\",+入力!E288)","v":""},null,{"$f":"IF(入力!G288=\"\",\"\",+入力!G288)","v":""},null,null,null,null,{"$f":"IF(入力!L288=0,\"\",IF(入力!Q288=1,(入力!L288-入力!M288),入力!L288))","v":""},{"$f":"入力!M288","v":0},{"$f":"IF(AND(M288>0,ISNUMBER(L288)=TRUE),IF(ISNUMBER(入力!O288)=FALSE,\"\",INDEX((三万未満code,三万以上code),入力!O288+1,1,IF((L288+M288)<30000,1,2))),0)","v":0}]
[null,null,{"$f":"IF(入力!C289=\"\",\"\",+入力!C289)","v":""}]
[2,null,{"$f":"IF(入力!C290=\"\",\"\",+入力!C290)","v":""},{"$f":"IF(入力!D290=\"\",\"\",+入力!D290)","v":""},{"$f":"IF(入力!E290=\"\",\"\",+入力!E290)","v":""},null,{"$f":"IF(入力!G290=\"\",\"\",+入力!G290)","v":""},null,null,null,null,{"$f":"IF(入力!L290=0,\"\",IF(入力!Q290=1,(入力!L290-入力!M290),入力!L290))","v":""},{"$f":"入力!M290","v":0},{"$f":"IF(AND(M290>0,ISNUMBER(L290)=TRUE),IF(ISNUMBER(入力!O290)=FALSE,\"\",INDEX((三万未満code,三万以上code),入力!O290+1,1,IF((L290+M290)<30000,1,2))),0)","v":0}]
[null,null,{"$f":"IF(入力!C291=\"\",\"\",+入力!C291)","v":""}]
[3,null,{"$f":"IF(入力!C292=\"\",\"\",+入力!C292)","v":""},{"$f":"IF(入力!D292=\"\",\"\",+入力!D292)","v":""},{"$f":"IF(入力!E292=\"\",\"\",+入力!E292)","v":""},null,{"$f":"IF(入力!G292=\"\",\"\",+入力!G292)","v":""},null,null,null,null,{"$f":"IF(入力!L292=0,\"\",IF(入力!Q292=1,(入力!L292-入力!M292),入力!L292))","v":""},{"$f":"入力!M292","v":0},{"$f":"IF(AND(M292>0,ISNUMBER(L292)=TRUE),IF(ISNUMBER(入力!O292)=FALSE,\"\",INDEX((三万未満code,三万以上code),入力!O292+1,1,IF((L292+M292)<30000,1,2))),0)","v":0}]
[null,null,{"$f":"IF(入力!C293=\"\",\"\",+入力!C293)","v":""}]
[4,null,{"$f":"IF(入力!C294=\"\",\"\",+入力!C294)","v":""},{"$f":"IF(入力!D294=\"\",\"\",+入力!D294)","v":""},{"$f":"IF(入力!E294=\"\",\"\",+入力!E294)","v":""},null,{"$f":"IF(入力!G294=\"\",\"\",+入力!G294)","v":""},null,null,null,null,{"$f":"IF(入力!L294=0,\"\",IF(入力!Q294=1,(入力!L294-入力!M294),入力!L294))","v":""},{"$f":"入力!M294","v":0},{"$f":"IF(AND(M294>0,ISNUMBER(L294)=TRUE),IF(ISNUMBER(入力!O294)=FALSE,\"\",INDEX((三万未満code,三万以上code),入力!O294+1,1,IF((L294+M294)<30000,1,2))),0)","v":0}]
[null,null,{"$f":"IF(入力!C295=\"\",\"\",+入力!C295)","v":""}]
[5,null,{"$f":"IF(入力!C296=\"\",\"\",+入力!C296)","v":""},{"$f":"IF(入力!D296=\"\",\"\",+入力!D296)","v":""},{"$f":"IF(入力!E296=\"\",\"\",+入力!E296)","v":""},null,{"$f":"IF(入力!G296=\"\",\"\",+入力!G296)","v":""},null,null,null,null,{"$f":"IF(入力!L296=0,\"\",IF(入力!Q296=1,(入力!L296-入力!M296),入力!L296))","v":""},{"$f":"入力!M296","v":0},{"$f":"IF(AND(M296>0,ISNUMBER(L296)=TRUE),IF(ISNUMBER(入力!O296)=FALSE,\"\",INDEX((三万未満code,三万以上code),入力!O296+1,1,IF((L296+M296)<30000,1,2))),0)","v":0}]
[null,null,{"$f":"IF(入力!C297=\"\",\"\",+入力!C297)","v":""}]
[6,null,{"$f":"IF(入力!C298=\"\",\"\",+入力!C298)","v":""},{"$f":"IF(入力!D298=\"\",\"\",+入力!D298)","v":""},{"$f":"IF(入力!E298=\"\",\"\",+入力!E298)","v":""},null,{"$f":"IF(入力!G298=\"\",\"\",+入力!G298)","v":""},null,null,null,null,{"$f":"IF(入力!L298=0,\"\",IF(入力!Q298=1,(入力!L298-入力!M298),入力!L298))","v":""},{"$f":"入力!M298","v":0},{"$f":"IF(AND(M298>0,ISNUMBER(L298)=TRUE),IF(ISNUMBER(入力!O298)=FALSE,\"\",INDEX((三万未満code,三万以上code),入力!O298+1,1,IF((L298+M298)<30000,1,2))),0)","v":0}]
[null,null,{"$f":"IF(入力!C299=\"\",\"\",+入力!C299)","v":""}]
[7,null,{"$f":"IF(入力!C300=\"\",\"\",+入力!C300)","v":""},{"$f":"IF(入力!D300=\"\",\"\",+入力!D300)","v":""},{"$f":"IF(入力!E300=\"\",\"\",+入力!E300)","v":""},null,{"$f":"IF(入力!G300=\"\",\"\",+入力!G300)","v":""},null,null,null,null,{"$f":"IF(入力!L300=0,\"\",IF(入力!Q300=1,(入力!L300-入力!M300),入力!L300))","v":""},{"$f":"入力!M300","v":0},{"$f":"IF(AND(M300>0,ISNUMBER(L300)=TRUE),IF(ISNUMBER(入力!O300)=FALSE,\"\",INDEX((三万未満code,三万以上code),入力!O300+1,1,IF((L300+M300)<30000,1,2))),0)","v":0}]
[null,null,{"$f":"IF(入力!C301=\"\",\"\",+入力!C301)","v":""}]
[8,null,{"$f":"IF(入力!C302=\"\",\"\",+入力!C302)","v":""},{"$f":"IF(入力!D302=\"\",\"\",+入力!D302)","v":""},{"$f":"IF(入力!E302=\"\",\"\",+入力!E302)","v":""},null,{"$f":"IF(入力!G302=\"\",\"\",+入力!G302)","v":""},null,null,null,null,{"$f":"IF(入力!L302=0,\"\",IF(入力!Q302=1,(入力!L302-入力!M302),入力!L302))","v":""},{"$f":"入力!M302","v":0},{"$f":"IF(AND(M302>0,ISNUMBER(L302)=TRUE),IF(ISNUMBER(入力!O302)=FALSE,\"\",INDEX((三万未満code,三万以上code),入力!O302+1,1,IF((L302+M302)<30000,1,2))),0)","v":0}]
[null,null,{"$f":"IF(入力!C303=\"\",\"\",+入力!C303)","v":""}]
[9,null,{"$f":"IF(入力!C304=\"\",\"\",+入力!C304)","v":""},{"$f":"IF(入力!D304=\"\",\"\",+入力!D304)","v":""},{"$f":"IF(入力!E304=\"\",\"\",+入力!E304)","v":""},null,{"$f":"IF(入力!G304=\"\",\"\",+入力!G304)","v":""},null,null,null,null,{"$f":"IF(入力!L304=0,\"\",IF(入力!Q304=1,(入力!L304-入力!M304),入力!L304))","v":""},{"$f":"入力!M304","v":0},{"$f":"IF(AND(M304>0,ISNUMBER(L304)=TRUE),IF(ISNUMBER(入力!O304)=FALSE,\"\",INDEX((三万未満code,三万以上code),入力!O304+1,1,IF((L304+M304)<30000,1,2))),0)","v":0}]
[null,null,{"$f":"IF(入力!C305=\"\",\"\",+入力!C305)","v":""}]
[10,null,{"$f":"IF(入力!C306=\"\",\"\",+入力!C306)","v":""},{"$f":"IF(入力!D306=\"\",\"\",+入力!D306)","v":""},{"$f":"IF(入力!E306=\"\",\"\",+入力!E306)","v":""},null,{"$f":"IF(入力!G306=\"\",\"\",+入力!G306)","v":""},null,null,null,null,{"$f":"IF(入力!L306=0,\"\",IF(入力!Q306=1,(入力!L306-入力!M306),入力!L306))","v":""},{"$f":"入力!M306","v":0},{"$f":"IF(AND(M306>0,ISNUMBER(L306)=TRUE),IF(ISNUMBER(入力!O306)=FALSE,\"\",INDEX((三万未満code,三万以上code),入力!O306+1,1,IF((L306+M306)<30000,1,2))),0)","v":0}]
[null,null,{"$f":"IF(入力!C307=\"\",\"\",+入力!C307)","v":""}]
[11,null,{"$f":"IF(入力!C308=\"\",\"\",+入力!C308)","v":""},{"$f":"IF(入力!D308=\"\",\"\",+入力!D308)","v":""},{"$f":"IF(入力!E308=\"\",\"\",+入力!E308)","v":""},null,{"$f":"IF(入力!G308=\"\",\"\",+入力!G308)","v":""},null,null,null,null,{"$f":"IF(入力!L308=0,\"\",IF(入力!Q308=1,(入力!L308-入力!M308),入力!L308))","v":""},{"$f":"入力!M308","v":0},{"$f":"IF(AND(M308>0,ISNUMBER(L308)=TRUE),IF(ISNUMBER(入力!O308)=FALSE,\"\",INDEX((三万未満code,三万以上code),入力!O308+1,1,IF((L308+M308)<30000,1,2))),0)","v":0}]
[null,null,{"$f":"IF(入力!C309=\"\",\"\",+入力!C309)","v":""}]
[12,null,{"$f":"IF(入力!C310=\"\",\"\",+入力!C310)","v":""},{"$f":"IF(入力!D310=\"\",\"\",+入力!D310)","v":""},{"$f":"IF(入力!E310=\"\",\"\",+入力!E310)","v":""},null,{"$f":"IF(入力!G310=\"\",\"\",+入力!G310)","v":""},null,null,null,null,{"$f":"IF(入力!L310=0,\"\",IF(入力!Q310=1,(入力!L310-入力!M310),入力!L310))","v":""},{"$f":"入力!M310","v":0},{"$f":"IF(AND(M310>0,ISNUMBER(L310)=TRUE),IF(ISNUMBER(入力!O310)=FALSE,\"\",INDEX((三万未満code,三万以上code),入力!O310+1,1,IF((L310+M310)<30000,1,2))),0)","v":0}]
[null,null,{"$f":"IF(入力!C311=\"\",\"\",+入力!C311)","v":""}]
[13,null,{"$f":"IF(入力!C312=\"\",\"\",+入力!C312)","v":""},{"$f":"IF(入力!D312=\"\",\"\",+入力!D312)","v":""},{"$f":"IF(入力!E312=\"\",\"\",+入力!E312)","v":""},null,{"$f":"IF(入力!G312=\"\",\"\",+入力!G312)","v":""},null,null,null,null,{"$f":"IF(入力!L312=0,\"\",IF(入力!Q312=1,(入力!L312-入力!M312),入力!L312))","v":""},{"$f":"入力!M312","v":0},{"$f":"IF(AND(M312>0,ISNUMBER(L312)=TRUE),IF(ISNUMBER(入力!O312)=FALSE,\"\",INDEX((三万未満code,三万以上code),入力!O312+1,1,IF((L312+M312)<30000,1,2))),0)","v":0}]
[null,null,{"$f":"IF(入力!C313=\"\",\"\",+入力!C313)","v":""}]
[14,null,{"$f":"IF(入力!C314=\"\",\"\",+入力!C314)","v":""},{"$f":"IF(入力!D314=\"\",\"\",+入力!D314)","v":""},{"$f":"IF(入力!E314=\"\",\"\",+入力!E314)","v":""},null,{"$f":"IF(入力!G314=\"\",\"\",+入力!G314)","v":""},null,null,null,null,{"$f":"IF(入力!L314=0,\"\",IF(入力!Q314=1,(入力!L314-入力!M314),入力!L314))","v":""},{"$f":"入力!M314","v":0},{"$f":"IF(AND(M314>0,ISNUMBER(L314)=TRUE),IF(ISNUMBER(入力!O314)=FALSE,\"\",INDEX((三万未満code,三万以上code),入力!O314+1,1,IF((L314+M314)<30000,1,2))),0)","v":0}]
[null,null,{"$f":"IF(入力!C315=\"\",\"\",+入力!C315)","v":""}]
[15,null,{"$f":"IF(入力!C316=\"\",\"\",+入力!C316)","v":""},{"$f":"IF(入力!D316=\"\",\"\",+入力!D316)","v":""},{"$f":"IF(入力!E316=\"\",\"\",+入力!E316)","v":""},null,{"$f":"IF(入力!G316=\"\",\"\",+入力!G316)","v":""},null,null,null,null,{"$f":"IF(入力!L316=0,\"\",IF(入力!Q316=1,(入力!L316-入力!M316),入力!L316))","v":""},{"$f":"入力!M316","v":0},{"$f":"IF(AND(M316>0,ISNUMBER(L316)=TRUE),IF(ISNUMBER(入力!O316)=FALSE,\"\",INDEX((三万未満code,三万以上code),入力!O316+1,1,IF((L316+M316)<30000,1,2))),0)","v":0}]
[null,null,{"$f":"IF(入力!C317=\"\",\"\",+入力!C317)","v":""}]
["科目",null,"　普　 通 　預　 金　","フ",null,null,null,{"$f":"COUNTIF(L288:L317,\">=1\")","v":0},"件","小計",null,{"$f":"SUM(L288:L317)","v":0},{"$f":"SUM(M288:M317)","v":0}]
[null,null,"　当 　座　 預　 金","ト"]
[null,null,"　貯　 蓄　 預　 金","チ",null,null,null,{"$f":"H274+H318","v":0},"件","合計",null,{"$f":"L318+L274","v":0},{"$f":"M318+M274","v":0}]
[null,null,"　　そ　　の　　他","ソ"]
[null,null,null,null,null,null,null,null,null,null,null,null,{"$f":"$M$46","v":2020.01}]
[null,null,{"$f":"C$1","v":2020.01},null,"　　　　　　振 込 依 頼 書",null,null,null,null,null,null,null,{"$f":"入力!M323","v":"ページ　8"}]
[]
[null,null,null,null,null,null,null,null,null,null,"ご依頼日",{"$f":"IF(入力!$L$3=\"\",\"平成　　年　　月　　日\",入力!$L$3)","v":"2020-09-01"}]
[null,null,{"$f":"+入力!$C326","v":"福島銀行"},null,null,null,null,null,null,"お客様番号",null,{"$f":"IF(入力!$L$4=\"\",\"\",入力!$L$4)","v":""}]
[null,{"$f":"IF(入力!$B$5=0,\"\",入力!$B$5)","v":""},null,null,"御中",null,null,null,null,"依頼人名カナ",null,{"$f":"IF(入力!$L$5=\"\",\"\",入力!$L$5)","v":""}]
[null,null,null,null,null,"振込種類",null,null,null,"会社名",null,{"$f":"IF(入力!$L$6=\"\",\"\",入力!$L$6)","v":""}]
[null,null,"振込指定日",null,null,{"$f":"$F$7","v":"1フリコミ"},null,null,null," 担当者名",null,{"$f":"IF(入力!$L$7=\"\",\"\",入力!$L$7)","v":""}]
[null,{"$f":"入力!$B$8","v":"2020-09-01"},null,null,null,null,null,null,null,"電話番号",null,{"$f":"IF(入力!$L$8=\"\",\"\",入力!$L$8)","v":""}]
[]
[null,null,"金 融 機 関 名","科目","口 座 番 号",null,"受　  　　　取 　　 　　人　　　 　　名",null,null,null,null,"　金　　　　　　　額"," 手数料　円"]
[null,null,"支　  　店　　  名","目",null,null,"（　カ　タ　カ　ナ　記　入　）",null,null,null,null,"　　　　　　　　　　円","(消費税含）"]
[1,null,{"$f":"IF(入力!C334=\"\",\"\",+入力!C334)","v":""},{"$f":"IF(入力!D334=\"\",\"\",+入力!D334)","v":""},{"$f":"IF(入力!E334=\"\",\"\",+入力!E334)","v":""},null,{"$f":"IF(入力!G334=\"\",\"\",+入力!G334)","v":""},null,null,null,null,{"$f":"IF(入力!L334=0,\"\",IF(入力!Q334=1,(入力!L334-入力!M334),入力!L334))","v":""},{"$f":"入力!M334","v":0},{"$f":"IF(AND(M334>0,ISNUMBER(L334)=TRUE),IF(ISNUMBER(入力!O334)=FALSE,\"\",INDEX((三万未満code,三万以上code),入力!O334+1,1,IF((L334+M334)<30000,1,2))),0)","v":0}]
[null,null,{"$f":"IF(入力!C335=\"\",\"\",+入力!C335)","v":""}]
[2,null,{"$f":"IF(入力!C336=\"\",\"\",+入力!C336)","v":""},{"$f":"IF(入力!D336=\"\",\"\",+入力!D336)","v":""},{"$f":"IF(入力!E336=\"\",\"\",+入力!E336)","v":""},null,{"$f":"IF(入力!G336=\"\",\"\",+入力!G336)","v":""},null,null,null,null,{"$f":"IF(入力!L336=0,\"\",IF(入力!Q336=1,(入力!L336-入力!M336),入力!L336))","v":""},{"$f":"入力!M336","v":0},{"$f":"IF(AND(M336>0,ISNUMBER(L336)=TRUE),IF(ISNUMBER(入力!O336)=FALSE,\"\",INDEX((三万未満code,三万以上code),入力!O336+1,1,IF((L336+M336)<30000,1,2))),0)","v":0}]
[null,null,{"$f":"IF(入力!C337=\"\",\"\",+入力!C337)","v":""}]
[3,null,{"$f":"IF(入力!C338=\"\",\"\",+入力!C338)","v":""},{"$f":"IF(入力!D338=\"\",\"\",+入力!D338)","v":""},{"$f":"IF(入力!E338=\"\",\"\",+入力!E338)","v":""},null,{"$f":"IF(入力!G338=\"\",\"\",+入力!G338)","v":""},null,null,null,null,{"$f":"IF(入力!L338=0,\"\",IF(入力!Q338=1,(入力!L338-入力!M338),入力!L338))","v":""},{"$f":"入力!M338","v":0},{"$f":"IF(AND(M338>0,ISNUMBER(L338)=TRUE),IF(ISNUMBER(入力!O338)=FALSE,\"\",INDEX((三万未満code,三万以上code),入力!O338+1,1,IF((L338+M338)<30000,1,2))),0)","v":0}]
[null,null,{"$f":"IF(入力!C339=\"\",\"\",+入力!C339)","v":""}]
[4,null,{"$f":"IF(入力!C340=\"\",\"\",+入力!C340)","v":""},{"$f":"IF(入力!D340=\"\",\"\",+入力!D340)","v":""},{"$f":"IF(入力!E340=\"\",\"\",+入力!E340)","v":""},null,{"$f":"IF(入力!G340=\"\",\"\",+入力!G340)","v":""},null,null,null,null,{"$f":"IF(入力!L340=0,\"\",IF(入力!Q340=1,(入力!L340-入力!M340),入力!L340))","v":""},{"$f":"入力!M340","v":0},{"$f":"IF(AND(M340>0,ISNUMBER(L340)=TRUE),IF(ISNUMBER(入力!O340)=FALSE,\"\",INDEX((三万未満code,三万以上code),入力!O340+1,1,IF((L340+M340)<30000,1,2))),0)","v":0}]
[null,null,{"$f":"IF(入力!C341=\"\",\"\",+入力!C341)","v":""}]
[5,null,{"$f":"IF(入力!C342=\"\",\"\",+入力!C342)","v":""},{"$f":"IF(入力!D342=\"\",\"\",+入力!D342)","v":""},{"$f":"IF(入力!E342=\"\",\"\",+入力!E342)","v":""},null,{"$f":"IF(入力!G342=\"\",\"\",+入力!G342)","v":""},null,null,null,null,{"$f":"IF(入力!L342=0,\"\",IF(入力!Q342=1,(入力!L342-入力!M342),入力!L342))","v":""},{"$f":"入力!M342","v":0},{"$f":"IF(AND(M342>0,ISNUMBER(L342)=TRUE),IF(ISNUMBER(入力!O342)=FALSE,\"\",INDEX((三万未満code,三万以上code),入力!O342+1,1,IF((L342+M342)<30000,1,2))),0)","v":0}]
[null,null,{"$f":"IF(入力!C343=\"\",\"\",+入力!C343)","v":""}]
[6,null,{"$f":"IF(入力!C344=\"\",\"\",+入力!C344)","v":""},{"$f":"IF(入力!D344=\"\",\"\",+入力!D344)","v":""},{"$f":"IF(入力!E344=\"\",\"\",+入力!E344)","v":""},null,{"$f":"IF(入力!G344=\"\",\"\",+入力!G344)","v":""},null,null,null,null,{"$f":"IF(入力!L344=0,\"\",IF(入力!Q344=1,(入力!L344-入力!M344),入力!L344))","v":""},{"$f":"入力!M344","v":0},{"$f":"IF(AND(M344>0,ISNUMBER(L344)=TRUE),IF(ISNUMBER(入力!O344)=FALSE,\"\",INDEX((三万未満code,三万以上code),入力!O344+1,1,IF((L344+M344)<30000,1,2))),0)","v":0}]
[null,null,{"$f":"IF(入力!C345=\"\",\"\",+入力!C345)","v":""}]
[7,null,{"$f":"IF(入力!C346=\"\",\"\",+入力!C346)","v":""},{"$f":"IF(入力!D346=\"\",\"\",+入力!D346)","v":""},{"$f":"IF(入力!E346=\"\",\"\",+入力!E346)","v":""},null,{"$f":"IF(入力!G346=\"\",\"\",+入力!G346)","v":""},null,null,null,null,{"$f":"IF(入力!L346=0,\"\",IF(入力!Q346=1,(入力!L346-入力!M346),入力!L346))","v":""},{"$f":"入力!M346","v":0},{"$f":"IF(AND(M346>0,ISNUMBER(L346)=TRUE),IF(ISNUMBER(入力!O346)=FALSE,\"\",INDEX((三万未満code,三万以上code),入力!O346+1,1,IF((L346+M346)<30000,1,2))),0)","v":0}]
[null,null,{"$f":"IF(入力!C347=\"\",\"\",+入力!C347)","v":""}]
[8,null,{"$f":"IF(入力!C348=\"\",\"\",+入力!C348)","v":""},{"$f":"IF(入力!D348=\"\",\"\",+入力!D348)","v":""},{"$f":"IF(入力!E348=\"\",\"\",+入力!E348)","v":""},null,{"$f":"IF(入力!G348=\"\",\"\",+入力!G348)","v":""},null,null,null,null,{"$f":"IF(入力!L348=0,\"\",IF(入力!Q348=1,(入力!L348-入力!M348),入力!L348))","v":""},{"$f":"入力!M348","v":0},{"$f":"IF(AND(M348>0,ISNUMBER(L348)=TRUE),IF(ISNUMBER(入力!O348)=FALSE,\"\",INDEX((三万未満code,三万以上code),入力!O348+1,1,IF((L348+M348)<30000,1,2))),0)","v":0}]
[null,null,{"$f":"IF(入力!C349=\"\",\"\",+入力!C349)","v":""}]
[9,null,{"$f":"IF(入力!C350=\"\",\"\",+入力!C350)","v":""},{"$f":"IF(入力!D350=\"\",\"\",+入力!D350)","v":""},{"$f":"IF(入力!E350=\"\",\"\",+入力!E350)","v":""},null,{"$f":"IF(入力!G350=\"\",\"\",+入力!G350)","v":""},null,null,null,null,{"$f":"IF(入力!L350=0,\"\",IF(入力!Q350=1,(入力!L350-入力!M350),入力!L350))","v":""},{"$f":"入力!M350","v":0},{"$f":"IF(AND(M350>0,ISNUMBER(L350)=TRUE),IF(ISNUMBER(入力!O350)=FALSE,\"\",INDEX((三万未満code,三万以上code),入力!O350+1,1,IF((L350+M350)<30000,1,2))),0)","v":0}]
[null,null,{"$f":"IF(入力!C351=\"\",\"\",+入力!C351)","v":""}]
[10,null,{"$f":"IF(入力!C352=\"\",\"\",+入力!C352)","v":""},{"$f":"IF(入力!D352=\"\",\"\",+入力!D352)","v":""},{"$f":"IF(入力!E352=\"\",\"\",+入力!E352)","v":""},null,{"$f":"IF(入力!G352=\"\",\"\",+入力!G352)","v":""},null,null,null,null,{"$f":"IF(入力!L352=0,\"\",IF(入力!Q352=1,(入力!L352-入力!M352),入力!L352))","v":""},{"$f":"入力!M352","v":0},{"$f":"IF(AND(M352>0,ISNUMBER(L352)=TRUE),IF(ISNUMBER(入力!O352)=FALSE,\"\",INDEX((三万未満code,三万以上code),入力!O352+1,1,IF((L352+M352)<30000,1,2))),0)","v":0}]
[null,null,{"$f":"IF(入力!C353=\"\",\"\",+入力!C353)","v":""}]
[11,null,{"$f":"IF(入力!C354=\"\",\"\",+入力!C354)","v":""},{"$f":"IF(入力!D354=\"\",\"\",+入力!D354)","v":""},{"$f":"IF(入力!E354=\"\",\"\",+入力!E354)","v":""},null,{"$f":"IF(入力!G354=\"\",\"\",+入力!G354)","v":""},null,null,null,null,{"$f":"IF(入力!L354=0,\"\",IF(入力!Q354=1,(入力!L354-入力!M354),入力!L354))","v":""},{"$f":"入力!M354","v":0},{"$f":"IF(AND(M354>0,ISNUMBER(L354)=TRUE),IF(ISNUMBER(入力!O354)=FALSE,\"\",INDEX((三万未満code,三万以上code),入力!O354+1,1,IF((L354+M354)<30000,1,2))),0)","v":0}]
[null,null,{"$f":"IF(入力!C355=\"\",\"\",+入力!C355)","v":""}]
[12,null,{"$f":"IF(入力!C356=\"\",\"\",+入力!C356)","v":""},{"$f":"IF(入力!D356=\"\",\"\",+入力!D356)","v":""},{"$f":"IF(入力!E356=\"\",\"\",+入力!E356)","v":""},null,{"$f":"IF(入力!G356=\"\",\"\",+入力!G356)","v":""},null,null,null,null,{"$f":"IF(入力!L356=0,\"\",IF(入力!Q356=1,(入力!L356-入力!M356),入力!L356))","v":""},{"$f":"入力!M356","v":0},{"$f":"IF(AND(M356>0,ISNUMBER(L356)=TRUE),IF(ISNUMBER(入力!O356)=FALSE,\"\",INDEX((三万未満code,三万以上code),入力!O356+1,1,IF((L356+M356)<30000,1,2))),0)","v":0}]
[null,null,{"$f":"IF(入力!C357=\"\",\"\",+入力!C357)","v":""}]
[13,null,{"$f":"IF(入力!C358=\"\",\"\",+入力!C358)","v":""},{"$f":"IF(入力!D358=\"\",\"\",+入力!D358)","v":""},{"$f":"IF(入力!E358=\"\",\"\",+入力!E358)","v":""},null,{"$f":"IF(入力!G358=\"\",\"\",+入力!G358)","v":""},null,null,null,null,{"$f":"IF(入力!L358=0,\"\",IF(入力!Q358=1,(入力!L358-入力!M358),入力!L358))","v":""},{"$f":"入力!M358","v":0},{"$f":"IF(AND(M358>0,ISNUMBER(L358)=TRUE),IF(ISNUMBER(入力!O358)=FALSE,\"\",INDEX((三万未満code,三万以上code),入力!O358+1,1,IF((L358+M358)<30000,1,2))),0)","v":0}]
[null,null,{"$f":"IF(入力!C359=\"\",\"\",+入力!C359)","v":""}]
[14,null,{"$f":"IF(入力!C360=\"\",\"\",+入力!C360)","v":""},{"$f":"IF(入力!D360=\"\",\"\",+入力!D360)","v":""},{"$f":"IF(入力!E360=\"\",\"\",+入力!E360)","v":""},null,{"$f":"IF(入力!G360=\"\",\"\",+入力!G360)","v":""},null,null,null,null,{"$f":"IF(入力!L360=0,\"\",IF(入力!Q360=1,(入力!L360-入力!M360),入力!L360))","v":""},{"$f":"入力!M360","v":0},{"$f":"IF(AND(M360>0,ISNUMBER(L360)=TRUE),IF(ISNUMBER(入力!O360)=FALSE,\"\",INDEX((三万未満code,三万以上code),入力!O360+1,1,IF((L360+M360)<30000,1,2))),0)","v":0}]
[null,null,{"$f":"IF(入力!C361=\"\",\"\",+入力!C361)","v":""}]
[15,null,{"$f":"IF(入力!C362=\"\",\"\",+入力!C362)","v":""},{"$f":"IF(入力!D362=\"\",\"\",+入力!D362)","v":""},{"$f":"IF(入力!E362=\"\",\"\",+入力!E362)","v":""},null,{"$f":"IF(入力!G362=\"\",\"\",+入力!G362)","v":""},null,null,null,null,{"$f":"IF(入力!L362=0,\"\",IF(入力!Q362=1,(入力!L362-入力!M362),入力!L362))","v":""},{"$f":"入力!M362","v":0},{"$f":"IF(AND(M362>0,ISNUMBER(L362)=TRUE),IF(ISNUMBER(入力!O362)=FALSE,\"\",INDEX((三万未満code,三万以上code),入力!O362+1,1,IF((L362+M362)<30000,1,2))),0)","v":0}]
[null,null,{"$f":"IF(入力!C363=\"\",\"\",+入力!C363)","v":""}]
["科目",null,"　普　 通 　預　 金　","フ",null,null,null,{"$f":"COUNTIF(L334:L363,\">=1\")","v":0},"件","小計",null,{"$f":"SUM(L334:L363)","v":0},{"$f":"SUM(M334:M363)","v":0}]
[null,null,"　当 　座　 預　 金","ト"]
[null,null,"　貯　 蓄　 預　 金","チ",null,null,null,{"$f":"H320+H364","v":0},"件","合計",null,{"$f":"L364+L320","v":0},{"$f":"M364+M320","v":0}]
[null,null,"　　そ　　の　　他","ソ"]
[null,null,null,null,null,null,null,null,null,null,null,null,{"$f":"$M$46","v":2020.01}]
[null,null,{"$f":"C$1","v":2020.01},null,"　　　　　　振 込 依 頼 書",null,null,null,null,null,null,null,{"$f":"入力!M369","v":"ページ　9"}]
[]
[null,null,null,null,null,null,null,null,null,null,"ご依頼日",{"$f":"IF(入力!$L$3=\"\",\"平成　　年　　月　　日\",入力!$L$3)","v":"2020-09-01"}]
[null,null,{"$f":"+入力!$C372","v":"福島銀行"},null,null,null,null,null,null,"お客様番号",null,{"$f":"IF(入力!$L$4=\"\",\"\",入力!$L$4)","v":""}]
[null,{"$f":"IF(入力!$B$5=0,\"\",入力!$B$5)","v":""},null,null,"御中",null,null,null,null,"依頼人名カナ",null,{"$f":"IF(入力!$L$5=\"\",\"\",入力!$L$5)","v":""}]
[null,null,null,null,null,"振込種類",null,null,null,"会社名",null,{"$f":"IF(入力!$L$6=\"\",\"\",入力!$L$6)","v":""}]
[null,null,"振込指定日",null,null,{"$f":"$F$7","v":"1フリコミ"},null,null,null," 担当者名",null,{"$f":"IF(入力!$L$7=\"\",\"\",入力!$L$7)","v":""}]
[null,{"$f":"入力!$B$8","v":"2020-09-01"},null,null,null,null,null,null,null,"電話番号",null,{"$f":"IF(入力!$L$8=\"\",\"\",入力!$L$8)","v":""}]
[]
[null,null,"金 融 機 関 名","科目","口 座 番 号",null,"受　  　　　取 　　 　　人　　　 　　名",null,null,null,null,"　金　　　　　　　額"," 手数料　円"]
[null,null,"支　  　店　　  名","目",null,null,"（　カ　タ　カ　ナ　記　入　）",null,null,null,null,"　　　　　　　　　　円","(消費税含）"]
[1,null,{"$f":"IF(入力!C380=\"\",\"\",+入力!C380)","v":""},{"$f":"IF(入力!D380=\"\",\"\",+入力!D380)","v":""},{"$f":"IF(入力!E380=\"\",\"\",+入力!E380)","v":""},null,{"$f":"IF(入力!G380=\"\",\"\",+入力!G380)","v":""},null,null,null,null,{"$f":"IF(入力!L380=0,\"\",IF(入力!Q380=1,(入力!L380-入力!M380),入力!L380))","v":""},{"$f":"入力!M380","v":0},{"$f":"IF(AND(M380>0,ISNUMBER(L380)=TRUE),IF(ISNUMBER(入力!O380)=FALSE,\"\",INDEX((三万未満code,三万以上code),入力!O380+1,1,IF((L380+M380)<30000,1,2))),0)","v":0}]
[null,null,{"$f":"IF(入力!C381=\"\",\"\",+入力!C381)","v":""}]
[2,null,{"$f":"IF(入力!C382=\"\",\"\",+入力!C382)","v":""},{"$f":"IF(入力!D382=\"\",\"\",+入力!D382)","v":""},{"$f":"IF(入力!E382=\"\",\"\",+入力!E382)","v":""},null,{"$f":"IF(入力!G382=\"\",\"\",+入力!G382)","v":""},null,null,null,null,{"$f":"IF(入力!L382=0,\"\",IF(入力!Q382=1,(入力!L382-入力!M382),入力!L382))","v":""},{"$f":"入力!M382","v":0},{"$f":"IF(AND(M382>0,ISNUMBER(L382)=TRUE),IF(ISNUMBER(入力!O382)=FALSE,\"\",INDEX((三万未満code,三万以上code),入力!O382+1,1,IF((L382+M382)<30000,1,2))),0)","v":0}]
[null,null,{"$f":"IF(入力!C383=\"\",\"\",+入力!C383)","v":""}]
[3,null,{"$f":"IF(入力!C384=\"\",\"\",+入力!C384)","v":""},{"$f":"IF(入力!D384=\"\",\"\",+入力!D384)","v":""},{"$f":"IF(入力!E384=\"\",\"\",+入力!E384)","v":""},null,{"$f":"IF(入力!G384=\"\",\"\",+入力!G384)","v":""},null,null,null,null,{"$f":"IF(入力!L384=0,\"\",IF(入力!Q384=1,(入力!L384-入力!M384),入力!L384))","v":""},{"$f":"入力!M384","v":0},{"$f":"IF(AND(M384>0,ISNUMBER(L384)=TRUE),IF(ISNUMBER(入力!O384)=FALSE,\"\",INDEX((三万未満code,三万以上code),入力!O384+1,1,IF((L384+M384)<30000,1,2))),0)","v":0}]
[null,null,{"$f":"IF(入力!C385=\"\",\"\",+入力!C385)","v":""}]
[4,null,{"$f":"IF(入力!C386=\"\",\"\",+入力!C386)","v":""},{"$f":"IF(入力!D386=\"\",\"\",+入力!D386)","v":""},{"$f":"IF(入力!E386=\"\",\"\",+入力!E386)","v":""},null,{"$f":"IF(入力!G386=\"\",\"\",+入力!G386)","v":""},null,null,null,null,{"$f":"IF(入力!L386=0,\"\",IF(入力!Q386=1,(入力!L386-入力!M386),入力!L386))","v":""},{"$f":"入力!M386","v":0},{"$f":"IF(AND(M386>0,ISNUMBER(L386)=TRUE),IF(ISNUMBER(入力!O386)=FALSE,\"\",INDEX((三万未満code,三万以上code),入力!O386+1,1,IF((L386+M386)<30000,1,2))),0)","v":0}]
[null,null,{"$f":"IF(入力!C387=\"\",\"\",+入力!C387)","v":""}]
[5,null,{"$f":"IF(入力!C388=\"\",\"\",+入力!C388)","v":""},{"$f":"IF(入力!D388=\"\",\"\",+入力!D388)","v":""},{"$f":"IF(入力!E388=\"\",\"\",+入力!E388)","v":""},null,{"$f":"IF(入力!G388=\"\",\"\",+入力!G388)","v":""},null,null,null,null,{"$f":"IF(入力!L388=0,\"\",IF(入力!Q388=1,(入力!L388-入力!M388),入力!L388))","v":""},{"$f":"入力!M388","v":0},{"$f":"IF(AND(M388>0,ISNUMBER(L388)=TRUE),IF(ISNUMBER(入力!O388)=FALSE,\"\",INDEX((三万未満code,三万以上code),入力!O388+1,1,IF((L388+M388)<30000,1,2))),0)","v":0}]
[null,null,{"$f":"IF(入力!C389=\"\",\"\",+入力!C389)","v":""}]
[6,null,{"$f":"IF(入力!C390=\"\",\"\",+入力!C390)","v":""},{"$f":"IF(入力!D390=\"\",\"\",+入力!D390)","v":""},{"$f":"IF(入力!E390=\"\",\"\",+入力!E390)","v":""},null,{"$f":"IF(入力!G390=\"\",\"\",+入力!G390)","v":""},null,null,null,null,{"$f":"IF(入力!L390=0,\"\",IF(入力!Q390=1,(入力!L390-入力!M390),入力!L390))","v":""},{"$f":"入力!M390","v":0},{"$f":"IF(AND(M390>0,ISNUMBER(L390)=TRUE),IF(ISNUMBER(入力!O390)=FALSE,\"\",INDEX((三万未満code,三万以上code),入力!O390+1,1,IF((L390+M390)<30000,1,2))),0)","v":0}]
[null,null,{"$f":"IF(入力!C391=\"\",\"\",+入力!C391)","v":""}]
[7,null,{"$f":"IF(入力!C392=\"\",\"\",+入力!C392)","v":""},{"$f":"IF(入力!D392=\"\",\"\",+入力!D392)","v":""},{"$f":"IF(入力!E392=\"\",\"\",+入力!E392)","v":""},null,{"$f":"IF(入力!G392=\"\",\"\",+入力!G392)","v":""},null,null,null,null,{"$f":"IF(入力!L392=0,\"\",IF(入力!Q392=1,(入力!L392-入力!M392),入力!L392))","v":""},{"$f":"入力!M392","v":0},{"$f":"IF(AND(M392>0,ISNUMBER(L392)=TRUE),IF(ISNUMBER(入力!O392)=FALSE,\"\",INDEX((三万未満code,三万以上code),入力!O392+1,1,IF((L392+M392)<30000,1,2))),0)","v":0}]
[null,null,{"$f":"IF(入力!C393=\"\",\"\",+入力!C393)","v":""}]
[8,null,{"$f":"IF(入力!C394=\"\",\"\",+入力!C394)","v":""},{"$f":"IF(入力!D394=\"\",\"\",+入力!D394)","v":""},{"$f":"IF(入力!E394=\"\",\"\",+入力!E394)","v":""},null,{"$f":"IF(入力!G394=\"\",\"\",+入力!G394)","v":""},null,null,null,null,{"$f":"IF(入力!L394=0,\"\",IF(入力!Q394=1,(入力!L394-入力!M394),入力!L394))","v":""},{"$f":"入力!M394","v":0},{"$f":"IF(AND(M394>0,ISNUMBER(L394)=TRUE),IF(ISNUMBER(入力!O394)=FALSE,\"\",INDEX((三万未満code,三万以上code),入力!O394+1,1,IF((L394+M394)<30000,1,2))),0)","v":0}]
[null,null,{"$f":"IF(入力!C395=\"\",\"\",+入力!C395)","v":""}]
[9,null,{"$f":"IF(入力!C396=\"\",\"\",+入力!C396)","v":""},{"$f":"IF(入力!D396=\"\",\"\",+入力!D396)","v":""},{"$f":"IF(入力!E396=\"\",\"\",+入力!E396)","v":""},null,{"$f":"IF(入力!G396=\"\",\"\",+入力!G396)","v":""},null,null,null,null,{"$f":"IF(入力!L396=0,\"\",IF(入力!Q396=1,(入力!L396-入力!M396),入力!L396))","v":""},{"$f":"入力!M396","v":0},{"$f":"IF(AND(M396>0,ISNUMBER(L396)=TRUE),IF(ISNUMBER(入力!O396)=FALSE,\"\",INDEX((三万未満code,三万以上code),入力!O396+1,1,IF((L396+M396)<30000,1,2))),0)","v":0}]
[null,null,{"$f":"IF(入力!C397=\"\",\"\",+入力!C397)","v":""}]
[10,null,{"$f":"IF(入力!C398=\"\",\"\",+入力!C398)","v":""},{"$f":"IF(入力!D398=\"\",\"\",+入力!D398)","v":""},{"$f":"IF(入力!E398=\"\",\"\",+入力!E398)","v":""},null,{"$f":"IF(入力!G398=\"\",\"\",+入力!G398)","v":""},null,null,null,null,{"$f":"IF(入力!L398=0,\"\",IF(入力!Q398=1,(入力!L398-入力!M398),入力!L398))","v":""},{"$f":"入力!M398","v":0},{"$f":"IF(AND(M398>0,ISNUMBER(L398)=TRUE),IF(ISNUMBER(入力!O398)=FALSE,\"\",INDEX((三万未満code,三万以上code),入力!O398+1,1,IF((L398+M398)<30000,1,2))),0)","v":0}]
[null,null,{"$f":"IF(入力!C399=\"\",\"\",+入力!C399)","v":""}]
[11,null,{"$f":"IF(入力!C400=\"\",\"\",+入力!C400)","v":""},{"$f":"IF(入力!D400=\"\",\"\",+入力!D400)","v":""},{"$f":"IF(入力!E400=\"\",\"\",+入力!E400)","v":""},null,{"$f":"IF(入力!G400=\"\",\"\",+入力!G400)","v":""},null,null,null,null,{"$f":"IF(入力!L400=0,\"\",IF(入力!Q400=1,(入力!L400-入力!M400),入力!L400))","v":""},{"$f":"入力!M400","v":0},{"$f":"IF(AND(M400>0,ISNUMBER(L400)=TRUE),IF(ISNUMBER(入力!O400)=FALSE,\"\",INDEX((三万未満code,三万以上code),入力!O400+1,1,IF((L400+M400)<30000,1,2))),0)","v":0}]
[null,null,{"$f":"IF(入力!C401=\"\",\"\",+入力!C401)","v":""}]
[12,null,{"$f":"IF(入力!C402=\"\",\"\",+入力!C402)","v":""},{"$f":"IF(入力!D402=\"\",\"\",+入力!D402)","v":""},{"$f":"IF(入力!E402=\"\",\"\",+入力!E402)","v":""},null,{"$f":"IF(入力!G402=\"\",\"\",+入力!G402)","v":""},null,null,null,null,{"$f":"IF(入力!L402=0,\"\",IF(入力!Q402=1,(入力!L402-入力!M402),入力!L402))","v":""},{"$f":"入力!M402","v":0},{"$f":"IF(AND(M402>0,ISNUMBER(L402)=TRUE),IF(ISNUMBER(入力!O402)=FALSE,\"\",INDEX((三万未満code,三万以上code),入力!O402+1,1,IF((L402+M402)<30000,1,2))),0)","v":0}]
[null,null,{"$f":"IF(入力!C403=\"\",\"\",+入力!C403)","v":""}]
[13,null,{"$f":"IF(入力!C404=\"\",\"\",+入力!C404)","v":""},{"$f":"IF(入力!D404=\"\",\"\",+入力!D404)","v":""},{"$f":"IF(入力!E404=\"\",\"\",+入力!E404)","v":""},null,{"$f":"IF(入力!G404=\"\",\"\",+入力!G404)","v":""},null,null,null,null,{"$f":"IF(入力!L404=0,\"\",IF(入力!Q404=1,(入力!L404-入力!M404),入力!L404))","v":""},{"$f":"入力!M404","v":0},{"$f":"IF(AND(M404>0,ISNUMBER(L404)=TRUE),IF(ISNUMBER(入力!O404)=FALSE,\"\",INDEX((三万未満code,三万以上code),入力!O404+1,1,IF((L404+M404)<30000,1,2))),0)","v":0}]
[null,null,{"$f":"IF(入力!C405=\"\",\"\",+入力!C405)","v":""}]
[14,null,{"$f":"IF(入力!C406=\"\",\"\",+入力!C406)","v":""},{"$f":"IF(入力!D406=\"\",\"\",+入力!D406)","v":""},{"$f":"IF(入力!E406=\"\",\"\",+入力!E406)","v":""},null,{"$f":"IF(入力!G406=\"\",\"\",+入力!G406)","v":""},null,null,null,null,{"$f":"IF(入力!L406=0,\"\",IF(入力!Q406=1,(入力!L406-入力!M406),入力!L406))","v":""},{"$f":"入力!M406","v":0},{"$f":"IF(AND(M406>0,ISNUMBER(L406)=TRUE),IF(ISNUMBER(入力!O406)=FALSE,\"\",INDEX((三万未満code,三万以上code),入力!O406+1,1,IF((L406+M406)<30000,1,2))),0)","v":0}]
[null,null,{"$f":"IF(入力!C407=\"\",\"\",+入力!C407)","v":""}]
[15,null,{"$f":"IF(入力!C408=\"\",\"\",+入力!C408)","v":""},{"$f":"IF(入力!D408=\"\",\"\",+入力!D408)","v":""},{"$f":"IF(入力!E408=\"\",\"\",+入力!E408)","v":""},null,{"$f":"IF(入力!G408=\"\",\"\",+入力!G408)","v":""},null,null,null,null,{"$f":"IF(入力!L408=0,\"\",IF(入力!Q408=1,(入力!L408-入力!M408),入力!L408))","v":""},{"$f":"入力!M408","v":0},{"$f":"IF(AND(M408>0,ISNUMBER(L408)=TRUE),IF(ISNUMBER(入力!O408)=FALSE,\"\",INDEX((三万未満code,三万以上code),入力!O408+1,1,IF((L408+M408)<30000,1,2))),0)","v":0}]
[null,null,{"$f":"IF(入力!C409=\"\",\"\",+入力!C409)","v":""}]
["科目",null,"　普　 通 　預　 金　","フ",null,null,null,{"$f":"COUNTIF(L380:L409,\">=1\")","v":0},"件","小計",null,{"$f":"SUM(L380:L409)","v":0},{"$f":"SUM(M380:M409)","v":0}]
[null,null,"　当 　座　 預　 金","ト"]
[null,null,"　貯　 蓄　 預　 金","チ",null,null,null,{"$f":"H366+H410","v":0},"件","合計",null,{"$f":"L410+L366","v":0},{"$f":"M410+M366","v":0}]
[null,null,"　　そ　　の　　他","ソ"]
[null,null,null,null,null,null,null,null,null,null,null,null,{"$f":"$M$46","v":2020.01}]
[null,null,{"$f":"C$1","v":2020.01},null,"　　　　　　振 込 依 頼 書",null,null,null,null,null,null,null,{"$f":"入力!M415","v":"ページ 10"}]
[]
[null,null,null,null,null,null,null,null,null,null,"ご依頼日",{"$f":"IF(入力!$L$3=\"\",\"平成　　年　　月　　日\",入力!$L$3)","v":"2020-09-01"}]
[null,null,{"$f":"+入力!$C418","v":"福島銀行"},null,null,null,null,null,null,"お客様番号",null,{"$f":"IF(入力!$L$4=\"\",\"\",入力!$L$4)","v":""}]
[null,{"$f":"IF(入力!$B$5=0,\"\",入力!$B$5)","v":""},null,null,"御中",null,null,null,null,"依頼人名カナ",null,{"$f":"IF(入力!$L$5=\"\",\"\",入力!$L$5)","v":""}]
[null,null,null,null,null,"振込種類",null,null,null,"会社名",null,{"$f":"IF(入力!$L$6=\"\",\"\",入力!$L$6)","v":""}]
[null,null,"振込指定日",null,null,{"$f":"$F$7","v":"1フリコミ"},null,null,null," 担当者名",null,{"$f":"IF(入力!$L$7=\"\",\"\",入力!$L$7)","v":""}]
[null,{"$f":"入力!$B$8","v":"2020-09-01"},null,null,null,null,null,null,null,"電話番号",null,{"$f":"IF(入力!$L$8=\"\",\"\",入力!$L$8)","v":""}]
[]
[null,null,"金 融 機 関 名","科目","口 座 番 号",null,"受　  　　　取 　　 　　人　　　 　　名",null,null,null,null,"　金　　　　　　　額"," 手数料　円"]
[null,null,"支　  　店　　  名","目",null,null,"（　カ　タ　カ　ナ　記　入　）",null,null,null,null,"　　　　　　　　　　円","(消費税含）"]
[1,null,{"$f":"IF(入力!C426=\"\",\"\",+入力!C426)","v":""},{"$f":"IF(入力!D426=\"\",\"\",+入力!D426)","v":""},{"$f":"IF(入力!E426=\"\",\"\",+入力!E426)","v":""},null,{"$f":"IF(入力!G426=\"\",\"\",+入力!G426)","v":""},null,null,null,null,{"$f":"IF(入力!L426=0,\"\",IF(入力!Q426=1,(入力!L426-入力!M426),入力!L426))","v":""},{"$f":"入力!M426","v":0},{"$f":"IF(AND(M426>0,ISNUMBER(L426)=TRUE),IF(ISNUMBER(入力!O426)=FALSE,\"\",INDEX((三万未満code,三万以上code),入力!O426+1,1,IF((L426+M426)<30000,1,2))),0)","v":0}]
[null,null,{"$f":"IF(入力!C427=\"\",\"\",+入力!C427)","v":""}]
[2,null,{"$f":"IF(入力!C428=\"\",\"\",+入力!C428)","v":""},{"$f":"IF(入力!D428=\"\",\"\",+入力!D428)","v":""},{"$f":"IF(入力!E428=\"\",\"\",+入力!E428)","v":""},null,{"$f":"IF(入力!G428=\"\",\"\",+入力!G428)","v":""},null,null,null,null,{"$f":"IF(入力!L428=0,\"\",IF(入力!Q428=1,(入力!L428-入力!M428),入力!L428))","v":""},{"$f":"入力!M428","v":0},{"$f":"IF(AND(M428>0,ISNUMBER(L428)=TRUE),IF(ISNUMBER(入力!O428)=FALSE,\"\",INDEX((三万未満code,三万以上code),入力!O428+1,1,IF((L428+M428)<30000,1,2))),0)","v":0}]
[null,null,{"$f":"IF(入力!C429=\"\",\"\",+入力!C429)","v":""}]
[3,null,{"$f":"IF(入力!C430=\"\",\"\",+入力!C430)","v":""},{"$f":"IF(入力!D430=\"\",\"\",+入力!D430)","v":""},{"$f":"IF(入力!E430=\"\",\"\",+入力!E430)","v":""},null,{"$f":"IF(入力!G430=\"\",\"\",+入力!G430)","v":""},null,null,null,null,{"$f":"IF(入力!L430=0,\"\",IF(入力!Q430=1,(入力!L430-入力!M430),入力!L430))","v":""},{"$f":"入力!M430","v":0},{"$f":"IF(AND(M430>0,ISNUMBER(L430)=TRUE),IF(ISNUMBER(入力!O430)=FALSE,\"\",INDEX((三万未満code,三万以上code),入力!O430+1,1,IF((L430+M430)<30000,1,2))),0)","v":0}]
[null,null,{"$f":"IF(入力!C431=\"\",\"\",+入力!C431)","v":""}]
[4,null,{"$f":"IF(入力!C432=\"\",\"\",+入力!C432)","v":""},{"$f":"IF(入力!D432=\"\",\"\",+入力!D432)","v":""},{"$f":"IF(入力!E432=\"\",\"\",+入力!E432)","v":""},null,{"$f":"IF(入力!G432=\"\",\"\",+入力!G432)","v":""},null,null,null,null,{"$f":"IF(入力!L432=0,\"\",IF(入力!Q432=1,(入力!L432-入力!M432),入力!L432))","v":""},{"$f":"入力!M432","v":0},{"$f":"IF(AND(M432>0,ISNUMBER(L432)=TRUE),IF(ISNUMBER(入力!O432)=FALSE,\"\",INDEX((三万未満code,三万以上code),入力!O432+1,1,IF((L432+M432)<30000,1,2))),0)","v":0}]
[null,null,{"$f":"IF(入力!C433=\"\",\"\",+入力!C433)","v":""}]
[5,null,{"$f":"IF(入力!C434=\"\",\"\",+入力!C434)","v":""},{"$f":"IF(入力!D434=\"\",\"\",+入力!D434)","v":""},{"$f":"IF(入力!E434=\"\",\"\",+入力!E434)","v":""},null,{"$f":"IF(入力!G434=\"\",\"\",+入力!G434)","v":""},null,null,null,null,{"$f":"IF(入力!L434=0,\"\",IF(入力!Q434=1,(入力!L434-入力!M434),入力!L434))","v":""},{"$f":"入力!M434","v":0},{"$f":"IF(AND(M434>0,ISNUMBER(L434)=TRUE),IF(ISNUMBER(入力!O434)=FALSE,\"\",INDEX((三万未満code,三万以上code),入力!O434+1,1,IF((L434+M434)<30000,1,2))),0)","v":0}]
[null,null,{"$f":"IF(入力!C435=\"\",\"\",+入力!C435)","v":""}]
[6,null,{"$f":"IF(入力!C436=\"\",\"\",+入力!C436)","v":""},{"$f":"IF(入力!D436=\"\",\"\",+入力!D436)","v":""},{"$f":"IF(入力!E436=\"\",\"\",+入力!E436)","v":""},null,{"$f":"IF(入力!G436=\"\",\"\",+入力!G436)","v":""},null,null,null,null,{"$f":"IF(入力!L436=0,\"\",IF(入力!Q436=1,(入力!L436-入力!M436),入力!L436))","v":""},{"$f":"入力!M436","v":0},{"$f":"IF(AND(M436>0,ISNUMBER(L436)=TRUE),IF(ISNUMBER(入力!O436)=FALSE,\"\",INDEX((三万未満code,三万以上code),入力!O436+1,1,IF((L436+M436)<30000,1,2))),0)","v":0}]
[null,null,{"$f":"IF(入力!C437=\"\",\"\",+入力!C437)","v":""}]
[7,null,{"$f":"IF(入力!C438=\"\",\"\",+入力!C438)","v":""},{"$f":"IF(入力!D438=\"\",\"\",+入力!D438)","v":""},{"$f":"IF(入力!E438=\"\",\"\",+入力!E438)","v":""},null,{"$f":"IF(入力!G438=\"\",\"\",+入力!G438)","v":""},null,null,null,null,{"$f":"IF(入力!L438=0,\"\",IF(入力!Q438=1,(入力!L438-入力!M438),入力!L438))","v":""},{"$f":"入力!M438","v":0},{"$f":"IF(AND(M438>0,ISNUMBER(L438)=TRUE),IF(ISNUMBER(入力!O438)=FALSE,\"\",INDEX((三万未満code,三万以上code),入力!O438+1,1,IF((L438+M438)<30000,1,2))),0)","v":0}]
[null,null,{"$f":"IF(入力!C439=\"\",\"\",+入力!C439)","v":""}]
[8,null,{"$f":"IF(入力!C440=\"\",\"\",+入力!C440)","v":""},{"$f":"IF(入力!D440=\"\",\"\",+入力!D440)","v":""},{"$f":"IF(入力!E440=\"\",\"\",+入力!E440)","v":""},null,{"$f":"IF(入力!G440=\"\",\"\",+入力!G440)","v":""},null,null,null,null,{"$f":"IF(入力!L440=0,\"\",IF(入力!Q440=1,(入力!L440-入力!M440),入力!L440))","v":""},{"$f":"入力!M440","v":0},{"$f":"IF(AND(M440>0,ISNUMBER(L440)=TRUE),IF(ISNUMBER(入力!O440)=FALSE,\"\",INDEX((三万未満code,三万以上code),入力!O440+1,1,IF((L440+M440)<30000,1,2))),0)","v":0}]
[null,null,{"$f":"IF(入力!C441=\"\",\"\",+入力!C441)","v":""}]
[9,null,{"$f":"IF(入力!C442=\"\",\"\",+入力!C442)","v":""},{"$f":"IF(入力!D442=\"\",\"\",+入力!D442)","v":""},{"$f":"IF(入力!E442=\"\",\"\",+入力!E442)","v":""},null,{"$f":"IF(入力!G442=\"\",\"\",+入力!G442)","v":""},null,null,null,null,{"$f":"IF(入力!L442=0,\"\",IF(入力!Q442=1,(入力!L442-入力!M442),入力!L442))","v":""},{"$f":"入力!M442","v":0},{"$f":"IF(AND(M442>0,ISNUMBER(L442)=TRUE),IF(ISNUMBER(入力!O442)=FALSE,\"\",INDEX((三万未満code,三万以上code),入力!O442+1,1,IF((L442+M442)<30000,1,2))),0)","v":0}]
[null,null,{"$f":"IF(入力!C443=\"\",\"\",+入力!C443)","v":""}]
[10,null,{"$f":"IF(入力!C444=\"\",\"\",+入力!C444)","v":""},{"$f":"IF(入力!D444=\"\",\"\",+入力!D444)","v":""},{"$f":"IF(入力!E444=\"\",\"\",+入力!E444)","v":""},null,{"$f":"IF(入力!G444=\"\",\"\",+入力!G444)","v":""},null,null,null,null,{"$f":"IF(入力!L444=0,\"\",IF(入力!Q444=1,(入力!L444-入力!M444),入力!L444))","v":""},{"$f":"入力!M444","v":0},{"$f":"IF(AND(M444>0,ISNUMBER(L444)=TRUE),IF(ISNUMBER(入力!O444)=FALSE,\"\",INDEX((三万未満code,三万以上code),入力!O444+1,1,IF((L444+M444)<30000,1,2))),0)","v":0}]
[null,null,{"$f":"IF(入力!C445=\"\",\"\",+入力!C445)","v":""}]
[11,null,{"$f":"IF(入力!C446=\"\",\"\",+入力!C446)","v":""},{"$f":"IF(入力!D446=\"\",\"\",+入力!D446)","v":""},{"$f":"IF(入力!E446=\"\",\"\",+入力!E446)","v":""},null,{"$f":"IF(入力!G446=\"\",\"\",+入力!G446)","v":""},null,null,null,null,{"$f":"IF(入力!L446=0,\"\",IF(入力!Q446=1,(入力!L446-入力!M446),入力!L446))","v":""},{"$f":"入力!M446","v":0},{"$f":"IF(AND(M446>0,ISNUMBER(L446)=TRUE),IF(ISNUMBER(入力!O446)=FALSE,\"\",INDEX((三万未満code,三万以上code),入力!O446+1,1,IF((L446+M446)<30000,1,2))),0)","v":0}]
[null,null,{"$f":"IF(入力!C447=\"\",\"\",+入力!C447)","v":""}]
[12,null,{"$f":"IF(入力!C448=\"\",\"\",+入力!C448)","v":""},{"$f":"IF(入力!D448=\"\",\"\",+入力!D448)","v":""},{"$f":"IF(入力!E448=\"\",\"\",+入力!E448)","v":""},null,{"$f":"IF(入力!G448=\"\",\"\",+入力!G448)","v":""},null,null,null,null,{"$f":"IF(入力!L448=0,\"\",IF(入力!Q448=1,(入力!L448-入力!M448),入力!L448))","v":""},{"$f":"入力!M448","v":0},{"$f":"IF(AND(M448>0,ISNUMBER(L448)=TRUE),IF(ISNUMBER(入力!O448)=FALSE,\"\",INDEX((三万未満code,三万以上code),入力!O448+1,1,IF((L448+M448)<30000,1,2))),0)","v":0}]
[null,null,{"$f":"IF(入力!C449=\"\",\"\",+入力!C449)","v":""}]
[13,null,{"$f":"IF(入力!C450=\"\",\"\",+入力!C450)","v":""},{"$f":"IF(入力!D450=\"\",\"\",+入力!D450)","v":""},{"$f":"IF(入力!E450=\"\",\"\",+入力!E450)","v":""},null,{"$f":"IF(入力!G450=\"\",\"\",+入力!G450)","v":""},null,null,null,null,{"$f":"IF(入力!L450=0,\"\",IF(入力!Q450=1,(入力!L450-入力!M450),入力!L450))","v":""},{"$f":"入力!M450","v":0},{"$f":"IF(AND(M450>0,ISNUMBER(L450)=TRUE),IF(ISNUMBER(入力!O450)=FALSE,\"\",INDEX((三万未満code,三万以上code),入力!O450+1,1,IF((L450+M450)<30000,1,2))),0)","v":0}]
[null,null,{"$f":"IF(入力!C451=\"\",\"\",+入力!C451)","v":""}]
[14,null,{"$f":"IF(入力!C452=\"\",\"\",+入力!C452)","v":""},{"$f":"IF(入力!D452=\"\",\"\",+入力!D452)","v":""},{"$f":"IF(入力!E452=\"\",\"\",+入力!E452)","v":""},null,{"$f":"IF(入力!G452=\"\",\"\",+入力!G452)","v":""},null,null,null,null,{"$f":"IF(入力!L452=0,\"\",IF(入力!Q452=1,(入力!L452-入力!M452),入力!L452))","v":""},{"$f":"入力!M452","v":0},{"$f":"IF(AND(M452>0,ISNUMBER(L452)=TRUE),IF(ISNUMBER(入力!O452)=FALSE,\"\",INDEX((三万未満code,三万以上code),入力!O452+1,1,IF((L452+M452)<30000,1,2))),0)","v":0}]
[null,null,{"$f":"IF(入力!C453=\"\",\"\",+入力!C453)","v":""}]
[15,null,{"$f":"IF(入力!C454=\"\",\"\",+入力!C454)","v":""},{"$f":"IF(入力!D454=\"\",\"\",+入力!D454)","v":""},{"$f":"IF(入力!E454=\"\",\"\",+入力!E454)","v":""},null,{"$f":"IF(入力!G454=\"\",\"\",+入力!G454)","v":""},null,null,null,null,{"$f":"IF(入力!L454=0,\"\",IF(入力!Q454=1,(入力!L454-入力!M454),入力!L454))","v":""},{"$f":"入力!M454","v":0},{"$f":"IF(AND(M454>0,ISNUMBER(L454)=TRUE),IF(ISNUMBER(入力!O454)=FALSE,\"\",INDEX((三万未満code,三万以上code),入力!O454+1,1,IF((L454+M454)<30000,1,2))),0)","v":0}]
[null,null,{"$f":"IF(入力!C455=\"\",\"\",+入力!C455)","v":""}]
["科目",null,"　普　 通 　預　 金　","フ",null,null,null,{"$f":"COUNTIF(L426:L455,\">=1\")","v":0},"件","小計",null,{"$f":"SUM(L426:L455)","v":0},{"$f":"SUM(M426:M455)","v":0}]
[null,null,"　当 　座　 預　 金","ト"]
[null,null,"　貯　 蓄　 預　 金","チ",null,null,null,{"$f":"H412+H456","v":0},"件","合計",null,{"$f":"L456+L412","v":0},{"$f":"M456+M412","v":0}]
[null,null,"　　そ　　の　　他","ソ"]
[null,null,null,null,null,null,null,null,null,null,null,null,{"$f":"$M$46","v":2020.01}]
[null,null,{"$f":"C$1","v":2020.01},null,"　　　　　　振 込 依 頼 書",null,null,null,null,null,null,null,{"$f":"入力!M461","v":"ページ 11"}]
[]
[null,null,null,null,null,null,null,null,null,null,"ご依頼日",{"$f":"IF(入力!$L$3=\"\",\"平成　　年　　月　　日\",入力!$L$3)","v":"2020-09-01"}]
[null,null,{"$f":"+入力!$C464","v":"福島銀行"},null,null,null,null,null,null,"お客様番号",null,{"$f":"IF(入力!$L$4=\"\",\"\",入力!$L$4)","v":""}]
[null,{"$f":"IF(入力!$B$5=0,\"\",入力!$B$5)","v":""},null,null,"御中",null,null,null,null,"依頼人名カナ",null,{"$f":"IF(入力!$L$5=\"\",\"\",入力!$L$5)","v":""}]
[null,null,null,null,null,"振込種類",null,null,null,"会社名",null,{"$f":"IF(入力!$L$6=\"\",\"\",入力!$L$6)","v":""}]
[null,null,"振込指定日",null,null,{"$f":"$F$7","v":"1フリコミ"},null,null,null," 担当者名",null,{"$f":"IF(入力!$L$7=\"\",\"\",入力!$L$7)","v":""}]
[null,{"$f":"入力!$B$8","v":"2020-09-01"},null,null,null,null,null,null,null,"電話番号",null,{"$f":"IF(入力!$L$8=\"\",\"\",入力!$L$8)","v":""}]
[]
[null,null,"金 融 機 関 名","科目","口 座 番 号",null,"受　  　　　取 　　 　　人　　　 　　名",null,null,null,null,"　金　　　　　　　額"," 手数料　円"]
[null,null,"支　  　店　　  名","目",null,null,"（　カ　タ　カ　ナ　記　入　）",null,null,null,null,"　　　　　　　　　　円","(消費税含）"]
[1,null,{"$f":"IF(入力!C472=\"\",\"\",+入力!C472)","v":""},{"$f":"IF(入力!D472=\"\",\"\",+入力!D472)","v":""},{"$f":"IF(入力!E472=\"\",\"\",+入力!E472)","v":""},null,{"$f":"IF(入力!G472=\"\",\"\",+入力!G472)","v":""},null,null,null,null,{"$f":"IF(入力!L472=0,\"\",IF(入力!Q472=1,(入力!L472-入力!M472),入力!L472))","v":""},{"$f":"入力!M472","v":0},{"$f":"IF(AND(M472>0,ISNUMBER(L472)=TRUE),IF(ISNUMBER(入力!O472)=FALSE,\"\",INDEX((三万未満code,三万以上code),入力!O472+1,1,IF((L472+M472)<30000,1,2))),0)","v":0}]
[null,null,{"$f":"IF(入力!C473=\"\",\"\",+入力!C473)","v":""}]
[2,null,{"$f":"IF(入力!C474=\"\",\"\",+入力!C474)","v":""},{"$f":"IF(入力!D474=\"\",\"\",+入力!D474)","v":""},{"$f":"IF(入力!E474=\"\",\"\",+入力!E474)","v":""},null,{"$f":"IF(入力!G474=\"\",\"\",+入力!G474)","v":""},null,null,null,null,{"$f":"IF(入力!L474=0,\"\",IF(入力!Q474=1,(入力!L474-入力!M474),入力!L474))","v":""},{"$f":"入力!M474","v":0},{"$f":"IF(AND(M474>0,ISNUMBER(L474)=TRUE),IF(ISNUMBER(入力!O474)=FALSE,\"\",INDEX((三万未満code,三万以上code),入力!O474+1,1,IF((L474+M474)<30000,1,2))),0)","v":0}]
[null,null,{"$f":"IF(入力!C475=\"\",\"\",+入力!C475)","v":""}]
[3,null,{"$f":"IF(入力!C476=\"\",\"\",+入力!C476)","v":""},{"$f":"IF(入力!D476=\"\",\"\",+入力!D476)","v":""},{"$f":"IF(入力!E476=\"\",\"\",+入力!E476)","v":""},null,{"$f":"IF(入力!G476=\"\",\"\",+入力!G476)","v":""},null,null,null,null,{"$f":"IF(入力!L476=0,\"\",IF(入力!Q476=1,(入力!L476-入力!M476),入力!L476))","v":""},{"$f":"入力!M476","v":0},{"$f":"IF(AND(M476>0,ISNUMBER(L476)=TRUE),IF(ISNUMBER(入力!O476)=FALSE,\"\",INDEX((三万未満code,三万以上code),入力!O476+1,1,IF((L476+M476)<30000,1,2))),0)","v":0}]
[null,null,{"$f":"IF(入力!C477=\"\",\"\",+入力!C477)","v":""}]
[4,null,{"$f":"IF(入力!C478=\"\",\"\",+入力!C478)","v":""},{"$f":"IF(入力!D478=\"\",\"\",+入力!D478)","v":""},{"$f":"IF(入力!E478=\"\",\"\",+入力!E478)","v":""},null,{"$f":"IF(入力!G478=\"\",\"\",+入力!G478)","v":""},null,null,null,null,{"$f":"IF(入力!L478=0,\"\",IF(入力!Q478=1,(入力!L478-入力!M478),入力!L478))","v":""},{"$f":"入力!M478","v":0},{"$f":"IF(AND(M478>0,ISNUMBER(L478)=TRUE),IF(ISNUMBER(入力!O478)=FALSE,\"\",INDEX((三万未満code,三万以上code),入力!O478+1,1,IF((L478+M478)<30000,1,2))),0)","v":0}]
[null,null,{"$f":"IF(入力!C479=\"\",\"\",+入力!C479)","v":""}]
[5,null,{"$f":"IF(入力!C480=\"\",\"\",+入力!C480)","v":""},{"$f":"IF(入力!D480=\"\",\"\",+入力!D480)","v":""},{"$f":"IF(入力!E480=\"\",\"\",+入力!E480)","v":""},null,{"$f":"IF(入力!G480=\"\",\"\",+入力!G480)","v":""},null,null,null,null,{"$f":"IF(入力!L480=0,\"\",IF(入力!Q480=1,(入力!L480-入力!M480),入力!L480))","v":""},{"$f":"入力!M480","v":0},{"$f":"IF(AND(M480>0,ISNUMBER(L480)=TRUE),IF(ISNUMBER(入力!O480)=FALSE,\"\",INDEX((三万未満code,三万以上code),入力!O480+1,1,IF((L480+M480)<30000,1,2))),0)","v":0}]
[null,null,{"$f":"IF(入力!C481=\"\",\"\",+入力!C481)","v":""}]
[6,null,{"$f":"IF(入力!C482=\"\",\"\",+入力!C482)","v":""},{"$f":"IF(入力!D482=\"\",\"\",+入力!D482)","v":""},{"$f":"IF(入力!E482=\"\",\"\",+入力!E482)","v":""},null,{"$f":"IF(入力!G482=\"\",\"\",+入力!G482)","v":""},null,null,null,null,{"$f":"IF(入力!L482=0,\"\",IF(入力!Q482=1,(入力!L482-入力!M482),入力!L482))","v":""},{"$f":"入力!M482","v":0},{"$f":"IF(AND(M482>0,ISNUMBER(L482)=TRUE),IF(ISNUMBER(入力!O482)=FALSE,\"\",INDEX((三万未満code,三万以上code),入力!O482+1,1,IF((L482+M482)<30000,1,2))),0)","v":0}]
[null,null,{"$f":"IF(入力!C483=\"\",\"\",+入力!C483)","v":""}]
[7,null,{"$f":"IF(入力!C484=\"\",\"\",+入力!C484)","v":""},{"$f":"IF(入力!D484=\"\",\"\",+入力!D484)","v":""},{"$f":"IF(入力!E484=\"\",\"\",+入力!E484)","v":""},null,{"$f":"IF(入力!G484=\"\",\"\",+入力!G484)","v":""},null,null,null,null,{"$f":"IF(入力!L484=0,\"\",IF(入力!Q484=1,(入力!L484-入力!M484),入力!L484))","v":""},{"$f":"入力!M484","v":0},{"$f":"IF(AND(M484>0,ISNUMBER(L484)=TRUE),IF(ISNUMBER(入力!O484)=FALSE,\"\",INDEX((三万未満code,三万以上code),入力!O484+1,1,IF((L484+M484)<30000,1,2))),0)","v":0}]
[null,null,{"$f":"IF(入力!C485=\"\",\"\",+入力!C485)","v":""}]
[8,null,{"$f":"IF(入力!C486=\"\",\"\",+入力!C486)","v":""},{"$f":"IF(入力!D486=\"\",\"\",+入力!D486)","v":""},{"$f":"IF(入力!E486=\"\",\"\",+入力!E486)","v":""},null,{"$f":"IF(入力!G486=\"\",\"\",+入力!G486)","v":""},null,null,null,null,{"$f":"IF(入力!L486=0,\"\",IF(入力!Q486=1,(入力!L486-入力!M486),入力!L486))","v":""},{"$f":"入力!M486","v":0},{"$f":"IF(AND(M486>0,ISNUMBER(L486)=TRUE),IF(ISNUMBER(入力!O486)=FALSE,\"\",INDEX((三万未満code,三万以上code),入力!O486+1,1,IF((L486+M486)<30000,1,2))),0)","v":0}]
[null,null,{"$f":"IF(入力!C487=\"\",\"\",+入力!C487)","v":""}]
[9,null,{"$f":"IF(入力!C488=\"\",\"\",+入力!C488)","v":""},{"$f":"IF(入力!D488=\"\",\"\",+入力!D488)","v":""},{"$f":"IF(入力!E488=\"\",\"\",+入力!E488)","v":""},null,{"$f":"IF(入力!G488=\"\",\"\",+入力!G488)","v":""},null,null,null,null,{"$f":"IF(入力!L488=0,\"\",IF(入力!Q488=1,(入力!L488-入力!M488),入力!L488))","v":""},{"$f":"入力!M488","v":0},{"$f":"IF(AND(M488>0,ISNUMBER(L488)=TRUE),IF(ISNUMBER(入力!O488)=FALSE,\"\",INDEX((三万未満code,三万以上code),入力!O488+1,1,IF((L488+M488)<30000,1,2))),0)","v":0}]
[null,null,{"$f":"IF(入力!C489=\"\",\"\",+入力!C489)","v":""}]
[10,null,{"$f":"IF(入力!C490=\"\",\"\",+入力!C490)","v":""},{"$f":"IF(入力!D490=\"\",\"\",+入力!D490)","v":""},{"$f":"IF(入力!E490=\"\",\"\",+入力!E490)","v":""},null,{"$f":"IF(入力!G490=\"\",\"\",+入力!G490)","v":""},null,null,null,null,{"$f":"IF(入力!L490=0,\"\",IF(入力!Q490=1,(入力!L490-入力!M490),入力!L490))","v":""},{"$f":"入力!M490","v":0},{"$f":"IF(AND(M490>0,ISNUMBER(L490)=TRUE),IF(ISNUMBER(入力!O490)=FALSE,\"\",INDEX((三万未満code,三万以上code),入力!O490+1,1,IF((L490+M490)<30000,1,2))),0)","v":0}]
[null,null,{"$f":"IF(入力!C491=\"\",\"\",+入力!C491)","v":""}]
[11,null,{"$f":"IF(入力!C492=\"\",\"\",+入力!C492)","v":""},{"$f":"IF(入力!D492=\"\",\"\",+入力!D492)","v":""},{"$f":"IF(入力!E492=\"\",\"\",+入力!E492)","v":""},null,{"$f":"IF(入力!G492=\"\",\"\",+入力!G492)","v":""},null,null,null,null,{"$f":"IF(入力!L492=0,\"\",IF(入力!Q492=1,(入力!L492-入力!M492),入力!L492))","v":""},{"$f":"入力!M492","v":0},{"$f":"IF(AND(M492>0,ISNUMBER(L492)=TRUE),IF(ISNUMBER(入力!O492)=FALSE,\"\",INDEX((三万未満code,三万以上code),入力!O492+1,1,IF((L492+M492)<30000,1,2))),0)","v":0}]
[null,null,{"$f":"IF(入力!C493=\"\",\"\",+入力!C493)","v":""}]
[12,null,{"$f":"IF(入力!C494=\"\",\"\",+入力!C494)","v":""},{"$f":"IF(入力!D494=\"\",\"\",+入力!D494)","v":""},{"$f":"IF(入力!E494=\"\",\"\",+入力!E494)","v":""},null,{"$f":"IF(入力!G494=\"\",\"\",+入力!G494)","v":""},null,null,null,null,{"$f":"IF(入力!L494=0,\"\",IF(入力!Q494=1,(入力!L494-入力!M494),入力!L494))","v":""},{"$f":"入力!M494","v":0},{"$f":"IF(AND(M494>0,ISNUMBER(L494)=TRUE),IF(ISNUMBER(入力!O494)=FALSE,\"\",INDEX((三万未満code,三万以上code),入力!O494+1,1,IF((L494+M494)<30000,1,2))),0)","v":0}]
[null,null,{"$f":"IF(入力!C495=\"\",\"\",+入力!C495)","v":""}]
[13,null,{"$f":"IF(入力!C496=\"\",\"\",+入力!C496)","v":""},{"$f":"IF(入力!D496=\"\",\"\",+入力!D496)","v":""},{"$f":"IF(入力!E496=\"\",\"\",+入力!E496)","v":""},null,{"$f":"IF(入力!G496=\"\",\"\",+入力!G496)","v":""},null,null,null,null,{"$f":"IF(入力!L496=0,\"\",IF(入力!Q496=1,(入力!L496-入力!M496),入力!L496))","v":""},{"$f":"入力!M496","v":0},{"$f":"IF(AND(M496>0,ISNUMBER(L496)=TRUE),IF(ISNUMBER(入力!O496)=FALSE,\"\",INDEX((三万未満code,三万以上code),入力!O496+1,1,IF((L496+M496)<30000,1,2))),0)","v":0}]
[null,null,{"$f":"IF(入力!C497=\"\",\"\",+入力!C497)","v":""}]
[14,null,{"$f":"IF(入力!C498=\"\",\"\",+入力!C498)","v":""},{"$f":"IF(入力!D498=\"\",\"\",+入力!D498)","v":""},{"$f":"IF(入力!E498=\"\",\"\",+入力!E498)","v":""},null,{"$f":"IF(入力!G498=\"\",\"\",+入力!G498)","v":""},null,null,null,null,{"$f":"IF(入力!L498=0,\"\",IF(入力!Q498=1,(入力!L498-入力!M498),入力!L498))","v":""},{"$f":"入力!M498","v":0},{"$f":"IF(AND(M498>0,ISNUMBER(L498)=TRUE),IF(ISNUMBER(入力!O498)=FALSE,\"\",INDEX((三万未満code,三万以上code),入力!O498+1,1,IF((L498+M498)<30000,1,2))),0)","v":0}]
[null,null,{"$f":"IF(入力!C499=\"\",\"\",+入力!C499)","v":""}]
[15,null,{"$f":"IF(入力!C500=\"\",\"\",+入力!C500)","v":""},{"$f":"IF(入力!D500=\"\",\"\",+入力!D500)","v":""},{"$f":"IF(入力!E500=\"\",\"\",+入力!E500)","v":""},null,{"$f":"IF(入力!G500=\"\",\"\",+入力!G500)","v":""},null,null,null,null,{"$f":"IF(入力!L500=0,\"\",IF(入力!Q500=1,(入力!L500-入力!M500),入力!L500))","v":""},{"$f":"入力!M500","v":0},{"$f":"IF(AND(M500>0,ISNUMBER(L500)=TRUE),IF(ISNUMBER(入力!O500)=FALSE,\"\",INDEX((三万未満code,三万以上code),入力!O500+1,1,IF((L500+M500)<30000,1,2))),0)","v":0}]
[null,null,{"$f":"IF(入力!C501=\"\",\"\",+入力!C501)","v":""}]
["科目",null,"　普　 通 　預　 金　","フ",null,null,null,{"$f":"COUNTIF(L472:L501,\">=1\")","v":0},"件","小計",null,{"$f":"SUM(L472:L501)","v":0},{"$f":"SUM(M472:M501)","v":0}]
[null,null,"　当 　座　 預　 金","ト"]
[null,null,"　貯　 蓄　 預　 金","チ",null,null,null,{"$f":"H458+H502","v":0},"件","合計",null,{"$f":"L502+L458","v":0},{"$f":"M502+M458","v":0}]
[null,null,"　　そ　　の　　他","ソ"]
[null,null,null,null,null,null,null,null,null,null,null,null,{"$f":"$M$46","v":2020.01}]
[null,null,{"$f":"C$1","v":2020.01},null,"　　　　　　振 込 依 頼 書",null,null,null,null,null,null,null,{"$f":"入力!M507","v":"ページ 12"}]
[]
[null,null,null,null,null,null,null,null,null,null,"ご依頼日",{"$f":"IF(入力!$L$3=\"\",\"平成　　年　　月　　日\",入力!$L$3)","v":"2020-09-01"}]
[null,null,{"$f":"+入力!$C510","v":"福島銀行"},null,null,null,null,null,null,"お客様番号",null,{"$f":"IF(入力!$L$4=\"\",\"\",入力!$L$4)","v":""}]
[null,{"$f":"IF(入力!$B$5=0,\"\",入力!$B$5)","v":""},null,null,"御中",null,null,null,null,"依頼人名カナ",null,{"$f":"IF(入力!$L$5=\"\",\"\",入力!$L$5)","v":""}]
[null,null,null,null,null,"振込種類",null,null,null,"会社名",null,{"$f":"IF(入力!$L$6=\"\",\"\",入力!$L$6)","v":""}]
[null,null,"振込指定日",null,null,{"$f":"$F$7","v":"1フリコミ"},null,null,null," 担当者名",null,{"$f":"IF(入力!$L$7=\"\",\"\",入力!$L$7)","v":""}]
[null,{"$f":"入力!$B$8","v":"2020-09-01"},null,null,null,null,null,null,null,"電話番号",null,{"$f":"IF(入力!$L$8=\"\",\"\",入力!$L$8)","v":""}]
[]
[null,null,"金 融 機 関 名","科目","口 座 番 号",null,"受　  　　　取 　　 　　人　　　 　　名",null,null,null,null,"　金　　　　　　　額"," 手数料　円"]
[null,null,"支　  　店　　  名","目",null,null,"（　カ　タ　カ　ナ　記　入　）",null,null,null,null,"　　　　　　　　　　円","(消費税含）"]
[1,null,{"$f":"IF(入力!C518=\"\",\"\",+入力!C518)","v":""},{"$f":"IF(入力!D518=\"\",\"\",+入力!D518)","v":""},{"$f":"IF(入力!E518=\"\",\"\",+入力!E518)","v":""},null,{"$f":"IF(入力!G518=\"\",\"\",+入力!G518)","v":""},null,null,null,null,{"$f":"IF(入力!L518=0,\"\",IF(入力!Q518=1,(入力!L518-入力!M518),入力!L518))","v":""},{"$f":"入力!M518","v":0},{"$f":"IF(AND(M518>0,ISNUMBER(L518)=TRUE),IF(ISNUMBER(入力!O518)=FALSE,\"\",INDEX((三万未満code,三万以上code),入力!O518+1,1,IF((L518+M518)<30000,1,2))),0)","v":0}]
[null,null,{"$f":"IF(入力!C519=\"\",\"\",+入力!C519)","v":""}]
[2,null,{"$f":"IF(入力!C520=\"\",\"\",+入力!C520)","v":""},{"$f":"IF(入力!D520=\"\",\"\",+入力!D520)","v":""},{"$f":"IF(入力!E520=\"\",\"\",+入力!E520)","v":""},null,{"$f":"IF(入力!G520=\"\",\"\",+入力!G520)","v":""},null,null,null,null,{"$f":"IF(入力!L520=0,\"\",IF(入力!Q520=1,(入力!L520-入力!M520),入力!L520))","v":""},{"$f":"入力!M520","v":0},{"$f":"IF(AND(M520>0,ISNUMBER(L520)=TRUE),IF(ISNUMBER(入力!O520)=FALSE,\"\",INDEX((三万未満code,三万以上code),入力!O520+1,1,IF((L520+M520)<30000,1,2))),0)","v":0}]
[null,null,{"$f":"IF(入力!C521=\"\",\"\",+入力!C521)","v":""}]
[3,null,{"$f":"IF(入力!C522=\"\",\"\",+入力!C522)","v":""},{"$f":"IF(入力!D522=\"\",\"\",+入力!D522)","v":""},{"$f":"IF(入力!E522=\"\",\"\",+入力!E522)","v":""},null,{"$f":"IF(入力!G522=\"\",\"\",+入力!G522)","v":""},null,null,null,null,{"$f":"IF(入力!L522=0,\"\",IF(入力!Q522=1,(入力!L522-入力!M522),入力!L522))","v":""},{"$f":"入力!M522","v":0},{"$f":"IF(AND(M522>0,ISNUMBER(L522)=TRUE),IF(ISNUMBER(入力!O522)=FALSE,\"\",INDEX((三万未満code,三万以上code),入力!O522+1,1,IF((L522+M522)<30000,1,2))),0)","v":0}]
[null,null,{"$f":"IF(入力!C523=\"\",\"\",+入力!C523)","v":""}]
[4,null,{"$f":"IF(入力!C524=\"\",\"\",+入力!C524)","v":""},{"$f":"IF(入力!D524=\"\",\"\",+入力!D524)","v":""},{"$f":"IF(入力!E524=\"\",\"\",+入力!E524)","v":""},null,{"$f":"IF(入力!G524=\"\",\"\",+入力!G524)","v":""},null,null,null,null,{"$f":"IF(入力!L524=0,\"\",IF(入力!Q524=1,(入力!L524-入力!M524),入力!L524))","v":""},{"$f":"入力!M524","v":0},{"$f":"IF(AND(M524>0,ISNUMBER(L524)=TRUE),IF(ISNUMBER(入力!O524)=FALSE,\"\",INDEX((三万未満code,三万以上code),入力!O524+1,1,IF((L524+M524)<30000,1,2))),0)","v":0}]
[null,null,{"$f":"IF(入力!C525=\"\",\"\",+入力!C525)","v":""}]
[5,null,{"$f":"IF(入力!C526=\"\",\"\",+入力!C526)","v":""},{"$f":"IF(入力!D526=\"\",\"\",+入力!D526)","v":""},{"$f":"IF(入力!E526=\"\",\"\",+入力!E526)","v":""},null,{"$f":"IF(入力!G526=\"\",\"\",+入力!G526)","v":""},null,null,null,null,{"$f":"IF(入力!L526=0,\"\",IF(入力!Q526=1,(入力!L526-入力!M526),入力!L526))","v":""},{"$f":"入力!M526","v":0},{"$f":"IF(AND(M526>0,ISNUMBER(L526)=TRUE),IF(ISNUMBER(入力!O526)=FALSE,\"\",INDEX((三万未満code,三万以上code),入力!O526+1,1,IF((L526+M526)<30000,1,2))),0)","v":0}]
[null,null,{"$f":"IF(入力!C527=\"\",\"\",+入力!C527)","v":""}]
[6,null,{"$f":"IF(入力!C528=\"\",\"\",+入力!C528)","v":""},{"$f":"IF(入力!D528=\"\",\"\",+入力!D528)","v":""},{"$f":"IF(入力!E528=\"\",\"\",+入力!E528)","v":""},null,{"$f":"IF(入力!G528=\"\",\"\",+入力!G528)","v":""},null,null,null,null,{"$f":"IF(入力!L528=0,\"\",IF(入力!Q528=1,(入力!L528-入力!M528),入力!L528))","v":""},{"$f":"入力!M528","v":0},{"$f":"IF(AND(M528>0,ISNUMBER(L528)=TRUE),IF(ISNUMBER(入力!O528)=FALSE,\"\",INDEX((三万未満code,三万以上code),入力!O528+1,1,IF((L528+M528)<30000,1,2))),0)","v":0}]
[null,null,{"$f":"IF(入力!C529=\"\",\"\",+入力!C529)","v":""}]
[7,null,{"$f":"IF(入力!C530=\"\",\"\",+入力!C530)","v":""},{"$f":"IF(入力!D530=\"\",\"\",+入力!D530)","v":""},{"$f":"IF(入力!E530=\"\",\"\",+入力!E530)","v":""},null,{"$f":"IF(入力!G530=\"\",\"\",+入力!G530)","v":""},null,null,null,null,{"$f":"IF(入力!L530=0,\"\",IF(入力!Q530=1,(入力!L530-入力!M530),入力!L530))","v":""},{"$f":"入力!M530","v":0},{"$f":"IF(AND(M530>0,ISNUMBER(L530)=TRUE),IF(ISNUMBER(入力!O530)=FALSE,\"\",INDEX((三万未満code,三万以上code),入力!O530+1,1,IF((L530+M530)<30000,1,2))),0)","v":0}]
[null,null,{"$f":"IF(入力!C531=\"\",\"\",+入力!C531)","v":""}]
[8,null,{"$f":"IF(入力!C532=\"\",\"\",+入力!C532)","v":""},{"$f":"IF(入力!D532=\"\",\"\",+入力!D532)","v":""},{"$f":"IF(入力!E532=\"\",\"\",+入力!E532)","v":""},null,{"$f":"IF(入力!G532=\"\",\"\",+入力!G532)","v":""},null,null,null,null,{"$f":"IF(入力!L532=0,\"\",IF(入力!Q532=1,(入力!L532-入力!M532),入力!L532))","v":""},{"$f":"入力!M532","v":0},{"$f":"IF(AND(M532>0,ISNUMBER(L532)=TRUE),IF(ISNUMBER(入力!O532)=FALSE,\"\",INDEX((三万未満code,三万以上code),入力!O532+1,1,IF((L532+M532)<30000,1,2))),0)","v":0}]
[null,null,{"$f":"IF(入力!C533=\"\",\"\",+入力!C533)","v":""}]
[9,null,{"$f":"IF(入力!C534=\"\",\"\",+入力!C534)","v":""},{"$f":"IF(入力!D534=\"\",\"\",+入力!D534)","v":""},{"$f":"IF(入力!E534=\"\",\"\",+入力!E534)","v":""},null,{"$f":"IF(入力!G534=\"\",\"\",+入力!G534)","v":""},null,null,null,null,{"$f":"IF(入力!L534=0,\"\",IF(入力!Q534=1,(入力!L534-入力!M534),入力!L534))","v":""},{"$f":"入力!M534","v":0},{"$f":"IF(AND(M534>0,ISNUMBER(L534)=TRUE),IF(ISNUMBER(入力!O534)=FALSE,\"\",INDEX((三万未満code,三万以上code),入力!O534+1,1,IF((L534+M534)<30000,1,2))),0)","v":0}]
[null,null,{"$f":"IF(入力!C535=\"\",\"\",+入力!C535)","v":""}]
[10,null,{"$f":"IF(入力!C536=\"\",\"\",+入力!C536)","v":""},{"$f":"IF(入力!D536=\"\",\"\",+入力!D536)","v":""},{"$f":"IF(入力!E536=\"\",\"\",+入力!E536)","v":""},null,{"$f":"IF(入力!G536=\"\",\"\",+入力!G536)","v":""},null,null,null,null,{"$f":"IF(入力!L536=0,\"\",IF(入力!Q536=1,(入力!L536-入力!M536),入力!L536))","v":""},{"$f":"入力!M536","v":0},{"$f":"IF(AND(M536>0,ISNUMBER(L536)=TRUE),IF(ISNUMBER(入力!O536)=FALSE,\"\",INDEX((三万未満code,三万以上code),入力!O536+1,1,IF((L536+M536)<30000,1,2))),0)","v":0}]
[null,null,{"$f":"IF(入力!C537=\"\",\"\",+入力!C537)","v":""}]
[11,null,{"$f":"IF(入力!C538=\"\",\"\",+入力!C538)","v":""},{"$f":"IF(入力!D538=\"\",\"\",+入力!D538)","v":""},{"$f":"IF(入力!E538=\"\",\"\",+入力!E538)","v":""},null,{"$f":"IF(入力!G538=\"\",\"\",+入力!G538)","v":""},null,null,null,null,{"$f":"IF(入力!L538=0,\"\",IF(入力!Q538=1,(入力!L538-入力!M538),入力!L538))","v":""},{"$f":"入力!M538","v":0},{"$f":"IF(AND(M538>0,ISNUMBER(L538)=TRUE),IF(ISNUMBER(入力!O538)=FALSE,\"\",INDEX((三万未満code,三万以上code),入力!O538+1,1,IF((L538+M538)<30000,1,2))),0)","v":0}]
[null,null,{"$f":"IF(入力!C539=\"\",\"\",+入力!C539)","v":""}]
[12,null,{"$f":"IF(入力!C540=\"\",\"\",+入力!C540)","v":""},{"$f":"IF(入力!D540=\"\",\"\",+入力!D540)","v":""},{"$f":"IF(入力!E540=\"\",\"\",+入力!E540)","v":""},null,{"$f":"IF(入力!G540=\"\",\"\",+入力!G540)","v":""},null,null,null,null,{"$f":"IF(入力!L540=0,\"\",IF(入力!Q540=1,(入力!L540-入力!M540),入力!L540))","v":""},{"$f":"入力!M540","v":0},{"$f":"IF(AND(M540>0,ISNUMBER(L540)=TRUE),IF(ISNUMBER(入力!O540)=FALSE,\"\",INDEX((三万未満code,三万以上code),入力!O540+1,1,IF((L540+M540)<30000,1,2))),0)","v":0}]
[null,null,{"$f":"IF(入力!C541=\"\",\"\",+入力!C541)","v":""}]
[13,null,{"$f":"IF(入力!C542=\"\",\"\",+入力!C542)","v":""},{"$f":"IF(入力!D542=\"\",\"\",+入力!D542)","v":""},{"$f":"IF(入力!E542=\"\",\"\",+入力!E542)","v":""},null,{"$f":"IF(入力!G542=\"\",\"\",+入力!G542)","v":""},null,null,null,null,{"$f":"IF(入力!L542=0,\"\",IF(入力!Q542=1,(入力!L542-入力!M542),入力!L542))","v":""},{"$f":"入力!M542","v":0},{"$f":"IF(AND(M542>0,ISNUMBER(L542)=TRUE),IF(ISNUMBER(入力!O542)=FALSE,\"\",INDEX((三万未満code,三万以上code),入力!O542+1,1,IF((L542+M542)<30000,1,2))),0)","v":0}]
[null,null,{"$f":"IF(入力!C543=\"\",\"\",+入力!C543)","v":""}]
[14,null,{"$f":"IF(入力!C544=\"\",\"\",+入力!C544)","v":""},{"$f":"IF(入力!D544=\"\",\"\",+入力!D544)","v":""},{"$f":"IF(入力!E544=\"\",\"\",+入力!E544)","v":""},null,{"$f":"IF(入力!G544=\"\",\"\",+入力!G544)","v":""},null,null,null,null,{"$f":"IF(入力!L544=0,\"\",IF(入力!Q544=1,(入力!L544-入力!M544),入力!L544))","v":""},{"$f":"入力!M544","v":0},{"$f":"IF(AND(M544>0,ISNUMBER(L544)=TRUE),IF(ISNUMBER(入力!O544)=FALSE,\"\",INDEX((三万未満code,三万以上code),入力!O544+1,1,IF((L544+M544)<30000,1,2))),0)","v":0}]
[null,null,{"$f":"IF(入力!C545=\"\",\"\",+入力!C545)","v":""}]
[15,null,{"$f":"IF(入力!C546=\"\",\"\",+入力!C546)","v":""},{"$f":"IF(入力!D546=\"\",\"\",+入力!D546)","v":""},{"$f":"IF(入力!E546=\"\",\"\",+入力!E546)","v":""},null,{"$f":"IF(入力!G546=\"\",\"\",+入力!G546)","v":""},null,null,null,null,{"$f":"IF(入力!L546=0,\"\",IF(入力!Q546=1,(入力!L546-入力!M546),入力!L546))","v":""},{"$f":"入力!M546","v":0},{"$f":"IF(AND(M546>0,ISNUMBER(L546)=TRUE),IF(ISNUMBER(入力!O546)=FALSE,\"\",INDEX((三万未満code,三万以上code),入力!O546+1,1,IF((L546+M546)<30000,1,2))),0)","v":0}]
[null,null,{"$f":"IF(入力!C547=\"\",\"\",+入力!C547)","v":""}]
["科目",null,"　普　 通 　預　 金　","フ",null,null,null,{"$f":"COUNTIF(L518:L547,\">=1\")","v":0},"件","小計",null,{"$f":"SUM(L518:L547)","v":0},{"$f":"SUM(M518:M547)","v":0}]
[null,null,"　当 　座　 預　 金","ト"]
[null,null,"　貯　 蓄　 預　 金","チ",null,null,null,{"$f":"H504+H548","v":0},"件","合計",null,{"$f":"L548+L504","v":0},{"$f":"M548+M504","v":0}]
[null,null,"　　そ　　の　　他","ソ"]
[null,null,null,null,null,null,null,null,null,null,null,null,{"$f":"$M$46","v":2020.01}]
[null,null,{"$f":"C$1","v":2020.01},null,"　　　　　　振 込 依 頼 書",null,null,null,null,null,null,null,{"$f":"入力!M553","v":"ページ 13"}]
[]
[null,null,null,null,null,null,null,null,null,null,"ご依頼日",{"$f":"IF(入力!$L$3=\"\",\"平成　　年　　月　　日\",入力!$L$3)","v":"2020-09-01"}]
[null,null,{"$f":"+入力!$C556","v":"福島銀行"},null,null,null,null,null,null,"お客様番号",null,{"$f":"IF(入力!$L$4=\"\",\"\",入力!$L$4)","v":""}]
[null,{"$f":"IF(入力!$B$5=0,\"\",入力!$B$5)","v":""},null,null,"御中",null,null,null,null,"依頼人名カナ",null,{"$f":"IF(入力!$L$5=\"\",\"\",入力!$L$5)","v":""}]
[null,null,null,null,null,"振込種類",null,null,null,"会社名",null,{"$f":"IF(入力!$L$6=\"\",\"\",入力!$L$6)","v":""}]
[null,null,"振込指定日",null,null,{"$f":"$F$7","v":"1フリコミ"},null,null,null," 担当者名",null,{"$f":"IF(入力!$L$7=\"\",\"\",入力!$L$7)","v":""}]
[null,{"$f":"入力!$B$8","v":"2020-09-01"},null,null,null,null,null,null,null,"電話番号",null,{"$f":"IF(入力!$L$8=\"\",\"\",入力!$L$8)","v":""}]
[]
[null,null,"金 融 機 関 名","科目","口 座 番 号",null,"受　  　　　取 　　 　　人　　　 　　名",null,null,null,null,"　金　　　　　　　額"," 手数料　円"]
[null,null,"支　  　店　　  名","目",null,null,"（　カ　タ　カ　ナ　記　入　）",null,null,null,null,"　　　　　　　　　　円","(消費税含）"]
[1,null,{"$f":"IF(入力!C564=\"\",\"\",+入力!C564)","v":""},{"$f":"IF(入力!D564=\"\",\"\",+入力!D564)","v":""},{"$f":"IF(入力!E564=\"\",\"\",+入力!E564)","v":""},null,{"$f":"IF(入力!G564=\"\",\"\",+入力!G564)","v":""},null,null,null,null,{"$f":"IF(入力!L564=0,\"\",IF(入力!Q564=1,(入力!L564-入力!M564),入力!L564))","v":""},{"$f":"入力!M564","v":0},{"$f":"IF(AND(M564>0,ISNUMBER(L564)=TRUE),IF(ISNUMBER(入力!O564)=FALSE,\"\",INDEX((三万未満code,三万以上code),入力!O564+1,1,IF((L564+M564)<30000,1,2))),0)","v":0}]
[null,null,{"$f":"IF(入力!C565=\"\",\"\",+入力!C565)","v":""}]
[2,null,{"$f":"IF(入力!C566=\"\",\"\",+入力!C566)","v":""},{"$f":"IF(入力!D566=\"\",\"\",+入力!D566)","v":""},{"$f":"IF(入力!E566=\"\",\"\",+入力!E566)","v":""},null,{"$f":"IF(入力!G566=\"\",\"\",+入力!G566)","v":""},null,null,null,null,{"$f":"IF(入力!L566=0,\"\",IF(入力!Q566=1,(入力!L566-入力!M566),入力!L566))","v":""},{"$f":"入力!M566","v":0},{"$f":"IF(AND(M566>0,ISNUMBER(L566)=TRUE),IF(ISNUMBER(入力!O566)=FALSE,\"\",INDEX((三万未満code,三万以上code),入力!O566+1,1,IF((L566+M566)<30000,1,2))),0)","v":0}]
[null,null,{"$f":"IF(入力!C567=\"\",\"\",+入力!C567)","v":""}]
[3,null,{"$f":"IF(入力!C568=\"\",\"\",+入力!C568)","v":""},{"$f":"IF(入力!D568=\"\",\"\",+入力!D568)","v":""},{"$f":"IF(入力!E568=\"\",\"\",+入力!E568)","v":""},null,{"$f":"IF(入力!G568=\"\",\"\",+入力!G568)","v":""},null,null,null,null,{"$f":"IF(入力!L568=0,\"\",IF(入力!Q568=1,(入力!L568-入力!M568),入力!L568))","v":""},{"$f":"入力!M568","v":0},{"$f":"IF(AND(M568>0,ISNUMBER(L568)=TRUE),IF(ISNUMBER(入力!O568)=FALSE,\"\",INDEX((三万未満code,三万以上code),入力!O568+1,1,IF((L568+M568)<30000,1,2))),0)","v":0}]
[null,null,{"$f":"IF(入力!C569=\"\",\"\",+入力!C569)","v":""}]
[4,null,{"$f":"IF(入力!C570=\"\",\"\",+入力!C570)","v":""},{"$f":"IF(入力!D570=\"\",\"\",+入力!D570)","v":""},{"$f":"IF(入力!E570=\"\",\"\",+入力!E570)","v":""},null,{"$f":"IF(入力!G570=\"\",\"\",+入力!G570)","v":""},null,null,null,null,{"$f":"IF(入力!L570=0,\"\",IF(入力!Q570=1,(入力!L570-入力!M570),入力!L570))","v":""},{"$f":"入力!M570","v":0},{"$f":"IF(AND(M570>0,ISNUMBER(L570)=TRUE),IF(ISNUMBER(入力!O570)=FALSE,\"\",INDEX((三万未満code,三万以上code),入力!O570+1,1,IF((L570+M570)<30000,1,2))),0)","v":0}]
[null,null,{"$f":"IF(入力!C571=\"\",\"\",+入力!C571)","v":""}]
[5,null,{"$f":"IF(入力!C572=\"\",\"\",+入力!C572)","v":""},{"$f":"IF(入力!D572=\"\",\"\",+入力!D572)","v":""},{"$f":"IF(入力!E572=\"\",\"\",+入力!E572)","v":""},null,{"$f":"IF(入力!G572=\"\",\"\",+入力!G572)","v":""},null,null,null,null,{"$f":"IF(入力!L572=0,\"\",IF(入力!Q572=1,(入力!L572-入力!M572),入力!L572))","v":""},{"$f":"入力!M572","v":0},{"$f":"IF(AND(M572>0,ISNUMBER(L572)=TRUE),IF(ISNUMBER(入力!O572)=FALSE,\"\",INDEX((三万未満code,三万以上code),入力!O572+1,1,IF((L572+M572)<30000,1,2))),0)","v":0}]
[null,null,{"$f":"IF(入力!C573=\"\",\"\",+入力!C573)","v":""}]
[6,null,{"$f":"IF(入力!C574=\"\",\"\",+入力!C574)","v":""},{"$f":"IF(入力!D574=\"\",\"\",+入力!D574)","v":""},{"$f":"IF(入力!E574=\"\",\"\",+入力!E574)","v":""},null,{"$f":"IF(入力!G574=\"\",\"\",+入力!G574)","v":""},null,null,null,null,{"$f":"IF(入力!L574=0,\"\",IF(入力!Q574=1,(入力!L574-入力!M574),入力!L574))","v":""},{"$f":"入力!M574","v":0},{"$f":"IF(AND(M574>0,ISNUMBER(L574)=TRUE),IF(ISNUMBER(入力!O574)=FALSE,\"\",INDEX((三万未満code,三万以上code),入力!O574+1,1,IF((L574+M574)<30000,1,2))),0)","v":0}]
[null,null,{"$f":"IF(入力!C575=\"\",\"\",+入力!C575)","v":""}]
[7,null,{"$f":"IF(入力!C576=\"\",\"\",+入力!C576)","v":""},{"$f":"IF(入力!D576=\"\",\"\",+入力!D576)","v":""},{"$f":"IF(入力!E576=\"\",\"\",+入力!E576)","v":""},null,{"$f":"IF(入力!G576=\"\",\"\",+入力!G576)","v":""},null,null,null,null,{"$f":"IF(入力!L576=0,\"\",IF(入力!Q576=1,(入力!L576-入力!M576),入力!L576))","v":""},{"$f":"入力!M576","v":0},{"$f":"IF(AND(M576>0,ISNUMBER(L576)=TRUE),IF(ISNUMBER(入力!O576)=FALSE,\"\",INDEX((三万未満code,三万以上code),入力!O576+1,1,IF((L576+M576)<30000,1,2))),0)","v":0}]
[null,null,{"$f":"IF(入力!C577=\"\",\"\",+入力!C577)","v":""}]
[8,null,{"$f":"IF(入力!C578=\"\",\"\",+入力!C578)","v":""},{"$f":"IF(入力!D578=\"\",\"\",+入力!D578)","v":""},{"$f":"IF(入力!E578=\"\",\"\",+入力!E578)","v":""},null,{"$f":"IF(入力!G578=\"\",\"\",+入力!G578)","v":""},null,null,null,null,{"$f":"IF(入力!L578=0,\"\",IF(入力!Q578=1,(入力!L578-入力!M578),入力!L578))","v":""},{"$f":"入力!M578","v":0},{"$f":"IF(AND(M578>0,ISNUMBER(L578)=TRUE),IF(ISNUMBER(入力!O578)=FALSE,\"\",INDEX((三万未満code,三万以上code),入力!O578+1,1,IF((L578+M578)<30000,1,2))),0)","v":0}]
[null,null,{"$f":"IF(入力!C579=\"\",\"\",+入力!C579)","v":""}]
[9,null,{"$f":"IF(入力!C580=\"\",\"\",+入力!C580)","v":""},{"$f":"IF(入力!D580=\"\",\"\",+入力!D580)","v":""},{"$f":"IF(入力!E580=\"\",\"\",+入力!E580)","v":""},null,{"$f":"IF(入力!G580=\"\",\"\",+入力!G580)","v":""},null,null,null,null,{"$f":"IF(入力!L580=0,\"\",IF(入力!Q580=1,(入力!L580-入力!M580),入力!L580))","v":""},{"$f":"入力!M580","v":0},{"$f":"IF(AND(M580>0,ISNUMBER(L580)=TRUE),IF(ISNUMBER(入力!O580)=FALSE,\"\",INDEX((三万未満code,三万以上code),入力!O580+1,1,IF((L580+M580)<30000,1,2))),0)","v":0}]
[null,null,{"$f":"IF(入力!C581=\"\",\"\",+入力!C581)","v":""}]
[10,null,{"$f":"IF(入力!C582=\"\",\"\",+入力!C582)","v":""},{"$f":"IF(入力!D582=\"\",\"\",+入力!D582)","v":""},{"$f":"IF(入力!E582=\"\",\"\",+入力!E582)","v":""},null,{"$f":"IF(入力!G582=\"\",\"\",+入力!G582)","v":""},null,null,null,null,{"$f":"IF(入力!L582=0,\"\",IF(入力!Q582=1,(入力!L582-入力!M582),入力!L582))","v":""},{"$f":"入力!M582","v":0},{"$f":"IF(AND(M582>0,ISNUMBER(L582)=TRUE),IF(ISNUMBER(入力!O582)=FALSE,\"\",INDEX((三万未満code,三万以上code),入力!O582+1,1,IF((L582+M582)<30000,1,2))),0)","v":0}]
[null,null,{"$f":"IF(入力!C583=\"\",\"\",+入力!C583)","v":""}]
[11,null,{"$f":"IF(入力!C584=\"\",\"\",+入力!C584)","v":""},{"$f":"IF(入力!D584=\"\",\"\",+入力!D584)","v":""},{"$f":"IF(入力!E584=\"\",\"\",+入力!E584)","v":""},null,{"$f":"IF(入力!G584=\"\",\"\",+入力!G584)","v":""},null,null,null,null,{"$f":"IF(入力!L584=0,\"\",IF(入力!Q584=1,(入力!L584-入力!M584),入力!L584))","v":""},{"$f":"入力!M584","v":0},{"$f":"IF(AND(M584>0,ISNUMBER(L584)=TRUE),IF(ISNUMBER(入力!O584)=FALSE,\"\",INDEX((三万未満code,三万以上code),入力!O584+1,1,IF((L584+M584)<30000,1,2))),0)","v":0}]
[null,null,{"$f":"IF(入力!C585=\"\",\"\",+入力!C585)","v":""}]
[12,null,{"$f":"IF(入力!C586=\"\",\"\",+入力!C586)","v":""},{"$f":"IF(入力!D586=\"\",\"\",+入力!D586)","v":""},{"$f":"IF(入力!E586=\"\",\"\",+入力!E586)","v":""},null,{"$f":"IF(入力!G586=\"\",\"\",+入力!G586)","v":""},null,null,null,null,{"$f":"IF(入力!L586=0,\"\",IF(入力!Q586=1,(入力!L586-入力!M586),入力!L586))","v":""},{"$f":"入力!M586","v":0},{"$f":"IF(AND(M586>0,ISNUMBER(L586)=TRUE),IF(ISNUMBER(入力!O586)=FALSE,\"\",INDEX((三万未満code,三万以上code),入力!O586+1,1,IF((L586+M586)<30000,1,2))),0)","v":0}]
[null,null,{"$f":"IF(入力!C587=\"\",\"\",+入力!C587)","v":""}]
[13,null,{"$f":"IF(入力!C588=\"\",\"\",+入力!C588)","v":""},{"$f":"IF(入力!D588=\"\",\"\",+入力!D588)","v":""},{"$f":"IF(入力!E588=\"\",\"\",+入力!E588)","v":""},null,{"$f":"IF(入力!G588=\"\",\"\",+入力!G588)","v":""},null,null,null,null,{"$f":"IF(入力!L588=0,\"\",IF(入力!Q588=1,(入力!L588-入力!M588),入力!L588))","v":""},{"$f":"入力!M588","v":0},{"$f":"IF(AND(M588>0,ISNUMBER(L588)=TRUE),IF(ISNUMBER(入力!O588)=FALSE,\"\",INDEX((三万未満code,三万以上code),入力!O588+1,1,IF((L588+M588)<30000,1,2))),0)","v":0}]
[null,null,{"$f":"IF(入力!C589=\"\",\"\",+入力!C589)","v":""}]
[14,null,{"$f":"IF(入力!C590=\"\",\"\",+入力!C590)","v":""},{"$f":"IF(入力!D590=\"\",\"\",+入力!D590)","v":""},{"$f":"IF(入力!E590=\"\",\"\",+入力!E590)","v":""},null,{"$f":"IF(入力!G590=\"\",\"\",+入力!G590)","v":""},null,null,null,null,{"$f":"IF(入力!L590=0,\"\",IF(入力!Q590=1,(入力!L590-入力!M590),入力!L590))","v":""},{"$f":"入力!M590","v":0},{"$f":"IF(AND(M590>0,ISNUMBER(L590)=TRUE),IF(ISNUMBER(入力!O590)=FALSE,\"\",INDEX((三万未満code,三万以上code),入力!O590+1,1,IF((L590+M590)<30000,1,2))),0)","v":0}]
[null,null,{"$f":"IF(入力!C591=\"\",\"\",+入力!C591)","v":""}]
[15,null,{"$f":"IF(入力!C592=\"\",\"\",+入力!C592)","v":""},{"$f":"IF(入力!D592=\"\",\"\",+入力!D592)","v":""},{"$f":"IF(入力!E592=\"\",\"\",+入力!E592)","v":""},null,{"$f":"IF(入力!G592=\"\",\"\",+入力!G592)","v":""},null,null,null,null,{"$f":"IF(入力!L592=0,\"\",IF(入力!Q592=1,(入力!L592-入力!M592),入力!L592))","v":""},{"$f":"入力!M592","v":0},{"$f":"IF(AND(M592>0,ISNUMBER(L592)=TRUE),IF(ISNUMBER(入力!O592)=FALSE,\"\",INDEX((三万未満code,三万以上code),入力!O592+1,1,IF((L592+M592)<30000,1,2))),0)","v":0}]
[null,null,{"$f":"IF(入力!C593=\"\",\"\",+入力!C593)","v":""}]
["科目",null,"　普　 通 　預　 金　","フ",null,null,null,{"$f":"COUNTIF(L564:L593,\">=1\")","v":0},"件","小計",null,{"$f":"SUM(L564:L593)","v":0},{"$f":"SUM(M564:M593)","v":0}]
[null,null,"　当 　座　 預　 金","ト"]
[null,null,"　貯　 蓄　 預　 金","チ",null,null,null,{"$f":"H550+H594","v":0},"件","合計",null,{"$f":"L594+L550","v":0},{"$f":"M594+M550","v":0}]
[null,null,"　　そ　　の　　他","ソ"]
[null,null,null,null,null,null,null,null,null,null,null,null,{"$f":"$M$46","v":2020.01}]
[null,null,{"$f":"C$1","v":2020.01},null,"　　　　　　振 込 依 頼 書",null,null,null,null,null,null,null,{"$f":"入力!M599","v":"ページ 14"}]
[]
[null,null,null,null,null,null,null,null,null,null,"ご依頼日",{"$f":"IF(入力!$L$3=\"\",\"平成　　年　　月　　日\",入力!$L$3)","v":"2020-09-01"}]
[null,null,{"$f":"+入力!$C602","v":"福島銀行"},null,null,null,null,null,null,"お客様番号",null,{"$f":"IF(入力!$L$4=\"\",\"\",入力!$L$4)","v":""}]
[null,{"$f":"IF(入力!$B$5=0,\"\",入力!$B$5)","v":""},null,null,"御中",null,null,null,null,"依頼人名カナ",null,{"$f":"IF(入力!$L$5=\"\",\"\",入力!$L$5)","v":""}]
[null,null,null,null,null,"振込種類",null,null,null,"会社名",null,{"$f":"IF(入力!$L$6=\"\",\"\",入力!$L$6)","v":""}]
[null,null,"振込指定日",null,null,{"$f":"$F$7","v":"1フリコミ"},null,null,null," 担当者名",null,{"$f":"IF(入力!$L$7=\"\",\"\",入力!$L$7)","v":""}]
[null,{"$f":"入力!$B$8","v":"2020-09-01"},null,null,null,null,null,null,null,"電話番号",null,{"$f":"IF(入力!$L$8=\"\",\"\",入力!$L$8)","v":""}]
[]
[null,null,"金 融 機 関 名","科目","口 座 番 号",null,"受　  　　　取 　　 　　人　　　 　　名",null,null,null,null,"　金　　　　　　　額"," 手数料　円"]
[null,null,"支　  　店　　  名","目",null,null,"（　カ　タ　カ　ナ　記　入　）",null,null,null,null,"　　　　　　　　　　円","(消費税含）"]
[1,null,{"$f":"IF(入力!C610=\"\",\"\",+入力!C610)","v":""},{"$f":"IF(入力!D610=\"\",\"\",+入力!D610)","v":""},{"$f":"IF(入力!E610=\"\",\"\",+入力!E610)","v":""},null,{"$f":"IF(入力!G610=\"\",\"\",+入力!G610)","v":""},null,null,null,null,{"$f":"IF(入力!L610=0,\"\",IF(入力!Q610=1,(入力!L610-入力!M610),入力!L610))","v":""},{"$f":"入力!M610","v":0},{"$f":"IF(AND(M610>0,ISNUMBER(L610)=TRUE),IF(ISNUMBER(入力!O610)=FALSE,\"\",INDEX((三万未満code,三万以上code),入力!O610+1,1,IF((L610+M610)<30000,1,2))),0)","v":0}]
[null,null,{"$f":"IF(入力!C611=\"\",\"\",+入力!C611)","v":""}]
[2,null,{"$f":"IF(入力!C612=\"\",\"\",+入力!C612)","v":""},{"$f":"IF(入力!D612=\"\",\"\",+入力!D612)","v":""},{"$f":"IF(入力!E612=\"\",\"\",+入力!E612)","v":""},null,{"$f":"IF(入力!G612=\"\",\"\",+入力!G612)","v":""},null,null,null,null,{"$f":"IF(入力!L612=0,\"\",IF(入力!Q612=1,(入力!L612-入力!M612),入力!L612))","v":""},{"$f":"入力!M612","v":0},{"$f":"IF(AND(M612>0,ISNUMBER(L612)=TRUE),IF(ISNUMBER(入力!O612)=FALSE,\"\",INDEX((三万未満code,三万以上code),入力!O612+1,1,IF((L612+M612)<30000,1,2))),0)","v":0}]
[null,null,{"$f":"IF(入力!C613=\"\",\"\",+入力!C613)","v":""}]
[3,null,{"$f":"IF(入力!C614=\"\",\"\",+入力!C614)","v":""},{"$f":"IF(入力!D614=\"\",\"\",+入力!D614)","v":""},{"$f":"IF(入力!E614=\"\",\"\",+入力!E614)","v":""},null,{"$f":"IF(入力!G614=\"\",\"\",+入力!G614)","v":""},null,null,null,null,{"$f":"IF(入力!L614=0,\"\",IF(入力!Q614=1,(入力!L614-入力!M614),入力!L614))","v":""},{"$f":"入力!M614","v":0},{"$f":"IF(AND(M614>0,ISNUMBER(L614)=TRUE),IF(ISNUMBER(入力!O614)=FALSE,\"\",INDEX((三万未満code,三万以上code),入力!O614+1,1,IF((L614+M614)<30000,1,2))),0)","v":0}]
[null,null,{"$f":"IF(入力!C615=\"\",\"\",+入力!C615)","v":""}]
[4,null,{"$f":"IF(入力!C616=\"\",\"\",+入力!C616)","v":""},{"$f":"IF(入力!D616=\"\",\"\",+入力!D616)","v":""},{"$f":"IF(入力!E616=\"\",\"\",+入力!E616)","v":""},null,{"$f":"IF(入力!G616=\"\",\"\",+入力!G616)","v":""},null,null,null,null,{"$f":"IF(入力!L616=0,\"\",IF(入力!Q616=1,(入力!L616-入力!M616),入力!L616))","v":""},{"$f":"入力!M616","v":0},{"$f":"IF(AND(M616>0,ISNUMBER(L616)=TRUE),IF(ISNUMBER(入力!O616)=FALSE,\"\",INDEX((三万未満code,三万以上code),入力!O616+1,1,IF((L616+M616)<30000,1,2))),0)","v":0}]
[null,null,{"$f":"IF(入力!C617=\"\",\"\",+入力!C617)","v":""}]
[5,null,{"$f":"IF(入力!C618=\"\",\"\",+入力!C618)","v":""},{"$f":"IF(入力!D618=\"\",\"\",+入力!D618)","v":""},{"$f":"IF(入力!E618=\"\",\"\",+入力!E618)","v":""},null,{"$f":"IF(入力!G618=\"\",\"\",+入力!G618)","v":""},null,null,null,null,{"$f":"IF(入力!L618=0,\"\",IF(入力!Q618=1,(入力!L618-入力!M618),入力!L618))","v":""},{"$f":"入力!M618","v":0},{"$f":"IF(AND(M618>0,ISNUMBER(L618)=TRUE),IF(ISNUMBER(入力!O618)=FALSE,\"\",INDEX((三万未満code,三万以上code),入力!O618+1,1,IF((L618+M618)<30000,1,2))),0)","v":0}]
[null,null,{"$f":"IF(入力!C619=\"\",\"\",+入力!C619)","v":""}]
[6,null,{"$f":"IF(入力!C620=\"\",\"\",+入力!C620)","v":""},{"$f":"IF(入力!D620=\"\",\"\",+入力!D620)","v":""},{"$f":"IF(入力!E620=\"\",\"\",+入力!E620)","v":""},null,{"$f":"IF(入力!G620=\"\",\"\",+入力!G620)","v":""},null,null,null,null,{"$f":"IF(入力!L620=0,\"\",IF(入力!Q620=1,(入力!L620-入力!M620),入力!L620))","v":""},{"$f":"入力!M620","v":0},{"$f":"IF(AND(M620>0,ISNUMBER(L620)=TRUE),IF(ISNUMBER(入力!O620)=FALSE,\"\",INDEX((三万未満code,三万以上code),入力!O620+1,1,IF((L620+M620)<30000,1,2))),0)","v":0}]
[null,null,{"$f":"IF(入力!C621=\"\",\"\",+入力!C621)","v":""}]
[7,null,{"$f":"IF(入力!C622=\"\",\"\",+入力!C622)","v":""},{"$f":"IF(入力!D622=\"\",\"\",+入力!D622)","v":""},{"$f":"IF(入力!E622=\"\",\"\",+入力!E622)","v":""},null,{"$f":"IF(入力!G622=\"\",\"\",+入力!G622)","v":""},null,null,null,null,{"$f":"IF(入力!L622=0,\"\",IF(入力!Q622=1,(入力!L622-入力!M622),入力!L622))","v":""},{"$f":"入力!M622","v":0},{"$f":"IF(AND(M622>0,ISNUMBER(L622)=TRUE),IF(ISNUMBER(入力!O622)=FALSE,\"\",INDEX((三万未満code,三万以上code),入力!O622+1,1,IF((L622+M622)<30000,1,2))),0)","v":0}]
[null,null,{"$f":"IF(入力!C623=\"\",\"\",+入力!C623)","v":""}]
[8,null,{"$f":"IF(入力!C624=\"\",\"\",+入力!C624)","v":""},{"$f":"IF(入力!D624=\"\",\"\",+入力!D624)","v":""},{"$f":"IF(入力!E624=\"\",\"\",+入力!E624)","v":""},null,{"$f":"IF(入力!G624=\"\",\"\",+入力!G624)","v":""},null,null,null,null,{"$f":"IF(入力!L624=0,\"\",IF(入力!Q624=1,(入力!L624-入力!M624),入力!L624))","v":""},{"$f":"入力!M624","v":0},{"$f":"IF(AND(M624>0,ISNUMBER(L624)=TRUE),IF(ISNUMBER(入力!O624)=FALSE,\"\",INDEX((三万未満code,三万以上code),入力!O624+1,1,IF((L624+M624)<30000,1,2))),0)","v":0}]
[null,null,{"$f":"IF(入力!C625=\"\",\"\",+入力!C625)","v":""}]
[9,null,{"$f":"IF(入力!C626=\"\",\"\",+入力!C626)","v":""},{"$f":"IF(入力!D626=\"\",\"\",+入力!D626)","v":""},{"$f":"IF(入力!E626=\"\",\"\",+入力!E626)","v":""},null,{"$f":"IF(入力!G626=\"\",\"\",+入力!G626)","v":""},null,null,null,null,{"$f":"IF(入力!L626=0,\"\",IF(入力!Q626=1,(入力!L626-入力!M626),入力!L626))","v":""},{"$f":"入力!M626","v":0},{"$f":"IF(AND(M626>0,ISNUMBER(L626)=TRUE),IF(ISNUMBER(入力!O626)=FALSE,\"\",INDEX((三万未満code,三万以上code),入力!O626+1,1,IF((L626+M626)<30000,1,2))),0)","v":0}]
[null,null,{"$f":"IF(入力!C627=\"\",\"\",+入力!C627)","v":""}]
[10,null,{"$f":"IF(入力!C628=\"\",\"\",+入力!C628)","v":""},{"$f":"IF(入力!D628=\"\",\"\",+入力!D628)","v":""},{"$f":"IF(入力!E628=\"\",\"\",+入力!E628)","v":""},null,{"$f":"IF(入力!G628=\"\",\"\",+入力!G628)","v":""},null,null,null,null,{"$f":"IF(入力!L628=0,\"\",IF(入力!Q628=1,(入力!L628-入力!M628),入力!L628))","v":""},{"$f":"入力!M628","v":0},{"$f":"IF(AND(M628>0,ISNUMBER(L628)=TRUE),IF(ISNUMBER(入力!O628)=FALSE,\"\",INDEX((三万未満code,三万以上code),入力!O628+1,1,IF((L628+M628)<30000,1,2))),0)","v":0}]
[null,null,{"$f":"IF(入力!C629=\"\",\"\",+入力!C629)","v":""}]
[11,null,{"$f":"IF(入力!C630=\"\",\"\",+入力!C630)","v":""},{"$f":"IF(入力!D630=\"\",\"\",+入力!D630)","v":""},{"$f":"IF(入力!E630=\"\",\"\",+入力!E630)","v":""},null,{"$f":"IF(入力!G630=\"\",\"\",+入力!G630)","v":""},null,null,null,null,{"$f":"IF(入力!L630=0,\"\",IF(入力!Q630=1,(入力!L630-入力!M630),入力!L630))","v":""},{"$f":"入力!M630","v":0},{"$f":"IF(AND(M630>0,ISNUMBER(L630)=TRUE),IF(ISNUMBER(入力!O630)=FALSE,\"\",INDEX((三万未満code,三万以上code),入力!O630+1,1,IF((L630+M630)<30000,1,2))),0)","v":0}]
[null,null,{"$f":"IF(入力!C631=\"\",\"\",+入力!C631)","v":""}]
[12,null,{"$f":"IF(入力!C632=\"\",\"\",+入力!C632)","v":""},{"$f":"IF(入力!D632=\"\",\"\",+入力!D632)","v":""},{"$f":"IF(入力!E632=\"\",\"\",+入力!E632)","v":""},null,{"$f":"IF(入力!G632=\"\",\"\",+入力!G632)","v":""},null,null,null,null,{"$f":"IF(入力!L632=0,\"\",IF(入力!Q632=1,(入力!L632-入力!M632),入力!L632))","v":""},{"$f":"入力!M632","v":0},{"$f":"IF(AND(M632>0,ISNUMBER(L632)=TRUE),IF(ISNUMBER(入力!O632)=FALSE,\"\",INDEX((三万未満code,三万以上code),入力!O632+1,1,IF((L632+M632)<30000,1,2))),0)","v":0}]
[null,null,{"$f":"IF(入力!C633=\"\",\"\",+入力!C633)","v":""}]
[13,null,{"$f":"IF(入力!C634=\"\",\"\",+入力!C634)","v":""},{"$f":"IF(入力!D634=\"\",\"\",+入力!D634)","v":""},{"$f":"IF(入力!E634=\"\",\"\",+入力!E634)","v":""},null,{"$f":"IF(入力!G634=\"\",\"\",+入力!G634)","v":""},null,null,null,null,{"$f":"IF(入力!L634=0,\"\",IF(入力!Q634=1,(入力!L634-入力!M634),入力!L634))","v":""},{"$f":"入力!M634","v":0},{"$f":"IF(AND(M634>0,ISNUMBER(L634)=TRUE),IF(ISNUMBER(入力!O634)=FALSE,\"\",INDEX((三万未満code,三万以上code),入力!O634+1,1,IF((L634+M634)<30000,1,2))),0)","v":0}]
[null,null,{"$f":"IF(入力!C635=\"\",\"\",+入力!C635)","v":""}]
[14,null,{"$f":"IF(入力!C636=\"\",\"\",+入力!C636)","v":""},{"$f":"IF(入力!D636=\"\",\"\",+入力!D636)","v":""},{"$f":"IF(入力!E636=\"\",\"\",+入力!E636)","v":""},null,{"$f":"IF(入力!G636=\"\",\"\",+入力!G636)","v":""},null,null,null,null,{"$f":"IF(入力!L636=0,\"\",IF(入力!Q636=1,(入力!L636-入力!M636),入力!L636))","v":""},{"$f":"入力!M636","v":0},{"$f":"IF(AND(M636>0,ISNUMBER(L636)=TRUE),IF(ISNUMBER(入力!O636)=FALSE,\"\",INDEX((三万未満code,三万以上code),入力!O636+1,1,IF((L636+M636)<30000,1,2))),0)","v":0}]
[null,null,{"$f":"IF(入力!C637=\"\",\"\",+入力!C637)","v":""}]
[15,null,{"$f":"IF(入力!C638=\"\",\"\",+入力!C638)","v":""},{"$f":"IF(入力!D638=\"\",\"\",+入力!D638)","v":""},{"$f":"IF(入力!E638=\"\",\"\",+入力!E638)","v":""},null,{"$f":"IF(入力!G638=\"\",\"\",+入力!G638)","v":""},null,null,null,null,{"$f":"IF(入力!L638=0,\"\",IF(入力!Q638=1,(入力!L638-入力!M638),入力!L638))","v":""},{"$f":"入力!M638","v":0},{"$f":"IF(AND(M638>0,ISNUMBER(L638)=TRUE),IF(ISNUMBER(入力!O638)=FALSE,\"\",INDEX((三万未満code,三万以上code),入力!O638+1,1,IF((L638+M638)<30000,1,2))),0)","v":0}]
[null,null,{"$f":"IF(入力!C639=\"\",\"\",+入力!C639)","v":""}]
["科目",null,"　普　 通 　預　 金　","フ",null,null,null,{"$f":"COUNTIF(L610:L639,\">=1\")","v":0},"件","小計",null,{"$f":"SUM(L610:L639)","v":0},{"$f":"SUM(M610:M639)","v":0}]
[null,null,"　当 　座　 預　 金","ト"]
[null,null,"　貯　 蓄　 預　 金","チ",null,null,null,{"$f":"H596+H640","v":0},"件","合計",null,{"$f":"L640+L596","v":0},{"$f":"M640+M596","v":0}]
[null,null,"　　そ　　の　　他","ソ"]
[null,null,null,null,null,null,null,null,null,null,null,null,{"$f":"$M$46","v":2020.01}]
[null,null,{"$f":"C$1","v":2020.01},null,"　　　　　　振 込 依 頼 書",null,null,null,null,null,null,null,{"$f":"入力!M645","v":"ページ 15"}]
[]
[null,null,null,null,null,null,null,null,null,null,"ご依頼日",{"$f":"IF(入力!$L$3=\"\",\"平成　　年　　月　　日\",入力!$L$3)","v":"2020-09-01"}]
[null,null,{"$f":"+入力!$C648","v":"福島銀行"},null,null,null,null,null,null,"お客様番号",null,{"$f":"IF(入力!$L$4=\"\",\"\",入力!$L$4)","v":""}]
[null,{"$f":"IF(入力!$B$5=0,\"\",入力!$B$5)","v":""},null,null,"御中",null,null,null,null,"依頼人名カナ",null,{"$f":"IF(入力!$L$5=\"\",\"\",入力!$L$5)","v":""}]
[null,null,null,null,null,"振込種類",null,null,null,"会社名",null,{"$f":"IF(入力!$L$6=\"\",\"\",入力!$L$6)","v":""}]
[null,null,"振込指定日",null,null,{"$f":"$F$7","v":"1フリコミ"},null,null,null," 担当者名",null,{"$f":"IF(入力!$L$7=\"\",\"\",入力!$L$7)","v":""}]
[null,{"$f":"入力!$B$8","v":"2020-09-01"},null,null,null,null,null,null,null,"電話番号",null,{"$f":"IF(入力!$L$8=\"\",\"\",入力!$L$8)","v":""}]
[]
[null,null,"金 融 機 関 名","科目","口 座 番 号",null,"受　  　　　取 　　 　　人　　　 　　名",null,null,null,null,"　金　　　　　　　額"," 手数料　円"]
[null,null,"支　  　店　　  名","目",null,null,"（　カ　タ　カ　ナ　記　入　）",null,null,null,null,"　　　　　　　　　　円","(消費税含）"]
[1,null,{"$f":"IF(入力!C656=\"\",\"\",+入力!C656)","v":""},{"$f":"IF(入力!D656=\"\",\"\",+入力!D656)","v":""},{"$f":"IF(入力!E656=\"\",\"\",+入力!E656)","v":""},null,{"$f":"IF(入力!G656=\"\",\"\",+入力!G656)","v":""},null,null,null,null,{"$f":"IF(入力!L656=0,\"\",IF(入力!Q656=1,(入力!L656-入力!M656),入力!L656))","v":""},{"$f":"入力!M656","v":0},{"$f":"IF(AND(M656>0,ISNUMBER(L656)=TRUE),IF(ISNUMBER(入力!O656)=FALSE,\"\",INDEX((三万未満code,三万以上code),入力!O656+1,1,IF((L656+M656)<30000,1,2))),0)","v":0}]
[null,null,{"$f":"IF(入力!C657=\"\",\"\",+入力!C657)","v":""}]
[2,null,{"$f":"IF(入力!C658=\"\",\"\",+入力!C658)","v":""},{"$f":"IF(入力!D658=\"\",\"\",+入力!D658)","v":""},{"$f":"IF(入力!E658=\"\",\"\",+入力!E658)","v":""},null,{"$f":"IF(入力!G658=\"\",\"\",+入力!G658)","v":""},null,null,null,null,{"$f":"IF(入力!L658=0,\"\",IF(入力!Q658=1,(入力!L658-入力!M658),入力!L658))","v":""},{"$f":"入力!M658","v":0},{"$f":"IF(AND(M658>0,ISNUMBER(L658)=TRUE),IF(ISNUMBER(入力!O658)=FALSE,\"\",INDEX((三万未満code,三万以上code),入力!O658+1,1,IF((L658+M658)<30000,1,2))),0)","v":0}]
[null,null,{"$f":"IF(入力!C659=\"\",\"\",+入力!C659)","v":""}]
[3,null,{"$f":"IF(入力!C660=\"\",\"\",+入力!C660)","v":""},{"$f":"IF(入力!D660=\"\",\"\",+入力!D660)","v":""},{"$f":"IF(入力!E660=\"\",\"\",+入力!E660)","v":""},null,{"$f":"IF(入力!G660=\"\",\"\",+入力!G660)","v":""},null,null,null,null,{"$f":"IF(入力!L660=0,\"\",IF(入力!Q660=1,(入力!L660-入力!M660),入力!L660))","v":""},{"$f":"入力!M660","v":0},{"$f":"IF(AND(M660>0,ISNUMBER(L660)=TRUE),IF(ISNUMBER(入力!O660)=FALSE,\"\",INDEX((三万未満code,三万以上code),入力!O660+1,1,IF((L660+M660)<30000,1,2))),0)","v":0}]
[null,null,{"$f":"IF(入力!C661=\"\",\"\",+入力!C661)","v":""}]
[4,null,{"$f":"IF(入力!C662=\"\",\"\",+入力!C662)","v":""},{"$f":"IF(入力!D662=\"\",\"\",+入力!D662)","v":""},{"$f":"IF(入力!E662=\"\",\"\",+入力!E662)","v":""},null,{"$f":"IF(入力!G662=\"\",\"\",+入力!G662)","v":""},null,null,null,null,{"$f":"IF(入力!L662=0,\"\",IF(入力!Q662=1,(入力!L662-入力!M662),入力!L662))","v":""},{"$f":"入力!M662","v":0},{"$f":"IF(AND(M662>0,ISNUMBER(L662)=TRUE),IF(ISNUMBER(入力!O662)=FALSE,\"\",INDEX((三万未満code,三万以上code),入力!O662+1,1,IF((L662+M662)<30000,1,2))),0)","v":0}]
[null,null,{"$f":"IF(入力!C663=\"\",\"\",+入力!C663)","v":""}]
[5,null,{"$f":"IF(入力!C664=\"\",\"\",+入力!C664)","v":""},{"$f":"IF(入力!D664=\"\",\"\",+入力!D664)","v":""},{"$f":"IF(入力!E664=\"\",\"\",+入力!E664)","v":""},null,{"$f":"IF(入力!G664=\"\",\"\",+入力!G664)","v":""},null,null,null,null,{"$f":"IF(入力!L664=0,\"\",IF(入力!Q664=1,(入力!L664-入力!M664),入力!L664))","v":""},{"$f":"入力!M664","v":0},{"$f":"IF(AND(M664>0,ISNUMBER(L664)=TRUE),IF(ISNUMBER(入力!O664)=FALSE,\"\",INDEX((三万未満code,三万以上code),入力!O664+1,1,IF((L664+M664)<30000,1,2))),0)","v":0}]
[null,null,{"$f":"IF(入力!C665=\"\",\"\",+入力!C665)","v":""}]
[6,null,{"$f":"IF(入力!C666=\"\",\"\",+入力!C666)","v":""},{"$f":"IF(入力!D666=\"\",\"\",+入力!D666)","v":""},{"$f":"IF(入力!E666=\"\",\"\",+入力!E666)","v":""},null,{"$f":"IF(入力!G666=\"\",\"\",+入力!G666)","v":""},null,null,null,null,{"$f":"IF(入力!L666=0,\"\",IF(入力!Q666=1,(入力!L666-入力!M666),入力!L666))","v":""},{"$f":"入力!M666","v":0},{"$f":"IF(AND(M666>0,ISNUMBER(L666)=TRUE),IF(ISNUMBER(入力!O666)=FALSE,\"\",INDEX((三万未満code,三万以上code),入力!O666+1,1,IF((L666+M666)<30000,1,2))),0)","v":0}]
[null,null,{"$f":"IF(入力!C667=\"\",\"\",+入力!C667)","v":""}]
[7,null,{"$f":"IF(入力!C668=\"\",\"\",+入力!C668)","v":""},{"$f":"IF(入力!D668=\"\",\"\",+入力!D668)","v":""},{"$f":"IF(入力!E668=\"\",\"\",+入力!E668)","v":""},null,{"$f":"IF(入力!G668=\"\",\"\",+入力!G668)","v":""},null,null,null,null,{"$f":"IF(入力!L668=0,\"\",IF(入力!Q668=1,(入力!L668-入力!M668),入力!L668))","v":""},{"$f":"入力!M668","v":0},{"$f":"IF(AND(M668>0,ISNUMBER(L668)=TRUE),IF(ISNUMBER(入力!O668)=FALSE,\"\",INDEX((三万未満code,三万以上code),入力!O668+1,1,IF((L668+M668)<30000,1,2))),0)","v":0}]
[null,null,{"$f":"IF(入力!C669=\"\",\"\",+入力!C669)","v":""}]
[8,null,{"$f":"IF(入力!C670=\"\",\"\",+入力!C670)","v":""},{"$f":"IF(入力!D670=\"\",\"\",+入力!D670)","v":""},{"$f":"IF(入力!E670=\"\",\"\",+入力!E670)","v":""},null,{"$f":"IF(入力!G670=\"\",\"\",+入力!G670)","v":""},null,null,null,null,{"$f":"IF(入力!L670=0,\"\",IF(入力!Q670=1,(入力!L670-入力!M670),入力!L670))","v":""},{"$f":"入力!M670","v":0},{"$f":"IF(AND(M670>0,ISNUMBER(L670)=TRUE),IF(ISNUMBER(入力!O670)=FALSE,\"\",INDEX((三万未満code,三万以上code),入力!O670+1,1,IF((L670+M670)<30000,1,2))),0)","v":0}]
[null,null,{"$f":"IF(入力!C671=\"\",\"\",+入力!C671)","v":""}]
[9,null,{"$f":"IF(入力!C672=\"\",\"\",+入力!C672)","v":""},{"$f":"IF(入力!D672=\"\",\"\",+入力!D672)","v":""},{"$f":"IF(入力!E672=\"\",\"\",+入力!E672)","v":""},null,{"$f":"IF(入力!G672=\"\",\"\",+入力!G672)","v":""},null,null,null,null,{"$f":"IF(入力!L672=0,\"\",IF(入力!Q672=1,(入力!L672-入力!M672),入力!L672))","v":""},{"$f":"入力!M672","v":0},{"$f":"IF(AND(M672>0,ISNUMBER(L672)=TRUE),IF(ISNUMBER(入力!O672)=FALSE,\"\",INDEX((三万未満code,三万以上code),入力!O672+1,1,IF((L672+M672)<30000,1,2))),0)","v":0}]
[null,null,{"$f":"IF(入力!C673=\"\",\"\",+入力!C673)","v":""}]
[10,null,{"$f":"IF(入力!C674=\"\",\"\",+入力!C674)","v":""},{"$f":"IF(入力!D674=\"\",\"\",+入力!D674)","v":""},{"$f":"IF(入力!E674=\"\",\"\",+入力!E674)","v":""},null,{"$f":"IF(入力!G674=\"\",\"\",+入力!G674)","v":""},null,null,null,null,{"$f":"IF(入力!L674=0,\"\",IF(入力!Q674=1,(入力!L674-入力!M674),入力!L674))","v":""},{"$f":"入力!M674","v":0},{"$f":"IF(AND(M674>0,ISNUMBER(L674)=TRUE),IF(ISNUMBER(入力!O674)=FALSE,\"\",INDEX((三万未満code,三万以上code),入力!O674+1,1,IF((L674+M674)<30000,1,2))),0)","v":0}]
[null,null,{"$f":"IF(入力!C675=\"\",\"\",+入力!C675)","v":""}]
[11,null,{"$f":"IF(入力!C676=\"\",\"\",+入力!C676)","v":""},{"$f":"IF(入力!D676=\"\",\"\",+入力!D676)","v":""},{"$f":"IF(入力!E676=\"\",\"\",+入力!E676)","v":""},null,{"$f":"IF(入力!G676=\"\",\"\",+入力!G676)","v":""},null,null,null,null,{"$f":"IF(入力!L676=0,\"\",IF(入力!Q676=1,(入力!L676-入力!M676),入力!L676))","v":""},{"$f":"入力!M676","v":0},{"$f":"IF(AND(M676>0,ISNUMBER(L676)=TRUE),IF(ISNUMBER(入力!O676)=FALSE,\"\",INDEX((三万未満code,三万以上code),入力!O676+1,1,IF((L676+M676)<30000,1,2))),0)","v":0}]
[null,null,{"$f":"IF(入力!C677=\"\",\"\",+入力!C677)","v":""}]
[12,null,{"$f":"IF(入力!C678=\"\",\"\",+入力!C678)","v":""},{"$f":"IF(入力!D678=\"\",\"\",+入力!D678)","v":""},{"$f":"IF(入力!E678=\"\",\"\",+入力!E678)","v":""},null,{"$f":"IF(入力!G678=\"\",\"\",+入力!G678)","v":""},null,null,null,null,{"$f":"IF(入力!L678=0,\"\",IF(入力!Q678=1,(入力!L678-入力!M678),入力!L678))","v":""},{"$f":"入力!M678","v":0},{"$f":"IF(AND(M678>0,ISNUMBER(L678)=TRUE),IF(ISNUMBER(入力!O678)=FALSE,\"\",INDEX((三万未満code,三万以上code),入力!O678+1,1,IF((L678+M678)<30000,1,2))),0)","v":0}]
[null,null,{"$f":"IF(入力!C679=\"\",\"\",+入力!C679)","v":""}]
[13,null,{"$f":"IF(入力!C680=\"\",\"\",+入力!C680)","v":""},{"$f":"IF(入力!D680=\"\",\"\",+入力!D680)","v":""},{"$f":"IF(入力!E680=\"\",\"\",+入力!E680)","v":""},null,{"$f":"IF(入力!G680=\"\",\"\",+入力!G680)","v":""},null,null,null,null,{"$f":"IF(入力!L680=0,\"\",IF(入力!Q680=1,(入力!L680-入力!M680),入力!L680))","v":""},{"$f":"入力!M680","v":0},{"$f":"IF(AND(M680>0,ISNUMBER(L680)=TRUE),IF(ISNUMBER(入力!O680)=FALSE,\"\",INDEX((三万未満code,三万以上code),入力!O680+1,1,IF((L680+M680)<30000,1,2))),0)","v":0}]
[null,null,{"$f":"IF(入力!C681=\"\",\"\",+入力!C681)","v":""}]
[14,null,{"$f":"IF(入力!C682=\"\",\"\",+入力!C682)","v":""},{"$f":"IF(入力!D682=\"\",\"\",+入力!D682)","v":""},{"$f":"IF(入力!E682=\"\",\"\",+入力!E682)","v":""},null,{"$f":"IF(入力!G682=\"\",\"\",+入力!G682)","v":""},null,null,null,null,{"$f":"IF(入力!L682=0,\"\",IF(入力!Q682=1,(入力!L682-入力!M682),入力!L682))","v":""},{"$f":"入力!M682","v":0},{"$f":"IF(AND(M682>0,ISNUMBER(L682)=TRUE),IF(ISNUMBER(入力!O682)=FALSE,\"\",INDEX((三万未満code,三万以上code),入力!O682+1,1,IF((L682+M682)<30000,1,2))),0)","v":0}]
[null,null,{"$f":"IF(入力!C683=\"\",\"\",+入力!C683)","v":""}]
[15,null,{"$f":"IF(入力!C684=\"\",\"\",+入力!C684)","v":""},{"$f":"IF(入力!D684=\"\",\"\",+入力!D684)","v":""},{"$f":"IF(入力!E684=\"\",\"\",+入力!E684)","v":""},null,{"$f":"IF(入力!G684=\"\",\"\",+入力!G684)","v":""},null,null,null,null,{"$f":"IF(入力!L684=0,\"\",IF(入力!Q684=1,(入力!L684-入力!M684),入力!L684))","v":""},{"$f":"入力!M684","v":0},{"$f":"IF(AND(M684>0,ISNUMBER(L684)=TRUE),IF(ISNUMBER(入力!O684)=FALSE,\"\",INDEX((三万未満code,三万以上code),入力!O684+1,1,IF((L684+M684)<30000,1,2))),0)","v":0}]
[null,null,{"$f":"IF(入力!C685=\"\",\"\",+入力!C685)","v":""}]
["科目",null,"　普　 通 　預　 金　","フ",null,null,null,{"$f":"COUNTIF(L656:L685,\">=1\")","v":0},"件","小計",null,{"$f":"SUM(L656:L685)","v":0},{"$f":"SUM(M656:M685)","v":0}]
[null,null,"　当 　座　 預　 金","ト"]
[null,null,"　貯　 蓄　 預　 金","チ",null,null,null,{"$f":"H642+H686","v":0},"件","合計",null,{"$f":"L686+L642","v":0},{"$f":"M686+M642","v":0}]
[null,null,"　　そ　　の　　他","ソ"]
[null,null,null,null,null,null,null,null,null,null,null,null,{"$f":"$M$46","v":2020.01}]
[null,null,{"$f":"C$1","v":2020.01},null,"　　　　　　振 込 依 頼 書",null,null,null,null,null,null,null,{"$f":"入力!M691","v":"ページ 16"}]
[]
[null,null,null,null,null,null,null,null,null,null,"ご依頼日",{"$f":"IF(入力!$L$3=\"\",\"平成　　年　　月　　日\",入力!$L$3)","v":"2020-09-01"}]
[null,null,{"$f":"+入力!$C694","v":"福島銀行"},null,null,null,null,null,null,"お客様番号",null,{"$f":"IF(入力!$L$4=\"\",\"\",入力!$L$4)","v":""}]
[null,{"$f":"IF(入力!$B$5=0,\"\",入力!$B$5)","v":""},null,null,"御中",null,null,null,null,"依頼人名カナ",null,{"$f":"IF(入力!$L$5=\"\",\"\",入力!$L$5)","v":""}]
[null,null,null,null,null,"振込種類",null,null,null,"会社名",null,{"$f":"IF(入力!$L$6=\"\",\"\",入力!$L$6)","v":""}]
[null,null,"振込指定日",null,null,{"$f":"$F$7","v":"1フリコミ"},null,null,null," 担当者名",null,{"$f":"IF(入力!$L$7=\"\",\"\",入力!$L$7)","v":""}]
[null,{"$f":"入力!$B$8","v":"2020-09-01"},null,null,null,null,null,null,null,"電話番号",null,{"$f":"IF(入力!$L$8=\"\",\"\",入力!$L$8)","v":""}]
[]
[null,null,"金 融 機 関 名","科目","口 座 番 号",null,"受　  　　　取 　　 　　人　　　 　　名",null,null,null,null,"　金　　　　　　　額"," 手数料　円"]
[null,null,"支　  　店　　  名","目",null,null,"（　カ　タ　カ　ナ　記　入　）",null,null,null,null,"　　　　　　　　　　円","(消費税含）"]
[1,null,{"$f":"IF(入力!C702=\"\",\"\",+入力!C702)","v":""},{"$f":"IF(入力!D702=\"\",\"\",+入力!D702)","v":""},{"$f":"IF(入力!E702=\"\",\"\",+入力!E702)","v":""},null,{"$f":"IF(入力!G702=\"\",\"\",+入力!G702)","v":""},null,null,null,null,{"$f":"IF(入力!L702=0,\"\",IF(入力!Q702=1,(入力!L702-入力!M702),入力!L702))","v":""},{"$f":"入力!M702","v":0},{"$f":"IF(AND(M702>0,ISNUMBER(L702)=TRUE),IF(ISNUMBER(入力!O702)=FALSE,\"\",INDEX((三万未満code,三万以上code),入力!O702+1,1,IF((L702+M702)<30000,1,2))),0)","v":0}]
[null,null,{"$f":"IF(入力!C703=\"\",\"\",+入力!C703)","v":""}]
[2,null,{"$f":"IF(入力!C704=\"\",\"\",+入力!C704)","v":""},{"$f":"IF(入力!D704=\"\",\"\",+入力!D704)","v":""},{"$f":"IF(入力!E704=\"\",\"\",+入力!E704)","v":""},null,{"$f":"IF(入力!G704=\"\",\"\",+入力!G704)","v":""},null,null,null,null,{"$f":"IF(入力!L704=0,\"\",IF(入力!Q704=1,(入力!L704-入力!M704),入力!L704))","v":""},{"$f":"入力!M704","v":0},{"$f":"IF(AND(M704>0,ISNUMBER(L704)=TRUE),IF(ISNUMBER(入力!O704)=FALSE,\"\",INDEX((三万未満code,三万以上code),入力!O704+1,1,IF((L704+M704)<30000,1,2))),0)","v":0}]
[null,null,{"$f":"IF(入力!C705=\"\",\"\",+入力!C705)","v":""}]
[3,null,{"$f":"IF(入力!C706=\"\",\"\",+入力!C706)","v":""},{"$f":"IF(入力!D706=\"\",\"\",+入力!D706)","v":""},{"$f":"IF(入力!E706=\"\",\"\",+入力!E706)","v":""},null,{"$f":"IF(入力!G706=\"\",\"\",+入力!G706)","v":""},null,null,null,null,{"$f":"IF(入力!L706=0,\"\",IF(入力!Q706=1,(入力!L706-入力!M706),入力!L706))","v":""},{"$f":"入力!M706","v":0},{"$f":"IF(AND(M706>0,ISNUMBER(L706)=TRUE),IF(ISNUMBER(入力!O706)=FALSE,\"\",INDEX((三万未満code,三万以上code),入力!O706+1,1,IF((L706+M706)<30000,1,2))),0)","v":0}]
[null,null,{"$f":"IF(入力!C707=\"\",\"\",+入力!C707)","v":""}]
[4,null,{"$f":"IF(入力!C708=\"\",\"\",+入力!C708)","v":""},{"$f":"IF(入力!D708=\"\",\"\",+入力!D708)","v":""},{"$f":"IF(入力!E708=\"\",\"\",+入力!E708)","v":""},null,{"$f":"IF(入力!G708=\"\",\"\",+入力!G708)","v":""},null,null,null,null,{"$f":"IF(入力!L708=0,\"\",IF(入力!Q708=1,(入力!L708-入力!M708),入力!L708))","v":""},{"$f":"入力!M708","v":0},{"$f":"IF(AND(M708>0,ISNUMBER(L708)=TRUE),IF(ISNUMBER(入力!O708)=FALSE,\"\",INDEX((三万未満code,三万以上code),入力!O708+1,1,IF((L708+M708)<30000,1,2))),0)","v":0}]
[null,null,{"$f":"IF(入力!C709=\"\",\"\",+入力!C709)","v":""}]
[5,null,{"$f":"IF(入力!C710=\"\",\"\",+入力!C710)","v":""},{"$f":"IF(入力!D710=\"\",\"\",+入力!D710)","v":""},{"$f":"IF(入力!E710=\"\",\"\",+入力!E710)","v":""},null,{"$f":"IF(入力!G710=\"\",\"\",+入力!G710)","v":""},null,null,null,null,{"$f":"IF(入力!L710=0,\"\",IF(入力!Q710=1,(入力!L710-入力!M710),入力!L710))","v":""},{"$f":"入力!M710","v":0},{"$f":"IF(AND(M710>0,ISNUMBER(L710)=TRUE),IF(ISNUMBER(入力!O710)=FALSE,\"\",INDEX((三万未満code,三万以上code),入力!O710+1,1,IF((L710+M710)<30000,1,2))),0)","v":0}]
[null,null,{"$f":"IF(入力!C711=\"\",\"\",+入力!C711)","v":""}]
[6,null,{"$f":"IF(入力!C712=\"\",\"\",+入力!C712)","v":""},{"$f":"IF(入力!D712=\"\",\"\",+入力!D712)","v":""},{"$f":"IF(入力!E712=\"\",\"\",+入力!E712)","v":""},null,{"$f":"IF(入力!G712=\"\",\"\",+入力!G712)","v":""},null,null,null,null,{"$f":"IF(入力!L712=0,\"\",IF(入力!Q712=1,(入力!L712-入力!M712),入力!L712))","v":""},{"$f":"入力!M712","v":0},{"$f":"IF(AND(M712>0,ISNUMBER(L712)=TRUE),IF(ISNUMBER(入力!O712)=FALSE,\"\",INDEX((三万未満code,三万以上code),入力!O712+1,1,IF((L712+M712)<30000,1,2))),0)","v":0}]
[null,null,{"$f":"IF(入力!C713=\"\",\"\",+入力!C713)","v":""}]
[7,null,{"$f":"IF(入力!C714=\"\",\"\",+入力!C714)","v":""},{"$f":"IF(入力!D714=\"\",\"\",+入力!D714)","v":""},{"$f":"IF(入力!E714=\"\",\"\",+入力!E714)","v":""},null,{"$f":"IF(入力!G714=\"\",\"\",+入力!G714)","v":""},null,null,null,null,{"$f":"IF(入力!L714=0,\"\",IF(入力!Q714=1,(入力!L714-入力!M714),入力!L714))","v":""},{"$f":"入力!M714","v":0},{"$f":"IF(AND(M714>0,ISNUMBER(L714)=TRUE),IF(ISNUMBER(入力!O714)=FALSE,\"\",INDEX((三万未満code,三万以上code),入力!O714+1,1,IF((L714+M714)<30000,1,2))),0)","v":0}]
[null,null,{"$f":"IF(入力!C715=\"\",\"\",+入力!C715)","v":""}]
[8,null,{"$f":"IF(入力!C716=\"\",\"\",+入力!C716)","v":""},{"$f":"IF(入力!D716=\"\",\"\",+入力!D716)","v":""},{"$f":"IF(入力!E716=\"\",\"\",+入力!E716)","v":""},null,{"$f":"IF(入力!G716=\"\",\"\",+入力!G716)","v":""},null,null,null,null,{"$f":"IF(入力!L716=0,\"\",IF(入力!Q716=1,(入力!L716-入力!M716),入力!L716))","v":""},{"$f":"入力!M716","v":0},{"$f":"IF(AND(M716>0,ISNUMBER(L716)=TRUE),IF(ISNUMBER(入力!O716)=FALSE,\"\",INDEX((三万未満code,三万以上code),入力!O716+1,1,IF((L716+M716)<30000,1,2))),0)","v":0}]
[null,null,{"$f":"IF(入力!C717=\"\",\"\",+入力!C717)","v":""}]
[9,null,{"$f":"IF(入力!C718=\"\",\"\",+入力!C718)","v":""},{"$f":"IF(入力!D718=\"\",\"\",+入力!D718)","v":""},{"$f":"IF(入力!E718=\"\",\"\",+入力!E718)","v":""},null,{"$f":"IF(入力!G718=\"\",\"\",+入力!G718)","v":""},null,null,null,null,{"$f":"IF(入力!L718=0,\"\",IF(入力!Q718=1,(入力!L718-入力!M718),入力!L718))","v":""},{"$f":"入力!M718","v":0},{"$f":"IF(AND(M718>0,ISNUMBER(L718)=TRUE),IF(ISNUMBER(入力!O718)=FALSE,\"\",INDEX((三万未満code,三万以上code),入力!O718+1,1,IF((L718+M718)<30000,1,2))),0)","v":0}]
[null,null,{"$f":"IF(入力!C719=\"\",\"\",+入力!C719)","v":""}]
[10,null,{"$f":"IF(入力!C720=\"\",\"\",+入力!C720)","v":""},{"$f":"IF(入力!D720=\"\",\"\",+入力!D720)","v":""},{"$f":"IF(入力!E720=\"\",\"\",+入力!E720)","v":""},null,{"$f":"IF(入力!G720=\"\",\"\",+入力!G720)","v":""},null,null,null,null,{"$f":"IF(入力!L720=0,\"\",IF(入力!Q720=1,(入力!L720-入力!M720),入力!L720))","v":""},{"$f":"入力!M720","v":0},{"$f":"IF(AND(M720>0,ISNUMBER(L720)=TRUE),IF(ISNUMBER(入力!O720)=FALSE,\"\",INDEX((三万未満code,三万以上code),入力!O720+1,1,IF((L720+M720)<30000,1,2))),0)","v":0}]
[null,null,{"$f":"IF(入力!C721=\"\",\"\",+入力!C721)","v":""}]
[11,null,{"$f":"IF(入力!C722=\"\",\"\",+入力!C722)","v":""},{"$f":"IF(入力!D722=\"\",\"\",+入力!D722)","v":""},{"$f":"IF(入力!E722=\"\",\"\",+入力!E722)","v":""},null,{"$f":"IF(入力!G722=\"\",\"\",+入力!G722)","v":""},null,null,null,null,{"$f":"IF(入力!L722=0,\"\",IF(入力!Q722=1,(入力!L722-入力!M722),入力!L722))","v":""},{"$f":"入力!M722","v":0},{"$f":"IF(AND(M722>0,ISNUMBER(L722)=TRUE),IF(ISNUMBER(入力!O722)=FALSE,\"\",INDEX((三万未満code,三万以上code),入力!O722+1,1,IF((L722+M722)<30000,1,2))),0)","v":0}]
[null,null,{"$f":"IF(入力!C723=\"\",\"\",+入力!C723)","v":""}]
[12,null,{"$f":"IF(入力!C724=\"\",\"\",+入力!C724)","v":""},{"$f":"IF(入力!D724=\"\",\"\",+入力!D724)","v":""},{"$f":"IF(入力!E724=\"\",\"\",+入力!E724)","v":""},null,{"$f":"IF(入力!G724=\"\",\"\",+入力!G724)","v":""},null,null,null,null,{"$f":"IF(入力!L724=0,\"\",IF(入力!Q724=1,(入力!L724-入力!M724),入力!L724))","v":""},{"$f":"入力!M724","v":0},{"$f":"IF(AND(M724>0,ISNUMBER(L724)=TRUE),IF(ISNUMBER(入力!O724)=FALSE,\"\",INDEX((三万未満code,三万以上code),入力!O724+1,1,IF((L724+M724)<30000,1,2))),0)","v":0}]
[null,null,{"$f":"IF(入力!C725=\"\",\"\",+入力!C725)","v":""}]
[13,null,{"$f":"IF(入力!C726=\"\",\"\",+入力!C726)","v":""},{"$f":"IF(入力!D726=\"\",\"\",+入力!D726)","v":""},{"$f":"IF(入力!E726=\"\",\"\",+入力!E726)","v":""},null,{"$f":"IF(入力!G726=\"\",\"\",+入力!G726)","v":""},null,null,null,null,{"$f":"IF(入力!L726=0,\"\",IF(入力!Q726=1,(入力!L726-入力!M726),入力!L726))","v":""},{"$f":"入力!M726","v":0},{"$f":"IF(AND(M726>0,ISNUMBER(L726)=TRUE),IF(ISNUMBER(入力!O726)=FALSE,\"\",INDEX((三万未満code,三万以上code),入力!O726+1,1,IF((L726+M726)<30000,1,2))),0)","v":0}]
[null,null,{"$f":"IF(入力!C727=\"\",\"\",+入力!C727)","v":""}]
[14,null,{"$f":"IF(入力!C728=\"\",\"\",+入力!C728)","v":""},{"$f":"IF(入力!D728=\"\",\"\",+入力!D728)","v":""},{"$f":"IF(入力!E728=\"\",\"\",+入力!E728)","v":""},null,{"$f":"IF(入力!G728=\"\",\"\",+入力!G728)","v":""},null,null,null,null,{"$f":"IF(入力!L728=0,\"\",IF(入力!Q728=1,(入力!L728-入力!M728),入力!L728))","v":""},{"$f":"入力!M728","v":0},{"$f":"IF(AND(M728>0,ISNUMBER(L728)=TRUE),IF(ISNUMBER(入力!O728)=FALSE,\"\",INDEX((三万未満code,三万以上code),入力!O728+1,1,IF((L728+M728)<30000,1,2))),0)","v":0}]
[null,null,{"$f":"IF(入力!C729=\"\",\"\",+入力!C729)","v":""}]
[15,null,{"$f":"IF(入力!C730=\"\",\"\",+入力!C730)","v":""},{"$f":"IF(入力!D730=\"\",\"\",+入力!D730)","v":""},{"$f":"IF(入力!E730=\"\",\"\",+入力!E730)","v":""},null,{"$f":"IF(入力!G730=\"\",\"\",+入力!G730)","v":""},null,null,null,null,{"$f":"IF(入力!L730=0,\"\",IF(入力!Q730=1,(入力!L730-入力!M730),入力!L730))","v":""},{"$f":"入力!M730","v":0},{"$f":"IF(AND(M730>0,ISNUMBER(L730)=TRUE),IF(ISNUMBER(入力!O730)=FALSE,\"\",INDEX((三万未満code,三万以上code),入力!O730+1,1,IF((L730+M730)<30000,1,2))),0)","v":0}]
[null,null,{"$f":"IF(入力!C731=\"\",\"\",+入力!C731)","v":""}]
["科目",null,"　普　 通 　預　 金　","フ",null,null,null,{"$f":"COUNTIF(L702:L731,\">=1\")","v":0},"件","小計",null,{"$f":"SUM(L702:L731)","v":0},{"$f":"SUM(M702:M731)","v":0}]
[null,null,"　当 　座　 預　 金","ト"]
[null,null,"　貯　 蓄　 預　 金","チ",null,null,null,{"$f":"H688+H732","v":0},"件","合計",null,{"$f":"L732+L688","v":0},{"$f":"M732+M688","v":0}]
[null,null,"　　そ　　の　　他","ソ"]
[null,null,null,null,null,null,null,null,null,null,null,null,{"$f":"$M$46","v":2020.01}]
[null,null,{"$f":"C$1","v":2020.01},null,"　　　　　　振 込 依 頼 書",null,null,null,null,null,null,null,{"$f":"入力!M737","v":"ページ 17"}]
[]
[null,null,null,null,null,null,null,null,null,null,"ご依頼日",{"$f":"IF(入力!$L$3=\"\",\"平成　　年　　月　　日\",入力!$L$3)","v":"2020-09-01"}]
[null,null,{"$f":"+入力!$C740","v":"福島銀行"},null,null,null,null,null,null,"お客様番号",null,{"$f":"IF(入力!$L$4=\"\",\"\",入力!$L$4)","v":""}]
[null,{"$f":"IF(入力!$B$5=0,\"\",入力!$B$5)","v":""},null,null,"御中",null,null,null,null,"依頼人名カナ",null,{"$f":"IF(入力!$L$5=\"\",\"\",入力!$L$5)","v":""}]
[null,null,null,null,null,"振込種類",null,null,null,"会社名",null,{"$f":"IF(入力!$L$6=\"\",\"\",入力!$L$6)","v":""}]
[null,null,"振込指定日",null,null,{"$f":"$F$7","v":"1フリコミ"},null,null,null," 担当者名",null,{"$f":"IF(入力!$L$7=\"\",\"\",入力!$L$7)","v":""}]
[null,{"$f":"入力!$B$8","v":"2020-09-01"},null,null,null,null,null,null,null,"電話番号",null,{"$f":"IF(入力!$L$8=\"\",\"\",入力!$L$8)","v":""}]
[]
[null,null,"金 融 機 関 名","科目","口 座 番 号",null,"受　  　　　取 　　 　　人　　　 　　名",null,null,null,null,"　金　　　　　　　額"," 手数料　円"]
[null,null,"支　  　店　　  名","目",null,null,"（　カ　タ　カ　ナ　記　入　）",null,null,null,null,"　　　　　　　　　　円","(消費税含）"]
[1,null,{"$f":"IF(入力!C748=\"\",\"\",+入力!C748)","v":""},{"$f":"IF(入力!D748=\"\",\"\",+入力!D748)","v":""},{"$f":"IF(入力!E748=\"\",\"\",+入力!E748)","v":""},null,{"$f":"IF(入力!G748=\"\",\"\",+入力!G748)","v":""},null,null,null,null,{"$f":"IF(入力!L748=0,\"\",IF(入力!Q748=1,(入力!L748-入力!M748),入力!L748))","v":""},{"$f":"入力!M748","v":0},{"$f":"IF(AND(M748>0,ISNUMBER(L748)=TRUE),IF(ISNUMBER(入力!O748)=FALSE,\"\",INDEX((三万未満code,三万以上code),入力!O748+1,1,IF((L748+M748)<30000,1,2))),0)","v":0}]
[null,null,{"$f":"IF(入力!C749=\"\",\"\",+入力!C749)","v":""}]
[2,null,{"$f":"IF(入力!C750=\"\",\"\",+入力!C750)","v":""},{"$f":"IF(入力!D750=\"\",\"\",+入力!D750)","v":""},{"$f":"IF(入力!E750=\"\",\"\",+入力!E750)","v":""},null,{"$f":"IF(入力!G750=\"\",\"\",+入力!G750)","v":""},null,null,null,null,{"$f":"IF(入力!L750=0,\"\",IF(入力!Q750=1,(入力!L750-入力!M750),入力!L750))","v":""},{"$f":"入力!M750","v":0},{"$f":"IF(AND(M750>0,ISNUMBER(L750)=TRUE),IF(ISNUMBER(入力!O750)=FALSE,\"\",INDEX((三万未満code,三万以上code),入力!O750+1,1,IF((L750+M750)<30000,1,2))),0)","v":0}]
[null,null,{"$f":"IF(入力!C751=\"\",\"\",+入力!C751)","v":""}]
[3,null,{"$f":"IF(入力!C752=\"\",\"\",+入力!C752)","v":""},{"$f":"IF(入力!D752=\"\",\"\",+入力!D752)","v":""},{"$f":"IF(入力!E752=\"\",\"\",+入力!E752)","v":""},null,{"$f":"IF(入力!G752=\"\",\"\",+入力!G752)","v":""},null,null,null,null,{"$f":"IF(入力!L752=0,\"\",IF(入力!Q752=1,(入力!L752-入力!M752),入力!L752))","v":""},{"$f":"入力!M752","v":0},{"$f":"IF(AND(M752>0,ISNUMBER(L752)=TRUE),IF(ISNUMBER(入力!O752)=FALSE,\"\",INDEX((三万未満code,三万以上code),入力!O752+1,1,IF((L752+M752)<30000,1,2))),0)","v":0}]
[null,null,{"$f":"IF(入力!C753=\"\",\"\",+入力!C753)","v":""}]
[4,null,{"$f":"IF(入力!C754=\"\",\"\",+入力!C754)","v":""},{"$f":"IF(入力!D754=\"\",\"\",+入力!D754)","v":""},{"$f":"IF(入力!E754=\"\",\"\",+入力!E754)","v":""},null,{"$f":"IF(入力!G754=\"\",\"\",+入力!G754)","v":""},null,null,null,null,{"$f":"IF(入力!L754=0,\"\",IF(入力!Q754=1,(入力!L754-入力!M754),入力!L754))","v":""},{"$f":"入力!M754","v":0},{"$f":"IF(AND(M754>0,ISNUMBER(L754)=TRUE),IF(ISNUMBER(入力!O754)=FALSE,\"\",INDEX((三万未満code,三万以上code),入力!O754+1,1,IF((L754+M754)<30000,1,2))),0)","v":0}]
[null,null,{"$f":"IF(入力!C755=\"\",\"\",+入力!C755)","v":""}]
[5,null,{"$f":"IF(入力!C756=\"\",\"\",+入力!C756)","v":""},{"$f":"IF(入力!D756=\"\",\"\",+入力!D756)","v":""},{"$f":"IF(入力!E756=\"\",\"\",+入力!E756)","v":""},null,{"$f":"IF(入力!G756=\"\",\"\",+入力!G756)","v":""},null,null,null,null,{"$f":"IF(入力!L756=0,\"\",IF(入力!Q756=1,(入力!L756-入力!M756),入力!L756))","v":""},{"$f":"入力!M756","v":0},{"$f":"IF(AND(M756>0,ISNUMBER(L756)=TRUE),IF(ISNUMBER(入力!O756)=FALSE,\"\",INDEX((三万未満code,三万以上code),入力!O756+1,1,IF((L756+M756)<30000,1,2))),0)","v":0}]
[null,null,{"$f":"IF(入力!C757=\"\",\"\",+入力!C757)","v":""}]
[6,null,{"$f":"IF(入力!C758=\"\",\"\",+入力!C758)","v":""},{"$f":"IF(入力!D758=\"\",\"\",+入力!D758)","v":""},{"$f":"IF(入力!E758=\"\",\"\",+入力!E758)","v":""},null,{"$f":"IF(入力!G758=\"\",\"\",+入力!G758)","v":""},null,null,null,null,{"$f":"IF(入力!L758=0,\"\",IF(入力!Q758=1,(入力!L758-入力!M758),入力!L758))","v":""},{"$f":"入力!M758","v":0},{"$f":"IF(AND(M758>0,ISNUMBER(L758)=TRUE),IF(ISNUMBER(入力!O758)=FALSE,\"\",INDEX((三万未満code,三万以上code),入力!O758+1,1,IF((L758+M758)<30000,1,2))),0)","v":0}]
[null,null,{"$f":"IF(入力!C759=\"\",\"\",+入力!C759)","v":""}]
[7,null,{"$f":"IF(入力!C760=\"\",\"\",+入力!C760)","v":""},{"$f":"IF(入力!D760=\"\",\"\",+入力!D760)","v":""},{"$f":"IF(入力!E760=\"\",\"\",+入力!E760)","v":""},null,{"$f":"IF(入力!G760=\"\",\"\",+入力!G760)","v":""},null,null,null,null,{"$f":"IF(入力!L760=0,\"\",IF(入力!Q760=1,(入力!L760-入力!M760),入力!L760))","v":""},{"$f":"入力!M760","v":0},{"$f":"IF(AND(M760>0,ISNUMBER(L760)=TRUE),IF(ISNUMBER(入力!O760)=FALSE,\"\",INDEX((三万未満code,三万以上code),入力!O760+1,1,IF((L760+M760)<30000,1,2))),0)","v":0}]
[null,null,{"$f":"IF(入力!C761=\"\",\"\",+入力!C761)","v":""}]
[8,null,{"$f":"IF(入力!C762=\"\",\"\",+入力!C762)","v":""},{"$f":"IF(入力!D762=\"\",\"\",+入力!D762)","v":""},{"$f":"IF(入力!E762=\"\",\"\",+入力!E762)","v":""},null,{"$f":"IF(入力!G762=\"\",\"\",+入力!G762)","v":""},null,null,null,null,{"$f":"IF(入力!L762=0,\"\",IF(入力!Q762=1,(入力!L762-入力!M762),入力!L762))","v":""},{"$f":"入力!M762","v":0},{"$f":"IF(AND(M762>0,ISNUMBER(L762)=TRUE),IF(ISNUMBER(入力!O762)=FALSE,\"\",INDEX((三万未満code,三万以上code),入力!O762+1,1,IF((L762+M762)<30000,1,2))),0)","v":0}]
[null,null,{"$f":"IF(入力!C763=\"\",\"\",+入力!C763)","v":""}]
[9,null,{"$f":"IF(入力!C764=\"\",\"\",+入力!C764)","v":""},{"$f":"IF(入力!D764=\"\",\"\",+入力!D764)","v":""},{"$f":"IF(入力!E764=\"\",\"\",+入力!E764)","v":""},null,{"$f":"IF(入力!G764=\"\",\"\",+入力!G764)","v":""},null,null,null,null,{"$f":"IF(入力!L764=0,\"\",IF(入力!Q764=1,(入力!L764-入力!M764),入力!L764))","v":""},{"$f":"入力!M764","v":0},{"$f":"IF(AND(M764>0,ISNUMBER(L764)=TRUE),IF(ISNUMBER(入力!O764)=FALSE,\"\",INDEX((三万未満code,三万以上code),入力!O764+1,1,IF((L764+M764)<30000,1,2))),0)","v":0}]
[null,null,{"$f":"IF(入力!C765=\"\",\"\",+入力!C765)","v":""}]
[10,null,{"$f":"IF(入力!C766=\"\",\"\",+入力!C766)","v":""},{"$f":"IF(入力!D766=\"\",\"\",+入力!D766)","v":""},{"$f":"IF(入力!E766=\"\",\"\",+入力!E766)","v":""},null,{"$f":"IF(入力!G766=\"\",\"\",+入力!G766)","v":""},null,null,null,null,{"$f":"IF(入力!L766=0,\"\",IF(入力!Q766=1,(入力!L766-入力!M766),入力!L766))","v":""},{"$f":"入力!M766","v":0},{"$f":"IF(AND(M766>0,ISNUMBER(L766)=TRUE),IF(ISNUMBER(入力!O766)=FALSE,\"\",INDEX((三万未満code,三万以上code),入力!O766+1,1,IF((L766+M766)<30000,1,2))),0)","v":0}]
[null,null,{"$f":"IF(入力!C767=\"\",\"\",+入力!C767)","v":""}]
[11,null,{"$f":"IF(入力!C768=\"\",\"\",+入力!C768)","v":""},{"$f":"IF(入力!D768=\"\",\"\",+入力!D768)","v":""},{"$f":"IF(入力!E768=\"\",\"\",+入力!E768)","v":""},null,{"$f":"IF(入力!G768=\"\",\"\",+入力!G768)","v":""},null,null,null,null,{"$f":"IF(入力!L768=0,\"\",IF(入力!Q768=1,(入力!L768-入力!M768),入力!L768))","v":""},{"$f":"入力!M768","v":0},{"$f":"IF(AND(M768>0,ISNUMBER(L768)=TRUE),IF(ISNUMBER(入力!O768)=FALSE,\"\",INDEX((三万未満code,三万以上code),入力!O768+1,1,IF((L768+M768)<30000,1,2))),0)","v":0}]
[null,null,{"$f":"IF(入力!C769=\"\",\"\",+入力!C769)","v":""}]
[12,null,{"$f":"IF(入力!C770=\"\",\"\",+入力!C770)","v":""},{"$f":"IF(入力!D770=\"\",\"\",+入力!D770)","v":""},{"$f":"IF(入力!E770=\"\",\"\",+入力!E770)","v":""},null,{"$f":"IF(入力!G770=\"\",\"\",+入力!G770)","v":""},null,null,null,null,{"$f":"IF(入力!L770=0,\"\",IF(入力!Q770=1,(入力!L770-入力!M770),入力!L770))","v":""},{"$f":"入力!M770","v":0},{"$f":"IF(AND(M770>0,ISNUMBER(L770)=TRUE),IF(ISNUMBER(入力!O770)=FALSE,\"\",INDEX((三万未満code,三万以上code),入力!O770+1,1,IF((L770+M770)<30000,1,2))),0)","v":0}]
[null,null,{"$f":"IF(入力!C771=\"\",\"\",+入力!C771)","v":""}]
[13,null,{"$f":"IF(入力!C772=\"\",\"\",+入力!C772)","v":""},{"$f":"IF(入力!D772=\"\",\"\",+入力!D772)","v":""},{"$f":"IF(入力!E772=\"\",\"\",+入力!E772)","v":""},null,{"$f":"IF(入力!G772=\"\",\"\",+入力!G772)","v":""},null,null,null,null,{"$f":"IF(入力!L772=0,\"\",IF(入力!Q772=1,(入力!L772-入力!M772),入力!L772))","v":""},{"$f":"入力!M772","v":0},{"$f":"IF(AND(M772>0,ISNUMBER(L772)=TRUE),IF(ISNUMBER(入力!O772)=FALSE,\"\",INDEX((三万未満code,三万以上code),入力!O772+1,1,IF((L772+M772)<30000,1,2))),0)","v":0}]
[null,null,{"$f":"IF(入力!C773=\"\",\"\",+入力!C773)","v":""}]
[14,null,{"$f":"IF(入力!C774=\"\",\"\",+入力!C774)","v":""},{"$f":"IF(入力!D774=\"\",\"\",+入力!D774)","v":""},{"$f":"IF(入力!E774=\"\",\"\",+入力!E774)","v":""},null,{"$f":"IF(入力!G774=\"\",\"\",+入力!G774)","v":""},null,null,null,null,{"$f":"IF(入力!L774=0,\"\",IF(入力!Q774=1,(入力!L774-入力!M774),入力!L774))","v":""},{"$f":"入力!M774","v":0},{"$f":"IF(AND(M774>0,ISNUMBER(L774)=TRUE),IF(ISNUMBER(入力!O774)=FALSE,\"\",INDEX((三万未満code,三万以上code),入力!O774+1,1,IF((L774+M774)<30000,1,2))),0)","v":0}]
[null,null,{"$f":"IF(入力!C775=\"\",\"\",+入力!C775)","v":""}]
[15,null,{"$f":"IF(入力!C776=\"\",\"\",+入力!C776)","v":""},{"$f":"IF(入力!D776=\"\",\"\",+入力!D776)","v":""},{"$f":"IF(入力!E776=\"\",\"\",+入力!E776)","v":""},null,{"$f":"IF(入力!G776=\"\",\"\",+入力!G776)","v":""},null,null,null,null,{"$f":"IF(入力!L776=0,\"\",IF(入力!Q776=1,(入力!L776-入力!M776),入力!L776))","v":""},{"$f":"入力!M776","v":0},{"$f":"IF(AND(M776>0,ISNUMBER(L776)=TRUE),IF(ISNUMBER(入力!O776)=FALSE,\"\",INDEX((三万未満code,三万以上code),入力!O776+1,1,IF((L776+M776)<30000,1,2))),0)","v":0}]
[null,null,{"$f":"IF(入力!C777=\"\",\"\",+入力!C777)","v":""}]
["科目",null,"　普　 通 　預　 金　","フ",null,null,null,{"$f":"COUNTIF(L748:L777,\">=1\")","v":0},"件","小計",null,{"$f":"SUM(L748:L777)","v":0},{"$f":"SUM(M748:M777)","v":0}]
[null,null,"　当 　座　 預　 金","ト"]
[null,null,"　貯　 蓄　 預　 金","チ",null,null,null,{"$f":"H734+H778","v":0},"件","合計",null,{"$f":"L778+L734","v":0},{"$f":"M778+M734","v":0}]
[null,null,"　　そ　　の　　他","ソ"]
[null,null,null,null,null,null,null,null,null,null,null,null,{"$f":"$M$46","v":2020.01}]
[null,null,{"$f":"C$1","v":2020.01},null,"　　　　　　振 込 依 頼 書",null,null,null,null,null,null,null,{"$f":"入力!M783","v":"ページ 18"}]
[]
[null,null,null,null,null,null,null,null,null,null,"ご依頼日",{"$f":"IF(入力!$L$3=\"\",\"平成　　年　　月　　日\",入力!$L$3)","v":"2020-09-01"}]
[null,null,{"$f":"+入力!$C786","v":"福島銀行"},null,null,null,null,null,null,"お客様番号",null,{"$f":"IF(入力!$L$4=\"\",\"\",入力!$L$4)","v":""}]
[null,{"$f":"IF(入力!$B$5=0,\"\",入力!$B$5)","v":""},null,null,"御中",null,null,null,null,"依頼人名カナ",null,{"$f":"IF(入力!$L$5=\"\",\"\",入力!$L$5)","v":""}]
[null,null,null,null,null,"振込種類",null,null,null,"会社名",null,{"$f":"IF(入力!$L$6=\"\",\"\",入力!$L$6)","v":""}]
[null,null,"振込指定日",null,null,{"$f":"$F$7","v":"1フリコミ"},null,null,null," 担当者名",null,{"$f":"IF(入力!$L$7=\"\",\"\",入力!$L$7)","v":""}]
[null,{"$f":"入力!$B$8","v":"2020-09-01"},null,null,null,null,null,null,null,"電話番号",null,{"$f":"IF(入力!$L$8=\"\",\"\",入力!$L$8)","v":""}]
[]
[null,null,"金 融 機 関 名","科目","口 座 番 号",null,"受　  　　　取 　　 　　人　　　 　　名",null,null,null,null,"　金　　　　　　　額"," 手数料　円"]
[null,null,"支　  　店　　  名","目",null,null,"（　カ　タ　カ　ナ　記　入　）",null,null,null,null,"　　　　　　　　　　円","(消費税含）"]
[1,null,{"$f":"IF(入力!C794=\"\",\"\",+入力!C794)","v":""},{"$f":"IF(入力!D794=\"\",\"\",+入力!D794)","v":""},{"$f":"IF(入力!E794=\"\",\"\",+入力!E794)","v":""},null,{"$f":"IF(入力!G794=\"\",\"\",+入力!G794)","v":""},null,null,null,null,{"$f":"IF(入力!L794=0,\"\",IF(入力!Q794=1,(入力!L794-入力!M794),入力!L794))","v":""},{"$f":"入力!M794","v":0},{"$f":"IF(AND(M794>0,ISNUMBER(L794)=TRUE),IF(ISNUMBER(入力!O794)=FALSE,\"\",INDEX((三万未満code,三万以上code),入力!O794+1,1,IF((L794+M794)<30000,1,2))),0)","v":0}]
[null,null,{"$f":"IF(入力!C795=\"\",\"\",+入力!C795)","v":""}]
[2,null,{"$f":"IF(入力!C796=\"\",\"\",+入力!C796)","v":""},{"$f":"IF(入力!D796=\"\",\"\",+入力!D796)","v":""},{"$f":"IF(入力!E796=\"\",\"\",+入力!E796)","v":""},null,{"$f":"IF(入力!G796=\"\",\"\",+入力!G796)","v":""},null,null,null,null,{"$f":"IF(入力!L796=0,\"\",IF(入力!Q796=1,(入力!L796-入力!M796),入力!L796))","v":""},{"$f":"入力!M796","v":0},{"$f":"IF(AND(M796>0,ISNUMBER(L796)=TRUE),IF(ISNUMBER(入力!O796)=FALSE,\"\",INDEX((三万未満code,三万以上code),入力!O796+1,1,IF((L796+M796)<30000,1,2))),0)","v":0}]
[null,null,{"$f":"IF(入力!C797=\"\",\"\",+入力!C797)","v":""}]
[3,null,{"$f":"IF(入力!C798=\"\",\"\",+入力!C798)","v":""},{"$f":"IF(入力!D798=\"\",\"\",+入力!D798)","v":""},{"$f":"IF(入力!E798=\"\",\"\",+入力!E798)","v":""},null,{"$f":"IF(入力!G798=\"\",\"\",+入力!G798)","v":""},null,null,null,null,{"$f":"IF(入力!L798=0,\"\",IF(入力!Q798=1,(入力!L798-入力!M798),入力!L798))","v":""},{"$f":"入力!M798","v":0},{"$f":"IF(AND(M798>0,ISNUMBER(L798)=TRUE),IF(ISNUMBER(入力!O798)=FALSE,\"\",INDEX((三万未満code,三万以上code),入力!O798+1,1,IF((L798+M798)<30000,1,2))),0)","v":0}]
[null,null,{"$f":"IF(入力!C799=\"\",\"\",+入力!C799)","v":""}]
[4,null,{"$f":"IF(入力!C800=\"\",\"\",+入力!C800)","v":""},{"$f":"IF(入力!D800=\"\",\"\",+入力!D800)","v":""},{"$f":"IF(入力!E800=\"\",\"\",+入力!E800)","v":""},null,{"$f":"IF(入力!G800=\"\",\"\",+入力!G800)","v":""},null,null,null,null,{"$f":"IF(入力!L800=0,\"\",IF(入力!Q800=1,(入力!L800-入力!M800),入力!L800))","v":""},{"$f":"入力!M800","v":0},{"$f":"IF(AND(M800>0,ISNUMBER(L800)=TRUE),IF(ISNUMBER(入力!O800)=FALSE,\"\",INDEX((三万未満code,三万以上code),入力!O800+1,1,IF((L800+M800)<30000,1,2))),0)","v":0}]
[null,null,{"$f":"IF(入力!C801=\"\",\"\",+入力!C801)","v":""}]
[5,null,{"$f":"IF(入力!C802=\"\",\"\",+入力!C802)","v":""},{"$f":"IF(入力!D802=\"\",\"\",+入力!D802)","v":""},{"$f":"IF(入力!E802=\"\",\"\",+入力!E802)","v":""},null,{"$f":"IF(入力!G802=\"\",\"\",+入力!G802)","v":""},null,null,null,null,{"$f":"IF(入力!L802=0,\"\",IF(入力!Q802=1,(入力!L802-入力!M802),入力!L802))","v":""},{"$f":"入力!M802","v":0},{"$f":"IF(AND(M802>0,ISNUMBER(L802)=TRUE),IF(ISNUMBER(入力!O802)=FALSE,\"\",INDEX((三万未満code,三万以上code),入力!O802+1,1,IF((L802+M802)<30000,1,2))),0)","v":0}]
[null,null,{"$f":"IF(入力!C803=\"\",\"\",+入力!C803)","v":""}]
[6,null,{"$f":"IF(入力!C804=\"\",\"\",+入力!C804)","v":""},{"$f":"IF(入力!D804=\"\",\"\",+入力!D804)","v":""},{"$f":"IF(入力!E804=\"\",\"\",+入力!E804)","v":""},null,{"$f":"IF(入力!G804=\"\",\"\",+入力!G804)","v":""},null,null,null,null,{"$f":"IF(入力!L804=0,\"\",IF(入力!Q804=1,(入力!L804-入力!M804),入力!L804))","v":""},{"$f":"入力!M804","v":0},{"$f":"IF(AND(M804>0,ISNUMBER(L804)=TRUE),IF(ISNUMBER(入力!O804)=FALSE,\"\",INDEX((三万未満code,三万以上code),入力!O804+1,1,IF((L804+M804)<30000,1,2))),0)","v":0}]
[null,null,{"$f":"IF(入力!C805=\"\",\"\",+入力!C805)","v":""}]
[7,null,{"$f":"IF(入力!C806=\"\",\"\",+入力!C806)","v":""},{"$f":"IF(入力!D806=\"\",\"\",+入力!D806)","v":""},{"$f":"IF(入力!E806=\"\",\"\",+入力!E806)","v":""},null,{"$f":"IF(入力!G806=\"\",\"\",+入力!G806)","v":""},null,null,null,null,{"$f":"IF(入力!L806=0,\"\",IF(入力!Q806=1,(入力!L806-入力!M806),入力!L806))","v":""},{"$f":"入力!M806","v":0},{"$f":"IF(AND(M806>0,ISNUMBER(L806)=TRUE),IF(ISNUMBER(入力!O806)=FALSE,\"\",INDEX((三万未満code,三万以上code),入力!O806+1,1,IF((L806+M806)<30000,1,2))),0)","v":0}]
[null,null,{"$f":"IF(入力!C807=\"\",\"\",+入力!C807)","v":""}]
[8,null,{"$f":"IF(入力!C808=\"\",\"\",+入力!C808)","v":""},{"$f":"IF(入力!D808=\"\",\"\",+入力!D808)","v":""},{"$f":"IF(入力!E808=\"\",\"\",+入力!E808)","v":""},null,{"$f":"IF(入力!G808=\"\",\"\",+入力!G808)","v":""},null,null,null,null,{"$f":"IF(入力!L808=0,\"\",IF(入力!Q808=1,(入力!L808-入力!M808),入力!L808))","v":""},{"$f":"入力!M808","v":0},{"$f":"IF(AND(M808>0,ISNUMBER(L808)=TRUE),IF(ISNUMBER(入力!O808)=FALSE,\"\",INDEX((三万未満code,三万以上code),入力!O808+1,1,IF((L808+M808)<30000,1,2))),0)","v":0}]
[null,null,{"$f":"IF(入力!C809=\"\",\"\",+入力!C809)","v":""}]
[9,null,{"$f":"IF(入力!C810=\"\",\"\",+入力!C810)","v":""},{"$f":"IF(入力!D810=\"\",\"\",+入力!D810)","v":""},{"$f":"IF(入力!E810=\"\",\"\",+入力!E810)","v":""},null,{"$f":"IF(入力!G810=\"\",\"\",+入力!G810)","v":""},null,null,null,null,{"$f":"IF(入力!L810=0,\"\",IF(入力!Q810=1,(入力!L810-入力!M810),入力!L810))","v":""},{"$f":"入力!M810","v":0},{"$f":"IF(AND(M810>0,ISNUMBER(L810)=TRUE),IF(ISNUMBER(入力!O810)=FALSE,\"\",INDEX((三万未満code,三万以上code),入力!O810+1,1,IF((L810+M810)<30000,1,2))),0)","v":0}]
[null,null,{"$f":"IF(入力!C811=\"\",\"\",+入力!C811)","v":""}]
[10,null,{"$f":"IF(入力!C812=\"\",\"\",+入力!C812)","v":""},{"$f":"IF(入力!D812=\"\",\"\",+入力!D812)","v":""},{"$f":"IF(入力!E812=\"\",\"\",+入力!E812)","v":""},null,{"$f":"IF(入力!G812=\"\",\"\",+入力!G812)","v":""},null,null,null,null,{"$f":"IF(入力!L812=0,\"\",IF(入力!Q812=1,(入力!L812-入力!M812),入力!L812))","v":""},{"$f":"入力!M812","v":0},{"$f":"IF(AND(M812>0,ISNUMBER(L812)=TRUE),IF(ISNUMBER(入力!O812)=FALSE,\"\",INDEX((三万未満code,三万以上code),入力!O812+1,1,IF((L812+M812)<30000,1,2))),0)","v":0}]
[null,null,{"$f":"IF(入力!C813=\"\",\"\",+入力!C813)","v":""}]
[11,null,{"$f":"IF(入力!C814=\"\",\"\",+入力!C814)","v":""},{"$f":"IF(入力!D814=\"\",\"\",+入力!D814)","v":""},{"$f":"IF(入力!E814=\"\",\"\",+入力!E814)","v":""},null,{"$f":"IF(入力!G814=\"\",\"\",+入力!G814)","v":""},null,null,null,null,{"$f":"IF(入力!L814=0,\"\",IF(入力!Q814=1,(入力!L814-入力!M814),入力!L814))","v":""},{"$f":"入力!M814","v":0},{"$f":"IF(AND(M814>0,ISNUMBER(L814)=TRUE),IF(ISNUMBER(入力!O814)=FALSE,\"\",INDEX((三万未満code,三万以上code),入力!O814+1,1,IF((L814+M814)<30000,1,2))),0)","v":0}]
[null,null,{"$f":"IF(入力!C815=\"\",\"\",+入力!C815)","v":""}]
[12,null,{"$f":"IF(入力!C816=\"\",\"\",+入力!C816)","v":""},{"$f":"IF(入力!D816=\"\",\"\",+入力!D816)","v":""},{"$f":"IF(入力!E816=\"\",\"\",+入力!E816)","v":""},null,{"$f":"IF(入力!G816=\"\",\"\",+入力!G816)","v":""},null,null,null,null,{"$f":"IF(入力!L816=0,\"\",IF(入力!Q816=1,(入力!L816-入力!M816),入力!L816))","v":""},{"$f":"入力!M816","v":0},{"$f":"IF(AND(M816>0,ISNUMBER(L816)=TRUE),IF(ISNUMBER(入力!O816)=FALSE,\"\",INDEX((三万未満code,三万以上code),入力!O816+1,1,IF((L816+M816)<30000,1,2))),0)","v":0}]
[null,null,{"$f":"IF(入力!C817=\"\",\"\",+入力!C817)","v":""}]
[13,null,{"$f":"IF(入力!C818=\"\",\"\",+入力!C818)","v":""},{"$f":"IF(入力!D818=\"\",\"\",+入力!D818)","v":""},{"$f":"IF(入力!E818=\"\",\"\",+入力!E818)","v":""},null,{"$f":"IF(入力!G818=\"\",\"\",+入力!G818)","v":""},null,null,null,null,{"$f":"IF(入力!L818=0,\"\",IF(入力!Q818=1,(入力!L818-入力!M818),入力!L818))","v":""},{"$f":"入力!M818","v":0},{"$f":"IF(AND(M818>0,ISNUMBER(L818)=TRUE),IF(ISNUMBER(入力!O818)=FALSE,\"\",INDEX((三万未満code,三万以上code),入力!O818+1,1,IF((L818+M818)<30000,1,2))),0)","v":0}]
[null,null,{"$f":"IF(入力!C819=\"\",\"\",+入力!C819)","v":""}]
[14,null,{"$f":"IF(入力!C820=\"\",\"\",+入力!C820)","v":""},{"$f":"IF(入力!D820=\"\",\"\",+入力!D820)","v":""},{"$f":"IF(入力!E820=\"\",\"\",+入力!E820)","v":""},null,{"$f":"IF(入力!G820=\"\",\"\",+入力!G820)","v":""},null,null,null,null,{"$f":"IF(入力!L820=0,\"\",IF(入力!Q820=1,(入力!L820-入力!M820),入力!L820))","v":""},{"$f":"入力!M820","v":0},{"$f":"IF(AND(M820>0,ISNUMBER(L820)=TRUE),IF(ISNUMBER(入力!O820)=FALSE,\"\",INDEX((三万未満code,三万以上code),入力!O820+1,1,IF((L820+M820)<30000,1,2))),0)","v":0}]
[null,null,{"$f":"IF(入力!C821=\"\",\"\",+入力!C821)","v":""}]
[15,null,{"$f":"IF(入力!C822=\"\",\"\",+入力!C822)","v":""},{"$f":"IF(入力!D822=\"\",\"\",+入力!D822)","v":""},{"$f":"IF(入力!E822=\"\",\"\",+入力!E822)","v":""},null,{"$f":"IF(入力!G822=\"\",\"\",+入力!G822)","v":""},null,null,null,null,{"$f":"IF(入力!L822=0,\"\",IF(入力!Q822=1,(入力!L822-入力!M822),入力!L822))","v":""},{"$f":"入力!M822","v":0},{"$f":"IF(AND(M822>0,ISNUMBER(L822)=TRUE),IF(ISNUMBER(入力!O822)=FALSE,\"\",INDEX((三万未満code,三万以上code),入力!O822+1,1,IF((L822+M822)<30000,1,2))),0)","v":0}]
[null,null,{"$f":"IF(入力!C823=\"\",\"\",+入力!C823)","v":""}]
["科目",null,"　普　 通 　預　 金　","フ",null,null,null,{"$f":"COUNTIF(L794:L823,\">=1\")","v":0},"件","小計",null,{"$f":"SUM(L794:L823)","v":0},{"$f":"SUM(M794:M823)","v":0}]
[null,null,"　当 　座　 預　 金","ト"]
[null,null,"　貯　 蓄　 預　 金","チ",null,null,null,{"$f":"H780+H824","v":0},"件","合計",null,{"$f":"L824+L780","v":0},{"$f":"M824+M780","v":0}]
[null,null,"　　そ　　の　　他","ソ"]
[null,null,null,null,null,null,null,null,null,null,null,null,{"$f":"$M$46","v":2020.01}]
[null,null,{"$f":"C$1","v":2020.01},null,"　　　　　　振 込 依 頼 書",null,null,null,null,null,null,null,{"$f":"入力!M829","v":"ページ 19"}]
[]
[null,null,null,null,null,null,null,null,null,null,"ご依頼日",{"$f":"IF(入力!$L$3=\"\",\"平成　　年　　月　　日\",入力!$L$3)","v":"2020-09-01"}]
[null,null,{"$f":"+入力!$C832","v":"福島銀行"},null,null,null,null,null,null,"お客様番号",null,{"$f":"IF(入力!$L$4=\"\",\"\",入力!$L$4)","v":""}]
[null,{"$f":"IF(入力!$B$5=0,\"\",入力!$B$5)","v":""},null,null,"御中",null,null,null,null,"依頼人名カナ",null,{"$f":"IF(入力!$L$5=\"\",\"\",入力!$L$5)","v":""}]
[null,null,null,null,null,"振込種類",null,null,null,"会社名",null,{"$f":"IF(入力!$L$6=\"\",\"\",入力!$L$6)","v":""}]
[null,null,"振込指定日",null,null,{"$f":"$F$7","v":"1フリコミ"},null,null,null," 担当者名",null,{"$f":"IF(入力!$L$7=\"\",\"\",入力!$L$7)","v":""}]
[null,{"$f":"入力!$B$8","v":"2020-09-01"},null,null,null,null,null,null,null,"電話番号",null,{"$f":"IF(入力!$L$8=\"\",\"\",入力!$L$8)","v":""}]
[]
[null,null,"金 融 機 関 名","科目","口 座 番 号",null,"受　  　　　取 　　 　　人　　　 　　名",null,null,null,null,"　金　　　　　　　額"," 手数料　円"]
[null,null,"支　  　店　　  名","目",null,null,"（　カ　タ　カ　ナ　記　入　）",null,null,null,null,"　　　　　　　　　　円","(消費税含）"]
[1,null,{"$f":"IF(入力!C840=\"\",\"\",+入力!C840)","v":""},{"$f":"IF(入力!D840=\"\",\"\",+入力!D840)","v":""},{"$f":"IF(入力!E840=\"\",\"\",+入力!E840)","v":""},null,{"$f":"IF(入力!G840=\"\",\"\",+入力!G840)","v":""},null,null,null,null,{"$f":"IF(入力!L840=0,\"\",IF(入力!Q840=1,(入力!L840-入力!M840),入力!L840))","v":""},{"$f":"入力!M840","v":0},{"$f":"IF(AND(M840>0,ISNUMBER(L840)=TRUE),IF(ISNUMBER(入力!O840)=FALSE,\"\",INDEX((三万未満code,三万以上code),入力!O840+1,1,IF((L840+M840)<30000,1,2))),0)","v":0}]
[null,null,{"$f":"IF(入力!C841=\"\",\"\",+入力!C841)","v":""}]
[2,null,{"$f":"IF(入力!C842=\"\",\"\",+入力!C842)","v":""},{"$f":"IF(入力!D842=\"\",\"\",+入力!D842)","v":""},{"$f":"IF(入力!E842=\"\",\"\",+入力!E842)","v":""},null,{"$f":"IF(入力!G842=\"\",\"\",+入力!G842)","v":""},null,null,null,null,{"$f":"IF(入力!L842=0,\"\",IF(入力!Q842=1,(入力!L842-入力!M842),入力!L842))","v":""},{"$f":"入力!M842","v":0},{"$f":"IF(AND(M842>0,ISNUMBER(L842)=TRUE),IF(ISNUMBER(入力!O842)=FALSE,\"\",INDEX((三万未満code,三万以上code),入力!O842+1,1,IF((L842+M842)<30000,1,2))),0)","v":0}]
[null,null,{"$f":"IF(入力!C843=\"\",\"\",+入力!C843)","v":""}]
[3,null,{"$f":"IF(入力!C844=\"\",\"\",+入力!C844)","v":""},{"$f":"IF(入力!D844=\"\",\"\",+入力!D844)","v":""},{"$f":"IF(入力!E844=\"\",\"\",+入力!E844)","v":""},null,{"$f":"IF(入力!G844=\"\",\"\",+入力!G844)","v":""},null,null,null,null,{"$f":"IF(入力!L844=0,\"\",IF(入力!Q844=1,(入力!L844-入力!M844),入力!L844))","v":""},{"$f":"入力!M844","v":0},{"$f":"IF(AND(M844>0,ISNUMBER(L844)=TRUE),IF(ISNUMBER(入力!O844)=FALSE,\"\",INDEX((三万未満code,三万以上code),入力!O844+1,1,IF((L844+M844)<30000,1,2))),0)","v":0}]
[null,null,{"$f":"IF(入力!C845=\"\",\"\",+入力!C845)","v":""}]
[4,null,{"$f":"IF(入力!C846=\"\",\"\",+入力!C846)","v":""},{"$f":"IF(入力!D846=\"\",\"\",+入力!D846)","v":""},{"$f":"IF(入力!E846=\"\",\"\",+入力!E846)","v":""},null,{"$f":"IF(入力!G846=\"\",\"\",+入力!G846)","v":""},null,null,null,null,{"$f":"IF(入力!L846=0,\"\",IF(入力!Q846=1,(入力!L846-入力!M846),入力!L846))","v":""},{"$f":"入力!M846","v":0},{"$f":"IF(AND(M846>0,ISNUMBER(L846)=TRUE),IF(ISNUMBER(入力!O846)=FALSE,\"\",INDEX((三万未満code,三万以上code),入力!O846+1,1,IF((L846+M846)<30000,1,2))),0)","v":0}]
[null,null,{"$f":"IF(入力!C847=\"\",\"\",+入力!C847)","v":""}]
[5,null,{"$f":"IF(入力!C848=\"\",\"\",+入力!C848)","v":""},{"$f":"IF(入力!D848=\"\",\"\",+入力!D848)","v":""},{"$f":"IF(入力!E848=\"\",\"\",+入力!E848)","v":""},null,{"$f":"IF(入力!G848=\"\",\"\",+入力!G848)","v":""},null,null,null,null,{"$f":"IF(入力!L848=0,\"\",IF(入力!Q848=1,(入力!L848-入力!M848),入力!L848))","v":""},{"$f":"入力!M848","v":0},{"$f":"IF(AND(M848>0,ISNUMBER(L848)=TRUE),IF(ISNUMBER(入力!O848)=FALSE,\"\",INDEX((三万未満code,三万以上code),入力!O848+1,1,IF((L848+M848)<30000,1,2))),0)","v":0}]
[null,null,{"$f":"IF(入力!C849=\"\",\"\",+入力!C849)","v":""}]
[6,null,{"$f":"IF(入力!C850=\"\",\"\",+入力!C850)","v":""},{"$f":"IF(入力!D850=\"\",\"\",+入力!D850)","v":""},{"$f":"IF(入力!E850=\"\",\"\",+入力!E850)","v":""},null,{"$f":"IF(入力!G850=\"\",\"\",+入力!G850)","v":""},null,null,null,null,{"$f":"IF(入力!L850=0,\"\",IF(入力!Q850=1,(入力!L850-入力!M850),入力!L850))","v":""},{"$f":"入力!M850","v":0},{"$f":"IF(AND(M850>0,ISNUMBER(L850)=TRUE),IF(ISNUMBER(入力!O850)=FALSE,\"\",INDEX((三万未満code,三万以上code),入力!O850+1,1,IF((L850+M850)<30000,1,2))),0)","v":0}]
[null,null,{"$f":"IF(入力!C851=\"\",\"\",+入力!C851)","v":""}]
[7,null,{"$f":"IF(入力!C852=\"\",\"\",+入力!C852)","v":""},{"$f":"IF(入力!D852=\"\",\"\",+入力!D852)","v":""},{"$f":"IF(入力!E852=\"\",\"\",+入力!E852)","v":""},null,{"$f":"IF(入力!G852=\"\",\"\",+入力!G852)","v":""},null,null,null,null,{"$f":"IF(入力!L852=0,\"\",IF(入力!Q852=1,(入力!L852-入力!M852),入力!L852))","v":""},{"$f":"入力!M852","v":0},{"$f":"IF(AND(M852>0,ISNUMBER(L852)=TRUE),IF(ISNUMBER(入力!O852)=FALSE,\"\",INDEX((三万未満code,三万以上code),入力!O852+1,1,IF((L852+M852)<30000,1,2))),0)","v":0}]
[null,null,{"$f":"IF(入力!C853=\"\",\"\",+入力!C853)","v":""}]
[8,null,{"$f":"IF(入力!C854=\"\",\"\",+入力!C854)","v":""},{"$f":"IF(入力!D854=\"\",\"\",+入力!D854)","v":""},{"$f":"IF(入力!E854=\"\",\"\",+入力!E854)","v":""},null,{"$f":"IF(入力!G854=\"\",\"\",+入力!G854)","v":""},null,null,null,null,{"$f":"IF(入力!L854=0,\"\",IF(入力!Q854=1,(入力!L854-入力!M854),入力!L854))","v":""},{"$f":"入力!M854","v":0},{"$f":"IF(AND(M854>0,ISNUMBER(L854)=TRUE),IF(ISNUMBER(入力!O854)=FALSE,\"\",INDEX((三万未満code,三万以上code),入力!O854+1,1,IF((L854+M854)<30000,1,2))),0)","v":0}]
[null,null,{"$f":"IF(入力!C855=\"\",\"\",+入力!C855)","v":""}]
[9,null,{"$f":"IF(入力!C856=\"\",\"\",+入力!C856)","v":""},{"$f":"IF(入力!D856=\"\",\"\",+入力!D856)","v":""},{"$f":"IF(入力!E856=\"\",\"\",+入力!E856)","v":""},null,{"$f":"IF(入力!G856=\"\",\"\",+入力!G856)","v":""},null,null,null,null,{"$f":"IF(入力!L856=0,\"\",IF(入力!Q856=1,(入力!L856-入力!M856),入力!L856))","v":""},{"$f":"入力!M856","v":0},{"$f":"IF(AND(M856>0,ISNUMBER(L856)=TRUE),IF(ISNUMBER(入力!O856)=FALSE,\"\",INDEX((三万未満code,三万以上code),入力!O856+1,1,IF((L856+M856)<30000,1,2))),0)","v":0}]
[null,null,{"$f":"IF(入力!C857=\"\",\"\",+入力!C857)","v":""}]
[10,null,{"$f":"IF(入力!C858=\"\",\"\",+入力!C858)","v":""},{"$f":"IF(入力!D858=\"\",\"\",+入力!D858)","v":""},{"$f":"IF(入力!E858=\"\",\"\",+入力!E858)","v":""},null,{"$f":"IF(入力!G858=\"\",\"\",+入力!G858)","v":""},null,null,null,null,{"$f":"IF(入力!L858=0,\"\",IF(入力!Q858=1,(入力!L858-入力!M858),入力!L858))","v":""},{"$f":"入力!M858","v":0},{"$f":"IF(AND(M858>0,ISNUMBER(L858)=TRUE),IF(ISNUMBER(入力!O858)=FALSE,\"\",INDEX((三万未満code,三万以上code),入力!O858+1,1,IF((L858+M858)<30000,1,2))),0)","v":0}]
[null,null,{"$f":"IF(入力!C859=\"\",\"\",+入力!C859)","v":""}]
[11,null,{"$f":"IF(入力!C860=\"\",\"\",+入力!C860)","v":""},{"$f":"IF(入力!D860=\"\",\"\",+入力!D860)","v":""},{"$f":"IF(入力!E860=\"\",\"\",+入力!E860)","v":""},null,{"$f":"IF(入力!G860=\"\",\"\",+入力!G860)","v":""},null,null,null,null,{"$f":"IF(入力!L860=0,\"\",IF(入力!Q860=1,(入力!L860-入力!M860),入力!L860))","v":""},{"$f":"入力!M860","v":0},{"$f":"IF(AND(M860>0,ISNUMBER(L860)=TRUE),IF(ISNUMBER(入力!O860)=FALSE,\"\",INDEX((三万未満code,三万以上code),入力!O860+1,1,IF((L860+M860)<30000,1,2))),0)","v":0}]
[null,null,{"$f":"IF(入力!C861=\"\",\"\",+入力!C861)","v":""}]
[12,null,{"$f":"IF(入力!C862=\"\",\"\",+入力!C862)","v":""},{"$f":"IF(入力!D862=\"\",\"\",+入力!D862)","v":""},{"$f":"IF(入力!E862=\"\",\"\",+入力!E862)","v":""},null,{"$f":"IF(入力!G862=\"\",\"\",+入力!G862)","v":""},null,null,null,null,{"$f":"IF(入力!L862=0,\"\",IF(入力!Q862=1,(入力!L862-入力!M862),入力!L862))","v":""},{"$f":"入力!M862","v":0},{"$f":"IF(AND(M862>0,ISNUMBER(L862)=TRUE),IF(ISNUMBER(入力!O862)=FALSE,\"\",INDEX((三万未満code,三万以上code),入力!O862+1,1,IF((L862+M862)<30000,1,2))),0)","v":0}]
[null,null,{"$f":"IF(入力!C863=\"\",\"\",+入力!C863)","v":""}]
[13,null,{"$f":"IF(入力!C864=\"\",\"\",+入力!C864)","v":""},{"$f":"IF(入力!D864=\"\",\"\",+入力!D864)","v":""},{"$f":"IF(入力!E864=\"\",\"\",+入力!E864)","v":""},null,{"$f":"IF(入力!G864=\"\",\"\",+入力!G864)","v":""},null,null,null,null,{"$f":"IF(入力!L864=0,\"\",IF(入力!Q864=1,(入力!L864-入力!M864),入力!L864))","v":""},{"$f":"入力!M864","v":0},{"$f":"IF(AND(M864>0,ISNUMBER(L864)=TRUE),IF(ISNUMBER(入力!O864)=FALSE,\"\",INDEX((三万未満code,三万以上code),入力!O864+1,1,IF((L864+M864)<30000,1,2))),0)","v":0}]
[null,null,{"$f":"IF(入力!C865=\"\",\"\",+入力!C865)","v":""}]
[14,null,{"$f":"IF(入力!C866=\"\",\"\",+入力!C866)","v":""},{"$f":"IF(入力!D866=\"\",\"\",+入力!D866)","v":""},{"$f":"IF(入力!E866=\"\",\"\",+入力!E866)","v":""},null,{"$f":"IF(入力!G866=\"\",\"\",+入力!G866)","v":""},null,null,null,null,{"$f":"IF(入力!L866=0,\"\",IF(入力!Q866=1,(入力!L866-入力!M866),入力!L866))","v":""},{"$f":"入力!M866","v":0},{"$f":"IF(AND(M866>0,ISNUMBER(L866)=TRUE),IF(ISNUMBER(入力!O866)=FALSE,\"\",INDEX((三万未満code,三万以上code),入力!O866+1,1,IF((L866+M866)<30000,1,2))),0)","v":0}]
[null,null,{"$f":"IF(入力!C867=\"\",\"\",+入力!C867)","v":""}]
[15,null,{"$f":"IF(入力!C868=\"\",\"\",+入力!C868)","v":""},{"$f":"IF(入力!D868=\"\",\"\",+入力!D868)","v":""},{"$f":"IF(入力!E868=\"\",\"\",+入力!E868)","v":""},null,{"$f":"IF(入力!G868=\"\",\"\",+入力!G868)","v":""},null,null,null,null,{"$f":"IF(入力!L868=0,\"\",IF(入力!Q868=1,(入力!L868-入力!M868),入力!L868))","v":""},{"$f":"入力!M868","v":0},{"$f":"IF(AND(M868>0,ISNUMBER(L868)=TRUE),IF(ISNUMBER(入力!O868)=FALSE,\"\",INDEX((三万未満code,三万以上code),入力!O868+1,1,IF((L868+M868)<30000,1,2))),0)","v":0}]
[null,null,{"$f":"IF(入力!C869=\"\",\"\",+入力!C869)","v":""}]
["科目",null,"　普　 通 　預　 金　","フ",null,null,null,{"$f":"COUNTIF(L840:L869,\">=1\")","v":0},"件","小計",null,{"$f":"SUM(L840:L869)","v":0},{"$f":"SUM(M840:M869)","v":0}]
[null,null,"　当 　座　 預　 金","ト"]
[null,null,"　貯　 蓄　 預　 金","チ",null,null,null,{"$f":"H826+H870","v":0},"件","合計",null,{"$f":"L870+L826","v":0},{"$f":"M870+M826","v":0}]
[null,null,"　　そ　　の　　他","ソ"]
[null,null,null,null,null,null,null,null,null,null,null,null,{"$f":"$M$46","v":2020.01}]
[null,null,{"$f":"C$1","v":2020.01},null,"　　　　　　振 込 依 頼 書",null,null,null,null,null,null,null,{"$f":"入力!M875","v":"ページ 20"}]
[]
[null,null,null,null,null,null,null,null,null,null,"ご依頼日",{"$f":"IF(入力!$L$3=\"\",\"平成　　年　　月　　日\",入力!$L$3)","v":"2020-09-01"}]
[null,null,{"$f":"+入力!$C878","v":"福島銀行"},null,null,null,null,null,null,"お客様番号",null,{"$f":"IF(入力!$L$4=\"\",\"\",入力!$L$4)","v":""}]
[null,{"$f":"IF(入力!$B$5=0,\"\",入力!$B$5)","v":""},null,null,"御中",null,null,null,null,"依頼人名カナ",null,{"$f":"IF(入力!$L$5=\"\",\"\",入力!$L$5)","v":""}]
[null,null,null,null,null,"振込種類",null,null,null,"会社名",null,{"$f":"IF(入力!$L$6=\"\",\"\",入力!$L$6)","v":""}]
[null,null,"振込指定日",null,null,{"$f":"$F$7","v":"1フリコミ"},null,null,null," 担当者名",null,{"$f":"IF(入力!$L$7=\"\",\"\",入力!$L$7)","v":""}]
[null,{"$f":"入力!$B$8","v":"2020-09-01"},null,null,null,null,null,null,null,"電話番号",null,{"$f":"IF(入力!$L$8=\"\",\"\",入力!$L$8)","v":""}]
[]
[null,null,"金 融 機 関 名","科目","口 座 番 号",null,"受　  　　　取 　　 　　人　　　 　　名",null,null,null,null,"　金　　　　　　　額"," 手数料　円"]
[null,null,"支　  　店　　  名","目",null,null,"（　カ　タ　カ　ナ　記　入　）",null,null,null,null,"　　　　　　　　　　円","(消費税含）"]
[1,null,{"$f":"IF(入力!C886=\"\",\"\",+入力!C886)","v":""},{"$f":"IF(入力!D886=\"\",\"\",+入力!D886)","v":""},{"$f":"IF(入力!E886=\"\",\"\",+入力!E886)","v":""},null,{"$f":"IF(入力!G886=\"\",\"\",+入力!G886)","v":""},null,null,null,null,{"$f":"IF(入力!L886=0,\"\",IF(入力!Q886=1,(入力!L886-入力!M886),入力!L886))","v":""},{"$f":"入力!M886","v":0},{"$f":"IF(AND(M886>0,ISNUMBER(L886)=TRUE),IF(ISNUMBER(入力!O886)=FALSE,\"\",INDEX((三万未満code,三万以上code),入力!O886+1,1,IF((L886+M886)<30000,1,2))),0)","v":0}]
[null,null,{"$f":"IF(入力!C887=\"\",\"\",+入力!C887)","v":""}]
[2,null,{"$f":"IF(入力!C888=\"\",\"\",+入力!C888)","v":""},{"$f":"IF(入力!D888=\"\",\"\",+入力!D888)","v":""},{"$f":"IF(入力!E888=\"\",\"\",+入力!E888)","v":""},null,{"$f":"IF(入力!G888=\"\",\"\",+入力!G888)","v":""},null,null,null,null,{"$f":"IF(入力!L888=0,\"\",IF(入力!Q888=1,(入力!L888-入力!M888),入力!L888))","v":""},{"$f":"入力!M888","v":0},{"$f":"IF(AND(M888>0,ISNUMBER(L888)=TRUE),IF(ISNUMBER(入力!O888)=FALSE,\"\",INDEX((三万未満code,三万以上code),入力!O888+1,1,IF((L888+M888)<30000,1,2))),0)","v":0}]
[null,null,{"$f":"IF(入力!C889=\"\",\"\",+入力!C889)","v":""}]
[3,null,{"$f":"IF(入力!C890=\"\",\"\",+入力!C890)","v":""},{"$f":"IF(入力!D890=\"\",\"\",+入力!D890)","v":""},{"$f":"IF(入力!E890=\"\",\"\",+入力!E890)","v":""},null,{"$f":"IF(入力!G890=\"\",\"\",+入力!G890)","v":""},null,null,null,null,{"$f":"IF(入力!L890=0,\"\",IF(入力!Q890=1,(入力!L890-入力!M890),入力!L890))","v":""},{"$f":"入力!M890","v":0},{"$f":"IF(AND(M890>0,ISNUMBER(L890)=TRUE),IF(ISNUMBER(入力!O890)=FALSE,\"\",INDEX((三万未満code,三万以上code),入力!O890+1,1,IF((L890+M890)<30000,1,2))),0)","v":0}]
[null,null,{"$f":"IF(入力!C891=\"\",\"\",+入力!C891)","v":""}]
[4,null,{"$f":"IF(入力!C892=\"\",\"\",+入力!C892)","v":""},{"$f":"IF(入力!D892=\"\",\"\",+入力!D892)","v":""},{"$f":"IF(入力!E892=\"\",\"\",+入力!E892)","v":""},null,{"$f":"IF(入力!G892=\"\",\"\",+入力!G892)","v":""},null,null,null,null,{"$f":"IF(入力!L892=0,\"\",IF(入力!Q892=1,(入力!L892-入力!M892),入力!L892))","v":""},{"$f":"入力!M892","v":0},{"$f":"IF(AND(M892>0,ISNUMBER(L892)=TRUE),IF(ISNUMBER(入力!O892)=FALSE,\"\",INDEX((三万未満code,三万以上code),入力!O892+1,1,IF((L892+M892)<30000,1,2))),0)","v":0}]
[null,null,{"$f":"IF(入力!C893=\"\",\"\",+入力!C893)","v":""}]
[5,null,{"$f":"IF(入力!C894=\"\",\"\",+入力!C894)","v":""},{"$f":"IF(入力!D894=\"\",\"\",+入力!D894)","v":""},{"$f":"IF(入力!E894=\"\",\"\",+入力!E894)","v":""},null,{"$f":"IF(入力!G894=\"\",\"\",+入力!G894)","v":""},null,null,null,null,{"$f":"IF(入力!L894=0,\"\",IF(入力!Q894=1,(入力!L894-入力!M894),入力!L894))","v":""},{"$f":"入力!M894","v":0},{"$f":"IF(AND(M894>0,ISNUMBER(L894)=TRUE),IF(ISNUMBER(入力!O894)=FALSE,\"\",INDEX((三万未満code,三万以上code),入力!O894+1,1,IF((L894+M894)<30000,1,2))),0)","v":0}]
[null,null,{"$f":"IF(入力!C895=\"\",\"\",+入力!C895)","v":""}]
[6,null,{"$f":"IF(入力!C896=\"\",\"\",+入力!C896)","v":""},{"$f":"IF(入力!D896=\"\",\"\",+入力!D896)","v":""},{"$f":"IF(入力!E896=\"\",\"\",+入力!E896)","v":""},null,{"$f":"IF(入力!G896=\"\",\"\",+入力!G896)","v":""},null,null,null,null,{"$f":"IF(入力!L896=0,\"\",IF(入力!Q896=1,(入力!L896-入力!M896),入力!L896))","v":""},{"$f":"入力!M896","v":0},{"$f":"IF(AND(M896>0,ISNUMBER(L896)=TRUE),IF(ISNUMBER(入力!O896)=FALSE,\"\",INDEX((三万未満code,三万以上code),入力!O896+1,1,IF((L896+M896)<30000,1,2))),0)","v":0}]
[null,null,{"$f":"IF(入力!C897=\"\",\"\",+入力!C897)","v":""}]
[7,null,{"$f":"IF(入力!C898=\"\",\"\",+入力!C898)","v":""},{"$f":"IF(入力!D898=\"\",\"\",+入力!D898)","v":""},{"$f":"IF(入力!E898=\"\",\"\",+入力!E898)","v":""},null,{"$f":"IF(入力!G898=\"\",\"\",+入力!G898)","v":""},null,null,null,null,{"$f":"IF(入力!L898=0,\"\",IF(入力!Q898=1,(入力!L898-入力!M898),入力!L898))","v":""},{"$f":"入力!M898","v":0},{"$f":"IF(AND(M898>0,ISNUMBER(L898)=TRUE),IF(ISNUMBER(入力!O898)=FALSE,\"\",INDEX((三万未満code,三万以上code),入力!O898+1,1,IF((L898+M898)<30000,1,2))),0)","v":0}]
[null,null,{"$f":"IF(入力!C899=\"\",\"\",+入力!C899)","v":""}]
[8,null,{"$f":"IF(入力!C900=\"\",\"\",+入力!C900)","v":""},{"$f":"IF(入力!D900=\"\",\"\",+入力!D900)","v":""},{"$f":"IF(入力!E900=\"\",\"\",+入力!E900)","v":""},null,{"$f":"IF(入力!G900=\"\",\"\",+入力!G900)","v":""},null,null,null,null,{"$f":"IF(入力!L900=0,\"\",IF(入力!Q900=1,(入力!L900-入力!M900),入力!L900))","v":""},{"$f":"入力!M900","v":0},{"$f":"IF(AND(M900>0,ISNUMBER(L900)=TRUE),IF(ISNUMBER(入力!O900)=FALSE,\"\",INDEX((三万未満code,三万以上code),入力!O900+1,1,IF((L900+M900)<30000,1,2))),0)","v":0}]
[null,null,{"$f":"IF(入力!C901=\"\",\"\",+入力!C901)","v":""}]
[9,null,{"$f":"IF(入力!C902=\"\",\"\",+入力!C902)","v":""},{"$f":"IF(入力!D902=\"\",\"\",+入力!D902)","v":""},{"$f":"IF(入力!E902=\"\",\"\",+入力!E902)","v":""},null,{"$f":"IF(入力!G902=\"\",\"\",+入力!G902)","v":""},null,null,null,null,{"$f":"IF(入力!L902=0,\"\",IF(入力!Q902=1,(入力!L902-入力!M902),入力!L902))","v":""},{"$f":"入力!M902","v":0},{"$f":"IF(AND(M902>0,ISNUMBER(L902)=TRUE),IF(ISNUMBER(入力!O902)=FALSE,\"\",INDEX((三万未満code,三万以上code),入力!O902+1,1,IF((L902+M902)<30000,1,2))),0)","v":0}]
[null,null,{"$f":"IF(入力!C903=\"\",\"\",+入力!C903)","v":""}]
[10,null,{"$f":"IF(入力!C904=\"\",\"\",+入力!C904)","v":""},{"$f":"IF(入力!D904=\"\",\"\",+入力!D904)","v":""},{"$f":"IF(入力!E904=\"\",\"\",+入力!E904)","v":""},null,{"$f":"IF(入力!G904=\"\",\"\",+入力!G904)","v":""},null,null,null,null,{"$f":"IF(入力!L904=0,\"\",IF(入力!Q904=1,(入力!L904-入力!M904),入力!L904))","v":""},{"$f":"入力!M904","v":0},{"$f":"IF(AND(M904>0,ISNUMBER(L904)=TRUE),IF(ISNUMBER(入力!O904)=FALSE,\"\",INDEX((三万未満code,三万以上code),入力!O904+1,1,IF((L904+M904)<30000,1,2))),0)","v":0}]
[null,null,{"$f":"IF(入力!C905=\"\",\"\",+入力!C905)","v":""}]
[11,null,{"$f":"IF(入力!C906=\"\",\"\",+入力!C906)","v":""},{"$f":"IF(入力!D906=\"\",\"\",+入力!D906)","v":""},{"$f":"IF(入力!E906=\"\",\"\",+入力!E906)","v":""},null,{"$f":"IF(入力!G906=\"\",\"\",+入力!G906)","v":""},null,null,null,null,{"$f":"IF(入力!L906=0,\"\",IF(入力!Q906=1,(入力!L906-入力!M906),入力!L906))","v":""},{"$f":"入力!M906","v":0},{"$f":"IF(AND(M906>0,ISNUMBER(L906)=TRUE),IF(ISNUMBER(入力!O906)=FALSE,\"\",INDEX((三万未満code,三万以上code),入力!O906+1,1,IF((L906+M906)<30000,1,2))),0)","v":0}]
[null,null,{"$f":"IF(入力!C907=\"\",\"\",+入力!C907)","v":""}]
[12,null,{"$f":"IF(入力!C908=\"\",\"\",+入力!C908)","v":""},{"$f":"IF(入力!D908=\"\",\"\",+入力!D908)","v":""},{"$f":"IF(入力!E908=\"\",\"\",+入力!E908)","v":""},null,{"$f":"IF(入力!G908=\"\",\"\",+入力!G908)","v":""},null,null,null,null,{"$f":"IF(入力!L908=0,\"\",IF(入力!Q908=1,(入力!L908-入力!M908),入力!L908))","v":""},{"$f":"入力!M908","v":0},{"$f":"IF(AND(M908>0,ISNUMBER(L908)=TRUE),IF(ISNUMBER(入力!O908)=FALSE,\"\",INDEX((三万未満code,三万以上code),入力!O908+1,1,IF((L908+M908)<30000,1,2))),0)","v":0}]
[null,null,{"$f":"IF(入力!C909=\"\",\"\",+入力!C909)","v":""}]
[13,null,{"$f":"IF(入力!C910=\"\",\"\",+入力!C910)","v":""},{"$f":"IF(入力!D910=\"\",\"\",+入力!D910)","v":""},{"$f":"IF(入力!E910=\"\",\"\",+入力!E910)","v":""},null,{"$f":"IF(入力!G910=\"\",\"\",+入力!G910)","v":""},null,null,null,null,{"$f":"IF(入力!L910=0,\"\",IF(入力!Q910=1,(入力!L910-入力!M910),入力!L910))","v":""},{"$f":"入力!M910","v":0},{"$f":"IF(AND(M910>0,ISNUMBER(L910)=TRUE),IF(ISNUMBER(入力!O910)=FALSE,\"\",INDEX((三万未満code,三万以上code),入力!O910+1,1,IF((L910+M910)<30000,1,2))),0)","v":0}]
[null,null,{"$f":"IF(入力!C911=\"\",\"\",+入力!C911)","v":""}]
[14,null,{"$f":"IF(入力!C912=\"\",\"\",+入力!C912)","v":""},{"$f":"IF(入力!D912=\"\",\"\",+入力!D912)","v":""},{"$f":"IF(入力!E912=\"\",\"\",+入力!E912)","v":""},null,{"$f":"IF(入力!G912=\"\",\"\",+入力!G912)","v":""},null,null,null,null,{"$f":"IF(入力!L912=0,\"\",IF(入力!Q912=1,(入力!L912-入力!M912),入力!L912))","v":""},{"$f":"入力!M912","v":0},{"$f":"IF(AND(M912>0,ISNUMBER(L912)=TRUE),IF(ISNUMBER(入力!O912)=FALSE,\"\",INDEX((三万未満code,三万以上code),入力!O912+1,1,IF((L912+M912)<30000,1,2))),0)","v":0}]
[null,null,{"$f":"IF(入力!C913=\"\",\"\",+入力!C913)","v":""}]
[15,null,{"$f":"IF(入力!C914=\"\",\"\",+入力!C914)","v":""},{"$f":"IF(入力!D914=\"\",\"\",+入力!D914)","v":""},{"$f":"IF(入力!E914=\"\",\"\",+入力!E914)","v":""},null,{"$f":"IF(入力!G914=\"\",\"\",+入力!G914)","v":""},null,null,null,null,{"$f":"IF(入力!L914=0,\"\",IF(入力!Q914=1,(入力!L914-入力!M914),入力!L914))","v":""},{"$f":"入力!M914","v":0},{"$f":"IF(AND(M914>0,ISNUMBER(L914)=TRUE),IF(ISNUMBER(入力!O914)=FALSE,\"\",INDEX((三万未満code,三万以上code),入力!O914+1,1,IF((L914+M914)<30000,1,2))),0)","v":0}]
[null,null,{"$f":"IF(入力!C915=\"\",\"\",+入力!C915)","v":""}]
["科目",null,"　普　 通 　預　 金　","フ",null,null,null,{"$f":"COUNTIF(L886:L915,\">=1\")","v":0},"件","小計",null,{"$f":"SUM(L886:L915)","v":0},{"$f":"SUM(M886:M915)","v":0}]
[null,null,"　当 　座　 預　 金","ト"]
[null,null,"　貯　 蓄　 預　 金","チ",null,null,null,{"$f":"H872+H916","v":0},"件","合計",null,{"$f":"L916+L872","v":0},{"$f":"M916+M872","v":0}]
[null,null,"　　そ　　の　　他","ソ"]
[null,null,null,null,null,null,null,null,null,null,null,null,{"$f":"$M$46","v":2020.01}]